BEGIN:VCALENDAR
PRODID:-//gdesolutions.com//MV Framework 1.0.0.1607 Calendar//EN
VERSION:2.0
METHOD:PUBLISH
CALSCALE:GREGORIAN
BEGIN:VEVENT
UID:g5bb7@games.golnetwork.com
LOCATION:Cherry Beach West 1
CREATED:20140602T171907Z
DTSTART:20140810T223000Z
DTEND:20140810T233000Z
DTSTAMP:20260421T010637Z
SUMMARY:Scoregasm vs. XTSC Blue Rays
DESCRIPTION:XTSC Blue Rays vs. ScoregasmPlus d'info : #532
X-ALT-DESC;FMTTYPE=text/html:<!DOCTYPE HTML PUBLIC "-//W3C//DTD HTML 3.2//E
	N">\n<HTML>\n<HEAD>\n<TITLE></TITLE>\n</HEAD>\n<BODY>\n<h3>XTSC Blue Rays v
	s. Scoregasm</h3>Plus d'info : <a href="https://www.golnetwork.com/game/v/5
	2370/">#532</a>\n\n</BODY>\n</HTML>
STATUS:CONFIRMED
CLASS:PUBLIC
URL:https://www.golnetwork.com/game/v/52370/
X-MICROSOFT-CDO-BUSYSTATUS:BUSY
X-MICROSOFT-CDO-IMPORTANCE:1
END:VEVENT
BEGIN:VEVENT
UID:g5bam@games.golnetwork.com
LOCATION:Cherry Beach West 1
CREATED:20140602T171813Z
DTSTART:20140727T223000Z
DTEND:20140727T232500Z
DTSTAMP:20260421T010637Z
SUMMARY:BVB Honeybees vs. XTSC Blue Rays
DESCRIPTION:XTSC Blue Rays vs. BVB HoneybeesPlus d'info : #527
X-ALT-DESC;FMTTYPE=text/html:<!DOCTYPE HTML PUBLIC "-//W3C//DTD HTML 3.2//E
	N">\n<HTML>\n<HEAD>\n<TITLE></TITLE>\n</HEAD>\n<BODY>\n<h3>XTSC Blue Rays v
	s. BVB Honeybees</h3>Plus d'info : <a href="https://www.golnetwork.com/game
	/v/52364/">#527</a>\n\n</BODY>\n</HTML>
STATUS:CONFIRMED
CLASS:PUBLIC
URL:https://www.golnetwork.com/game/v/52364/
X-MICROSOFT-CDO-BUSYSTATUS:BUSY
X-MICROSOFT-CDO-IMPORTANCE:1
END:VEVENT
BEGIN:VEVENT
UID:g5bak@games.golnetwork.com
LOCATION:Cherry Beach West 3
CREATED:20140602T171813Z
DTSTART:20140720T232500Z
DTEND:20140721T002000Z
DTSTAMP:20260421T010637Z
SUMMARY:XTSC First Timers vs. XTSC Blue Rays
DESCRIPTION:XTSC Blue Rays vs. XTSC First TimersPlus d'info : #526
X-ALT-DESC;FMTTYPE=text/html:<!DOCTYPE HTML PUBLIC "-//W3C//DTD HTML 3.2//E
	N">\n<HTML>\n<HEAD>\n<TITLE></TITLE>\n</HEAD>\n<BODY>\n<h3>XTSC Blue Rays v
	s. XTSC First Timers</h3>Plus d'info : <a href="https://www.golnetwork.com/
	game/v/52363/">#526</a>\n\n</BODY>\n</HTML>
STATUS:CONFIRMED
CLASS:PUBLIC
URL:https://www.golnetwork.com/game/v/52363/
X-MICROSOFT-CDO-BUSYSTATUS:BUSY
X-MICROSOFT-CDO-IMPORTANCE:1
END:VEVENT
BEGIN:VEVENT
UID:g5ba2@games.golnetwork.com
LOCATION:Cherry Beach West 3
CREATED:20140602T171813Z
DTSTART:20140713T223000Z
DTEND:20140713T232500Z
DTSTAMP:20260421T010637Z
SUMMARY:Boro FC vs. XTSC Blue Rays
DESCRIPTION:XTSC Blue Rays vs. Boro FCPlus d'info : #517
X-ALT-DESC;FMTTYPE=text/html:<!DOCTYPE HTML PUBLIC "-//W3C//DTD HTML 3.2//E
	N">\n<HTML>\n<HEAD>\n<TITLE></TITLE>\n</HEAD>\n<BODY>\n<h3>XTSC Blue Rays v
	s. Boro FC</h3>Plus d'info : <a href="https://www.golnetwork.com/game/v/523
	54/">#517</a>\n\n</BODY>\n</HTML>
STATUS:CONFIRMED
CLASS:PUBLIC
URL:https://www.golnetwork.com/game/v/52354/
X-MICROSOFT-CDO-BUSYSTATUS:BUSY
X-MICROSOFT-CDO-IMPORTANCE:1
END:VEVENT
BEGIN:VEVENT
UID:g5b9j@games.golnetwork.com
LOCATION:Cherry Beach West 1
CREATED:20140602T171813Z
DTSTART:20140706T232500Z
DTEND:20140707T002000Z
DTSTAMP:20260421T010637Z
SUMMARY:XTSC Blue Rays vs. BVB Honeybees
DESCRIPTION:BVB Honeybees vs. XTSC Blue RaysPlus d'info : #488
X-ALT-DESC;FMTTYPE=text/html:<!DOCTYPE HTML PUBLIC "-//W3C//DTD HTML 3.2//E
	N">\n<HTML>\n<HEAD>\n<TITLE></TITLE>\n</HEAD>\n<BODY>\n<h3>BVB Honeybees vs
	. XTSC Blue Rays</h3>Plus d'info : <a href="https://www.golnetwork.com/game
	/v/52349/">#488</a>\n\n</BODY>\n</HTML>
STATUS:CONFIRMED
CLASS:PUBLIC
URL:https://www.golnetwork.com/game/v/52349/
X-MICROSOFT-CDO-BUSYSTATUS:BUSY
X-MICROSOFT-CDO-IMPORTANCE:1
END:VEVENT
BEGIN:VEVENT
UID:g5b91@games.golnetwork.com
LOCATION:Cherry Beach West 1
CREATED:20140602T171813Z
DTSTART:20140622T223000Z
DTEND:20140622T232500Z
DTSTAMP:20260421T010637Z
SUMMARY:FO' SHIZZLE FC vs. XTSC Blue Rays
DESCRIPTION:XTSC Blue Rays vs. FO' SHIZZLE FCPlus d'info : #420
X-ALT-DESC;FMTTYPE=text/html:<!DOCTYPE HTML PUBLIC "-//W3C//DTD HTML 3.2//E
	N">\n<HTML>\n<HEAD>\n<TITLE></TITLE>\n</HEAD>\n<BODY>\n<h3>XTSC Blue Rays v
	s. FO' SHIZZLE FC</h3>Plus d'info : <a href="https://www.golnetwork.com/gam
	e/v/52340/">#420</a>\n\n</BODY>\n</HTML>
STATUS:CONFIRMED
CLASS:PUBLIC
URL:https://www.golnetwork.com/game/v/52340/
X-MICROSOFT-CDO-BUSYSTATUS:BUSY
X-MICROSOFT-CDO-IMPORTANCE:1
END:VEVENT
BEGIN:VEVENT
UID:g5b8q@games.golnetwork.com
LOCATION:Cherry Beach West 3
CREATED:20140602T171813Z
DTSTART:20140615T232500Z
DTEND:20140616T002000Z
DTSTAMP:20260421T010637Z
SUMMARY:FC Dnipro vs. XTSC Blue Rays
DESCRIPTION:XTSC Blue Rays vs. FC DniproPlus d'info : #377
X-ALT-DESC;FMTTYPE=text/html:<!DOCTYPE HTML PUBLIC "-//W3C//DTD HTML 3.2//E
	N">\n<HTML>\n<HEAD>\n<TITLE></TITLE>\n</HEAD>\n<BODY>\n<h3>XTSC Blue Rays v
	s. FC Dnipro</h3>Plus d'info : <a href="https://www.golnetwork.com/game/v/5
	2339/">#377</a>\n\n</BODY>\n</HTML>
STATUS:CONFIRMED
CLASS:PUBLIC
URL:https://www.golnetwork.com/game/v/52339/
X-MICROSOFT-CDO-BUSYSTATUS:BUSY
X-MICROSOFT-CDO-IMPORTANCE:1
END:VEVENT
BEGIN:VEVENT
UID:g5b8c@games.golnetwork.com
LOCATION:Cherry Beach West 2
CREATED:20140602T171813Z
DTSTART:20140608T232500Z
DTEND:20140609T002000Z
DTSTAMP:20260421T010637Z
SUMMARY:Les Bleus vs. XTSC Blue Rays
DESCRIPTION:XTSC Blue Rays vs. Les BleusPlus d'info : #324
X-ALT-DESC;FMTTYPE=text/html:<!DOCTYPE HTML PUBLIC "-//W3C//DTD HTML 3.2//E
	N">\n<HTML>\n<HEAD>\n<TITLE></TITLE>\n</HEAD>\n<BODY>\n<h3>XTSC Blue Rays v
	s. Les Bleus</h3>Plus d'info : <a href="https://www.golnetwork.com/game/v/5
	2332/">#324</a>\n\n</BODY>\n</HTML>
STATUS:CONFIRMED
CLASS:PUBLIC
URL:https://www.golnetwork.com/game/v/52332/
X-MICROSOFT-CDO-BUSYSTATUS:BUSY
X-MICROSOFT-CDO-IMPORTANCE:1
END:VEVENT
BEGIN:VEVENT
UID:g58da@games.golnetwork.com
LOCATION:Cherry Beach West 3
CREATED:20140509T141940Z
DTSTART:20140601T220000Z
DTEND:20140601T230000Z
DTSTAMP:20260421T010637Z
SUMMARY:More Salah'd vs. XTSC Blue Rays
DESCRIPTION:XTSC Blue Rays vs. More Salah'dPlus d'info : #266
X-ALT-DESC;FMTTYPE=text/html:<!DOCTYPE HTML PUBLIC "-//W3C//DTD HTML 3.2//E
	N">\n<HTML>\n<HEAD>\n<TITLE></TITLE>\n</HEAD>\n<BODY>\n<h3>XTSC Blue Rays v
	s. More Salah'd</h3>Plus d'info : <a href="https://www.golnetwork.com/game/
	v/51305/">#266</a>\n\n</BODY>\n</HTML>
STATUS:CONFIRMED
CLASS:PUBLIC
URL:https://www.golnetwork.com/game/v/51305/
X-MICROSOFT-CDO-BUSYSTATUS:BUSY
X-MICROSOFT-CDO-IMPORTANCE:1
END:VEVENT
BEGIN:VEVENT
UID:g5b39@games.golnetwork.com
LOCATION:Cherry Beach West 3
CREATED:20140526T153740Z
DTSTART:20140601T210000Z
DTEND:20140601T220000Z
DTSTAMP:20260421T010637Z
SUMMARY: Bain FC vs. XTSC Blue Rays
DESCRIPTION:XTSC Blue Rays vs.  Bain FCPlus d'info : #262
X-ALT-DESC;FMTTYPE=text/html:<!DOCTYPE HTML PUBLIC "-//W3C//DTD HTML 3.2//E
	N">\n<HTML>\n<HEAD>\n<TITLE></TITLE>\n</HEAD>\n<BODY>\n<h3>XTSC Blue Rays v
	s.  Bain FC</h3>Plus d'info : <a href="https://www.golnetwork.com/game/v/52
	263/">#262</a>\n\n</BODY>\n</HTML>
STATUS:CONFIRMED
CLASS:PUBLIC
URL:https://www.golnetwork.com/game/v/52263/
X-MICROSOFT-CDO-BUSYSTATUS:BUSY
X-MICROSOFT-CDO-IMPORTANCE:1
END:VEVENT
BEGIN:VEVENT
UID:g58cl@games.golnetwork.com
LOCATION:Cherry Beach West 2
CREATED:20140509T141940Z
DTSTART:20140525T210000Z
DTEND:20140525T220000Z
DTSTAMP:20260421T010637Z
SUMMARY:Scoregasm vs. XTSC Blue Rays
DESCRIPTION:XTSC Blue Rays vs. ScoregasmPlus d'info : #209
X-ALT-DESC;FMTTYPE=text/html:<!DOCTYPE HTML PUBLIC "-//W3C//DTD HTML 3.2//E
	N">\n<HTML>\n<HEAD>\n<TITLE></TITLE>\n</HEAD>\n<BODY>\n<h3>XTSC Blue Rays v
	s. Scoregasm</h3>Plus d'info : <a href="https://www.golnetwork.com/game/v/5
	1297/">#209</a>\n\n</BODY>\n</HTML>
STATUS:CONFIRMED
CLASS:PUBLIC
URL:https://www.golnetwork.com/game/v/51297/
X-MICROSOFT-CDO-BUSYSTATUS:BUSY
X-MICROSOFT-CDO-IMPORTANCE:1
END:VEVENT
BEGIN:VEVENT
UID:g58gl@games.golnetwork.com
LOCATION:Cherry Beach West 2
CREATED:20140509T143418Z
DTSTART:20140511T230000Z
DTEND:20140512T000000Z
DTSTAMP:20260421T010637Z
SUMMARY:XTSC Blue Rays vs. Shot In The Dark
DESCRIPTION:Shot In The Dark vs. XTSC Blue RaysPlus d'info : #119
X-ALT-DESC;FMTTYPE=text/html:<!DOCTYPE HTML PUBLIC "-//W3C//DTD HTML 3.2//E
	N">\n<HTML>\n<HEAD>\n<TITLE></TITLE>\n</HEAD>\n<BODY>\n<h3>Shot In The Dark
	 vs. XTSC Blue Rays</h3>Plus d'info : <a href="https://www.golnetwork.com/g
	ame/v/51351/">#119</a>\n\n</BODY>\n</HTML>
STATUS:CONFIRMED
CLASS:PUBLIC
URL:https://www.golnetwork.com/game/v/51351/
X-MICROSOFT-CDO-BUSYSTATUS:BUSY
X-MICROSOFT-CDO-IMPORTANCE:1
END:VEVENT
END:VCALENDAR
