BEGIN:VCALENDAR
PRODID:-//gdesolutions.com//MV Framework 1.0.0.1607 Calendar//EN
VERSION:2.0
METHOD:PUBLISH
CALSCALE:GREGORIAN
BEGIN:VEVENT
UID:g5bbh@games.golnetwork.com
LOCATION:Cherry Beach West 3
CREATED:20140602T171958Z
DTSTART:20140810T223000Z
DTEND:20140810T232500Z
DTSTAMP:20260422T094330Z
SUMMARY:FO' SHIZZLE FC vs. XTSC First Timers
DESCRIPTION:XTSC First Timers vs. FO' SHIZZLE FCPlus d'info : #534
X-ALT-DESC;FMTTYPE=text/html:<!DOCTYPE HTML PUBLIC "-//W3C//DTD HTML 3.2//E
	N">\n<HTML>\n<HEAD>\n<TITLE></TITLE>\n</HEAD>\n<BODY>\n<h3>XTSC First Timer
	s vs. FO' SHIZZLE FC</h3>Plus d'info : <a href="https://www.golnetwork.com/
	game/v/52375/">#534</a>\n\n</BODY>\n</HTML>
STATUS:CONFIRMED
CLASS:PUBLIC
URL:https://www.golnetwork.com/game/v/52375/
X-MICROSOFT-CDO-BUSYSTATUS:BUSY
X-MICROSOFT-CDO-IMPORTANCE:1
END:VEVENT
BEGIN:VEVENT
UID:g5bao@games.golnetwork.com
LOCATION:Cherry Beach West 2
CREATED:20140602T171813Z
DTSTART:20140727T223000Z
DTEND:20140727T232500Z
DTSTAMP:20260422T094330Z
SUMMARY:Scoregasm vs. XTSC First Timers
DESCRIPTION:XTSC First Timers vs. ScoregasmPlus d'info : #528
X-ALT-DESC;FMTTYPE=text/html:<!DOCTYPE HTML PUBLIC "-//W3C//DTD HTML 3.2//E
	N">\n<HTML>\n<HEAD>\n<TITLE></TITLE>\n</HEAD>\n<BODY>\n<h3>XTSC First Timer
	s vs. Scoregasm</h3>Plus d'info : <a href="https://www.golnetwork.com/game/
	v/52365/">#528</a>\n\n</BODY>\n</HTML>
STATUS:CONFIRMED
CLASS:PUBLIC
URL:https://www.golnetwork.com/game/v/52365/
X-MICROSOFT-CDO-BUSYSTATUS:BUSY
X-MICROSOFT-CDO-IMPORTANCE:1
END:VEVENT
BEGIN:VEVENT
UID:g5bak@games.golnetwork.com
LOCATION:Cherry Beach West 3
CREATED:20140602T171813Z
DTSTART:20140720T232500Z
DTEND:20140721T002000Z
DTSTAMP:20260422T094330Z
SUMMARY:XTSC First Timers vs. XTSC Blue Rays
DESCRIPTION:XTSC Blue Rays vs. XTSC First TimersPlus d'info : #526
X-ALT-DESC;FMTTYPE=text/html:<!DOCTYPE HTML PUBLIC "-//W3C//DTD HTML 3.2//E
	N">\n<HTML>\n<HEAD>\n<TITLE></TITLE>\n</HEAD>\n<BODY>\n<h3>XTSC Blue Rays v
	s. XTSC First Timers</h3>Plus d'info : <a href="https://www.golnetwork.com/
	game/v/52363/">#526</a>\n\n</BODY>\n</HTML>
STATUS:CONFIRMED
CLASS:PUBLIC
URL:https://www.golnetwork.com/game/v/52363/
X-MICROSOFT-CDO-BUSYSTATUS:BUSY
X-MICROSOFT-CDO-IMPORTANCE:1
END:VEVENT
BEGIN:VEVENT
UID:g5ba6@games.golnetwork.com
LOCATION:Cherry Beach West 2
CREATED:20140602T171813Z
DTSTART:20140713T232500Z
DTEND:20140714T002000Z
DTSTAMP:20260422T094330Z
SUMMARY:XTSC First Timers vs. More Salah'd
DESCRIPTION:More Salah'd vs. XTSC First TimersPlus d'info : #519
X-ALT-DESC;FMTTYPE=text/html:<!DOCTYPE HTML PUBLIC "-//W3C//DTD HTML 3.2//E
	N">\n<HTML>\n<HEAD>\n<TITLE></TITLE>\n</HEAD>\n<BODY>\n<h3>More Salah'd vs.
	 XTSC First Timers</h3>Plus d'info : <a href="https://www.golnetwork.com/ga
	me/v/52356/">#519</a>\n\n</BODY>\n</HTML>
STATUS:CONFIRMED
CLASS:PUBLIC
URL:https://www.golnetwork.com/game/v/52356/
X-MICROSOFT-CDO-BUSYSTATUS:BUSY
X-MICROSOFT-CDO-IMPORTANCE:1
END:VEVENT
BEGIN:VEVENT
UID:g5ba0@games.golnetwork.com
LOCATION:Cherry Beach West 2
CREATED:20140602T171813Z
DTSTART:20140713T223000Z
DTEND:20140713T232500Z
DTSTAMP:20260422T094330Z
SUMMARY:XTSC First Timers vs. Les Bleus
DESCRIPTION:Les Bleus vs. XTSC First TimersPlus d'info : #516
X-ALT-DESC;FMTTYPE=text/html:<!DOCTYPE HTML PUBLIC "-//W3C//DTD HTML 3.2//E
	N">\n<HTML>\n<HEAD>\n<TITLE></TITLE>\n</HEAD>\n<BODY>\n<h3>Les Bleus vs. XT
	SC First Timers</h3>Plus d'info : <a href="https://www.golnetwork.com/game/
	v/52353/">#516</a>\n\n</BODY>\n</HTML>
STATUS:CONFIRMED
CLASS:PUBLIC
URL:https://www.golnetwork.com/game/v/52353/
X-MICROSOFT-CDO-BUSYSTATUS:BUSY
X-MICROSOFT-CDO-IMPORTANCE:1
END:VEVENT
BEGIN:VEVENT
UID:g5b9d@games.golnetwork.com
LOCATION:Cherry Beach West 1
CREATED:20140602T171813Z
DTSTART:20140706T223000Z
DTEND:20140706T232500Z
DTSTAMP:20260422T094330Z
SUMMARY:XTSC First Timers vs. Shot In The Dark
DESCRIPTION:Shot In The Dark vs. XTSC First TimersPlus d'info : #483
X-ALT-DESC;FMTTYPE=text/html:<!DOCTYPE HTML PUBLIC "-//W3C//DTD HTML 3.2//E
	N">\n<HTML>\n<HEAD>\n<TITLE></TITLE>\n</HEAD>\n<BODY>\n<h3>Shot In The Dark
	 vs. XTSC First Timers</h3>Plus d'info : <a href="https://www.golnetwork.co
	m/game/v/52346/">#483</a>\n\n</BODY>\n</HTML>
STATUS:CONFIRMED
CLASS:PUBLIC
URL:https://www.golnetwork.com/game/v/52346/
X-MICROSOFT-CDO-BUSYSTATUS:BUSY
X-MICROSOFT-CDO-IMPORTANCE:1
END:VEVENT
BEGIN:VEVENT
UID:g5b93@games.golnetwork.com
LOCATION:Cherry Beach West 2
CREATED:20140602T171813Z
DTSTART:20140622T223000Z
DTEND:20140622T232500Z
DTSTAMP:20260422T094330Z
SUMMARY:XTSC First Timers vs. BVB Honeybees
DESCRIPTION:BVB Honeybees vs. XTSC First TimersPlus d'info : #421
X-ALT-DESC;FMTTYPE=text/html:<!DOCTYPE HTML PUBLIC "-//W3C//DTD HTML 3.2//E
	N">\n<HTML>\n<HEAD>\n<TITLE></TITLE>\n</HEAD>\n<BODY>\n<h3>BVB Honeybees vs
	. XTSC First Timers</h3>Plus d'info : <a href="https://www.golnetwork.com/g
	ame/v/52341/">#421</a>\n\n</BODY>\n</HTML>
STATUS:CONFIRMED
CLASS:PUBLIC
URL:https://www.golnetwork.com/game/v/52341/
X-MICROSOFT-CDO-BUSYSTATUS:BUSY
X-MICROSOFT-CDO-IMPORTANCE:1
END:VEVENT
BEGIN:VEVENT
UID:g5b8g@games.golnetwork.com
LOCATION:Cherry Beach West 1
CREATED:20140602T171813Z
DTSTART:20140615T223000Z
DTEND:20140615T232500Z
DTSTAMP:20260422T094330Z
SUMMARY:Shot In The Dark vs. XTSC First Timers
DESCRIPTION:XTSC First Timers vs. Shot In The DarkPlus d'info : #368
X-ALT-DESC;FMTTYPE=text/html:<!DOCTYPE HTML PUBLIC "-//W3C//DTD HTML 3.2//E
	N">\n<HTML>\n<HEAD>\n<TITLE></TITLE>\n</HEAD>\n<BODY>\n<h3>XTSC First Timer
	s vs. Shot In The Dark</h3>Plus d'info : <a href="https://www.golnetwork.co
	m/game/v/52334/">#368</a>\n\n</BODY>\n</HTML>
STATUS:CONFIRMED
CLASS:PUBLIC
URL:https://www.golnetwork.com/game/v/52334/
X-MICROSOFT-CDO-BUSYSTATUS:BUSY
X-MICROSOFT-CDO-IMPORTANCE:1
END:VEVENT
BEGIN:VEVENT
UID:g5b8e@games.golnetwork.com
LOCATION:Cherry Beach West 3
CREATED:20140602T171813Z
DTSTART:20140608T232500Z
DTEND:20140609T002000Z
DTSTAMP:20260422T094330Z
SUMMARY:Boro FC vs. XTSC First Timers
DESCRIPTION:XTSC First Timers vs. Boro FCPlus d'info : #325
X-ALT-DESC;FMTTYPE=text/html:<!DOCTYPE HTML PUBLIC "-//W3C//DTD HTML 3.2//E
	N">\n<HTML>\n<HEAD>\n<TITLE></TITLE>\n</HEAD>\n<BODY>\n<h3>XTSC First Timer
	s vs. Boro FC</h3>Plus d'info : <a href="https://www.golnetwork.com/game/v/
	52333/">#325</a>\n\n</BODY>\n</HTML>
STATUS:CONFIRMED
CLASS:PUBLIC
URL:https://www.golnetwork.com/game/v/52333/
X-MICROSOFT-CDO-BUSYSTATUS:BUSY
X-MICROSOFT-CDO-IMPORTANCE:1
END:VEVENT
BEGIN:VEVENT
UID:g58d6@games.golnetwork.com
LOCATION:Cherry Beach West 1
CREATED:20140509T141940Z
DTSTART:20140601T220000Z
DTEND:20140601T230000Z
DTSTAMP:20260422T094330Z
SUMMARY:Scoregasm vs. XTSC First Timers
DESCRIPTION:XTSC First Timers vs. ScoregasmPlus d'info : #264
X-ALT-DESC;FMTTYPE=text/html:<!DOCTYPE HTML PUBLIC "-//W3C//DTD HTML 3.2//E
	N">\n<HTML>\n<HEAD>\n<TITLE></TITLE>\n</HEAD>\n<BODY>\n<h3>XTSC First Timer
	s vs. Scoregasm</h3>Plus d'info : <a href="https://www.golnetwork.com/game/
	v/51303/">#264</a>\n\n</BODY>\n</HTML>
STATUS:CONFIRMED
CLASS:PUBLIC
URL:https://www.golnetwork.com/game/v/51303/
X-MICROSOFT-CDO-BUSYSTATUS:BUSY
X-MICROSOFT-CDO-IMPORTANCE:1
END:VEVENT
BEGIN:VEVENT
UID:g58d0@games.golnetwork.com
LOCATION:Cherry Beach West 3
CREATED:20140509T141940Z
DTSTART:20140525T220000Z
DTEND:20140525T230000Z
DTSTAMP:20260422T094330Z
SUMMARY:XTSC First Timers vs. FO' SHIZZLE FC
DESCRIPTION:FO' SHIZZLE FC vs. XTSC First TimersPlus d'info : #214
X-ALT-DESC;FMTTYPE=text/html:<!DOCTYPE HTML PUBLIC "-//W3C//DTD HTML 3.2//E
	N">\n<HTML>\n<HEAD>\n<TITLE></TITLE>\n</HEAD>\n<BODY>\n<h3>FO' SHIZZLE FC v
	s. XTSC First Timers</h3>Plus d'info : <a href="https://www.golnetwork.com/
	game/v/51300/">#214</a>\n\n</BODY>\n</HTML>
STATUS:CONFIRMED
CLASS:PUBLIC
URL:https://www.golnetwork.com/game/v/51300/
X-MICROSOFT-CDO-BUSYSTATUS:BUSY
X-MICROSOFT-CDO-IMPORTANCE:1
END:VEVENT
BEGIN:VEVENT
UID:g58c9@games.golnetwork.com
LOCATION:Cherry Beach West 1
CREATED:20140509T141940Z
DTSTART:20140511T210000Z
DTEND:20140511T220000Z
DTSTAMP:20260422T094330Z
SUMMARY:XTSC First Timers vs. FC Dnipro
DESCRIPTION:FC Dnipro vs. XTSC First TimersPlus d'info : #111
X-ALT-DESC;FMTTYPE=text/html:<!DOCTYPE HTML PUBLIC "-//W3C//DTD HTML 3.2//E
	N">\n<HTML>\n<HEAD>\n<TITLE></TITLE>\n</HEAD>\n<BODY>\n<h3>FC Dnipro vs. XT
	SC First Timers</h3>Plus d'info : <a href="https://www.golnetwork.com/game/
	v/51291/">#111</a>\n\n</BODY>\n</HTML>
STATUS:CONFIRMED
CLASS:PUBLIC
URL:https://www.golnetwork.com/game/v/51291/
X-MICROSOFT-CDO-BUSYSTATUS:BUSY
X-MICROSOFT-CDO-IMPORTANCE:1
END:VEVENT
END:VCALENDAR
