BEGIN:VCALENDAR
PRODID:-//gdesolutions.com//MV Framework 1.0.0.1607 Calendar//EN
VERSION:2.0
METHOD:PUBLISH
CALSCALE:GREGORIAN
BEGIN:VEVENT
UID:g5bbb@games.golnetwork.com
LOCATION:Cherry Beach West 1
CREATED:20140602T171945Z
DTSTART:20140810T232500Z
DTEND:20140811T002000Z
DTSTAMP:20260422T210837Z
SUMMARY:FC Dnipro vs. Shot In The Dark
DESCRIPTION:Shot In The Dark vs. FC DniproPlus d'info : #535
X-ALT-DESC;FMTTYPE=text/html:<!DOCTYPE HTML PUBLIC "-//W3C//DTD HTML 3.2//E
	N">\n<HTML>\n<HEAD>\n<TITLE></TITLE>\n</HEAD>\n<BODY>\n<h3>Shot In The Dark
	 vs. FC Dnipro</h3>Plus d'info : <a href="https://www.golnetwork.com/game/v
	/52372/">#535</a>\n\n</BODY>\n</HTML>
STATUS:CONFIRMED
CLASS:PUBLIC
URL:https://www.golnetwork.com/game/v/52372/
X-MICROSOFT-CDO-BUSYSTATUS:BUSY
X-MICROSOFT-CDO-IMPORTANCE:1
END:VEVENT
BEGIN:VEVENT
UID:g5bb1@games.golnetwork.com
LOCATION:Cherry Beach West 1
CREATED:20140602T171813Z
DTSTART:20140727T232500Z
DTEND:20140728T002000Z
DTSTAMP:20260422T210837Z
SUMMARY:Shot In The Dark vs. Les Bleus
DESCRIPTION:Les Bleus vs. Shot In The DarkPlus d'info : #530
X-ALT-DESC;FMTTYPE=text/html:<!DOCTYPE HTML PUBLIC "-//W3C//DTD HTML 3.2//E
	N">\n<HTML>\n<HEAD>\n<TITLE></TITLE>\n</HEAD>\n<BODY>\n<h3>Les Bleus vs. Sh
	ot In The Dark</h3>Plus d'info : <a href="https://www.golnetwork.com/game/v
	/52367/">#530</a>\n\n</BODY>\n</HTML>
STATUS:CONFIRMED
CLASS:PUBLIC
URL:https://www.golnetwork.com/game/v/52367/
X-MICROSOFT-CDO-BUSYSTATUS:BUSY
X-MICROSOFT-CDO-IMPORTANCE:1
END:VEVENT
BEGIN:VEVENT
UID:g5bae@games.golnetwork.com
LOCATION:Cherry Beach West 3
CREATED:20140602T171813Z
DTSTART:20140720T223000Z
DTEND:20140720T232500Z
DTSTAMP:20260422T210837Z
SUMMARY:Scoregasm vs. Shot In The Dark
DESCRIPTION:Shot In The Dark vs. ScoregasmPlus d'info : #523
X-ALT-DESC;FMTTYPE=text/html:<!DOCTYPE HTML PUBLIC "-//W3C//DTD HTML 3.2//E
	N">\n<HTML>\n<HEAD>\n<TITLE></TITLE>\n</HEAD>\n<BODY>\n<h3>Shot In The Dark
	 vs. Scoregasm</h3>Plus d'info : <a href="https://www.golnetwork.com/game/v
	/52360/">#523</a>\n\n</BODY>\n</HTML>
STATUS:CONFIRMED
CLASS:PUBLIC
URL:https://www.golnetwork.com/game/v/52360/
X-MICROSOFT-CDO-BUSYSTATUS:BUSY
X-MICROSOFT-CDO-IMPORTANCE:1
END:VEVENT
BEGIN:VEVENT
UID:g5ba4@games.golnetwork.com
LOCATION:Cherry Beach West 1
CREATED:20140602T171813Z
DTSTART:20140713T232500Z
DTEND:20140714T002000Z
DTSTAMP:20260422T210837Z
SUMMARY:Shot In The Dark vs. BVB Honeybees
DESCRIPTION:BVB Honeybees vs. Shot In The DarkPlus d'info : #518
X-ALT-DESC;FMTTYPE=text/html:<!DOCTYPE HTML PUBLIC "-//W3C//DTD HTML 3.2//E
	N">\n<HTML>\n<HEAD>\n<TITLE></TITLE>\n</HEAD>\n<BODY>\n<h3>BVB Honeybees vs
	. Shot In The Dark</h3>Plus d'info : <a href="https://www.golnetwork.com/ga
	me/v/52355/">#518</a>\n\n</BODY>\n</HTML>
STATUS:CONFIRMED
CLASS:PUBLIC
URL:https://www.golnetwork.com/game/v/52355/
X-MICROSOFT-CDO-BUSYSTATUS:BUSY
X-MICROSOFT-CDO-IMPORTANCE:1
END:VEVENT
BEGIN:VEVENT
UID:g5b9d@games.golnetwork.com
LOCATION:Cherry Beach West 1
CREATED:20140602T171813Z
DTSTART:20140706T223000Z
DTEND:20140706T232500Z
DTSTAMP:20260422T210837Z
SUMMARY:XTSC First Timers vs. Shot In The Dark
DESCRIPTION:Shot In The Dark vs. XTSC First TimersPlus d'info : #483
X-ALT-DESC;FMTTYPE=text/html:<!DOCTYPE HTML PUBLIC "-//W3C//DTD HTML 3.2//E
	N">\n<HTML>\n<HEAD>\n<TITLE></TITLE>\n</HEAD>\n<BODY>\n<h3>Shot In The Dark
	 vs. XTSC First Timers</h3>Plus d'info : <a href="https://www.golnetwork.co
	m/game/v/52346/">#483</a>\n\n</BODY>\n</HTML>
STATUS:CONFIRMED
CLASS:PUBLIC
URL:https://www.golnetwork.com/game/v/52346/
X-MICROSOFT-CDO-BUSYSTATUS:BUSY
X-MICROSOFT-CDO-IMPORTANCE:1
END:VEVENT
BEGIN:VEVENT
UID:g5b97@games.golnetwork.com
LOCATION:Cherry Beach West 1
CREATED:20140602T171813Z
DTSTART:20140622T232500Z
DTEND:20140623T002000Z
DTSTAMP:20260422T210837Z
SUMMARY:Shot In The Dark vs. Boro FC
DESCRIPTION:Boro FC vs. Shot In The DarkPlus d'info : #427
X-ALT-DESC;FMTTYPE=text/html:<!DOCTYPE HTML PUBLIC "-//W3C//DTD HTML 3.2//E
	N">\n<HTML>\n<HEAD>\n<TITLE></TITLE>\n</HEAD>\n<BODY>\n<h3>Boro FC vs. Shot
	 In The Dark</h3>Plus d'info : <a href="https://www.golnetwork.com/game/v/5
	2343/">#427</a>\n\n</BODY>\n</HTML>
STATUS:CONFIRMED
CLASS:PUBLIC
URL:https://www.golnetwork.com/game/v/52343/
X-MICROSOFT-CDO-BUSYSTATUS:BUSY
X-MICROSOFT-CDO-IMPORTANCE:1
END:VEVENT
BEGIN:VEVENT
UID:g5b8o@games.golnetwork.com
LOCATION:Cherry Beach West 2
CREATED:20140602T171813Z
DTSTART:20140615T232500Z
DTEND:20140616T002000Z
DTSTAMP:20260422T210837Z
SUMMARY:Shot In The Dark vs. FO' SHIZZLE FC
DESCRIPTION:FO' SHIZZLE FC vs. Shot In The DarkPlus d'info : #376
X-ALT-DESC;FMTTYPE=text/html:<!DOCTYPE HTML PUBLIC "-//W3C//DTD HTML 3.2//E
	N">\n<HTML>\n<HEAD>\n<TITLE></TITLE>\n</HEAD>\n<BODY>\n<h3>FO' SHIZZLE FC v
	s. Shot In The Dark</h3>Plus d'info : <a href="https://www.golnetwork.com/g
	ame/v/52338/">#376</a>\n\n</BODY>\n</HTML>
STATUS:CONFIRMED
CLASS:PUBLIC
URL:https://www.golnetwork.com/game/v/52338/
X-MICROSOFT-CDO-BUSYSTATUS:BUSY
X-MICROSOFT-CDO-IMPORTANCE:1
END:VEVENT
BEGIN:VEVENT
UID:g5b8g@games.golnetwork.com
LOCATION:Cherry Beach West 1
CREATED:20140602T171813Z
DTSTART:20140615T223000Z
DTEND:20140615T232500Z
DTSTAMP:20260422T210837Z
SUMMARY:Shot In The Dark vs. XTSC First Timers
DESCRIPTION:XTSC First Timers vs. Shot In The DarkPlus d'info : #368
X-ALT-DESC;FMTTYPE=text/html:<!DOCTYPE HTML PUBLIC "-//W3C//DTD HTML 3.2//E
	N">\n<HTML>\n<HEAD>\n<TITLE></TITLE>\n</HEAD>\n<BODY>\n<h3>XTSC First Timer
	s vs. Shot In The Dark</h3>Plus d'info : <a href="https://www.golnetwork.co
	m/game/v/52334/">#368</a>\n\n</BODY>\n</HTML>
STATUS:CONFIRMED
CLASS:PUBLIC
URL:https://www.golnetwork.com/game/v/52334/
X-MICROSOFT-CDO-BUSYSTATUS:BUSY
X-MICROSOFT-CDO-IMPORTANCE:1
END:VEVENT
BEGIN:VEVENT
UID:g5b84@games.golnetwork.com
LOCATION:Cherry Beach West 1
CREATED:20140602T171813Z
DTSTART:20140608T223000Z
DTEND:20140608T232500Z
DTSTAMP:20260422T210837Z
SUMMARY:Shot In The Dark vs. FC Dnipro
DESCRIPTION:FC Dnipro vs. Shot In The DarkPlus d'info : #316
X-ALT-DESC;FMTTYPE=text/html:<!DOCTYPE HTML PUBLIC "-//W3C//DTD HTML 3.2//E
	N">\n<HTML>\n<HEAD>\n<TITLE></TITLE>\n</HEAD>\n<BODY>\n<h3>FC Dnipro vs. Sh
	ot In The Dark</h3>Plus d'info : <a href="https://www.golnetwork.com/game/v
	/52328/">#316</a>\n\n</BODY>\n</HTML>
STATUS:CONFIRMED
CLASS:PUBLIC
URL:https://www.golnetwork.com/game/v/52328/
X-MICROSOFT-CDO-BUSYSTATUS:BUSY
X-MICROSOFT-CDO-IMPORTANCE:1
END:VEVENT
BEGIN:VEVENT
UID:g58d2@games.golnetwork.com
LOCATION:Cherry Beach West 1
CREATED:20140509T141940Z
DTSTART:20140601T210000Z
DTEND:20140601T220000Z
DTSTAMP:20260422T210837Z
SUMMARY:Les Bleus vs. Shot In The Dark
DESCRIPTION:Shot In The Dark vs. Les BleusPlus d'info : #260
X-ALT-DESC;FMTTYPE=text/html:<!DOCTYPE HTML PUBLIC "-//W3C//DTD HTML 3.2//E
	N">\n<HTML>\n<HEAD>\n<TITLE></TITLE>\n</HEAD>\n<BODY>\n<h3>Shot In The Dark
	 vs. Les Bleus</h3>Plus d'info : <a href="https://www.golnetwork.com/game/v
	/51301/">#260</a>\n\n</BODY>\n</HTML>
STATUS:CONFIRMED
CLASS:PUBLIC
URL:https://www.golnetwork.com/game/v/51301/
X-MICROSOFT-CDO-BUSYSTATUS:BUSY
X-MICROSOFT-CDO-IMPORTANCE:1
END:VEVENT
BEGIN:VEVENT
UID:g58cn@games.golnetwork.com
LOCATION:Cherry Beach West 1
CREATED:20140509T141940Z
DTSTART:20140525T220000Z
DTEND:20140525T230000Z
DTSTAMP:20260422T210837Z
SUMMARY:More Salah'd vs. Shot In The Dark
DESCRIPTION:Shot In The Dark vs. More Salah'dPlus d'info : #212
X-ALT-DESC;FMTTYPE=text/html:<!DOCTYPE HTML PUBLIC "-//W3C//DTD HTML 3.2//E
	N">\n<HTML>\n<HEAD>\n<TITLE></TITLE>\n</HEAD>\n<BODY>\n<h3>Shot In The Dark
	 vs. More Salah'd</h3>Plus d'info : <a href="https://www.golnetwork.com/gam
	e/v/51298/">#212</a>\n\n</BODY>\n</HTML>
STATUS:CONFIRMED
CLASS:PUBLIC
URL:https://www.golnetwork.com/game/v/51298/
X-MICROSOFT-CDO-BUSYSTATUS:BUSY
X-MICROSOFT-CDO-IMPORTANCE:1
END:VEVENT
BEGIN:VEVENT
UID:g58gl@games.golnetwork.com
LOCATION:Cherry Beach West 2
CREATED:20140509T143418Z
DTSTART:20140511T230000Z
DTEND:20140512T000000Z
DTSTAMP:20260422T210837Z
SUMMARY:XTSC Blue Rays vs. Shot In The Dark
DESCRIPTION:Shot In The Dark vs. XTSC Blue RaysPlus d'info : #119
X-ALT-DESC;FMTTYPE=text/html:<!DOCTYPE HTML PUBLIC "-//W3C//DTD HTML 3.2//E
	N">\n<HTML>\n<HEAD>\n<TITLE></TITLE>\n</HEAD>\n<BODY>\n<h3>Shot In The Dark
	 vs. XTSC Blue Rays</h3>Plus d'info : <a href="https://www.golnetwork.com/g
	ame/v/51351/">#119</a>\n\n</BODY>\n</HTML>
STATUS:CONFIRMED
CLASS:PUBLIC
URL:https://www.golnetwork.com/game/v/51351/
X-MICROSOFT-CDO-BUSYSTATUS:BUSY
X-MICROSOFT-CDO-IMPORTANCE:1
END:VEVENT
END:VCALENDAR
