BEGIN:VCALENDAR
PRODID:-//gdesolutions.com//MV Framework 1.0.0.1607 Calendar//EN
VERSION:2.0
METHOD:PUBLISH
CALSCALE:GREGORIAN
BEGIN:VEVENT
UID:g9a9q@games.golnetwork.com
LOCATION:Jesse Ketchum 2
GEO:45.10662;-94.578209
CREATED:20160809T163337Z
DTSTART:20161011T220000Z
DTEND:20161011T230000Z
DTSTAMP:20260422T224707Z
SUMMARY:Bay Street United vs. Features United
DESCRIPTION:Features United vs. Bay Street UnitedPlus d'info : #67
X-ALT-DESC;FMTTYPE=text/html:<!DOCTYPE HTML PUBLIC "-//W3C//DTD HTML 3.2//E
	N">\n<HTML>\n<HEAD>\n<TITLE></TITLE>\n</HEAD>\n<BODY>\n<h3>Features United 
	vs. Bay Street United</h3>Plus d'info : <a href="https://www.golnetwork.com
	/game/v/91354/">#67</a>\n\n</BODY>\n</HTML>
STATUS:CONFIRMED
CLASS:PUBLIC
URL:https://www.golnetwork.com/game/v/91354/
X-MICROSOFT-CDO-BUSYSTATUS:BUSY
X-MICROSOFT-CDO-IMPORTANCE:1
END:VEVENT
BEGIN:VEVENT
UID:g9a9k@games.golnetwork.com
LOCATION:Jesse Ketchum 1
GEO:45.10662;-94.578209
CREATED:20160809T163305Z
DTSTART:20160920T221500Z
DTEND:20160920T231500Z
DTSTAMP:20260422T224707Z
SUMMARY:Misfires vs. Bay Street United
DESCRIPTION:Bay Street United vs. MisfiresPlus d'info : #31
X-ALT-DESC;FMTTYPE=text/html:<!DOCTYPE HTML PUBLIC "-//W3C//DTD HTML 3.2//E
	N">\n<HTML>\n<HEAD>\n<TITLE></TITLE>\n</HEAD>\n<BODY>\n<h3>Bay Street Unite
	d vs. Misfires</h3>Plus d'info : <a href="https://www.golnetwork.com/game/v
	/91351/">#31</a>\n\n</BODY>\n</HTML>
STATUS:CONFIRMED
CLASS:PUBLIC
URL:https://www.golnetwork.com/game/v/91351/
X-MICROSOFT-CDO-BUSYSTATUS:BUSY
X-MICROSOFT-CDO-IMPORTANCE:1
END:VEVENT
BEGIN:VEVENT
UID:g9a9e@games.golnetwork.com
LOCATION:Jesse Ketchum 1
GEO:45.10662;-94.578209
CREATED:20160809T162758Z
DTSTART:20160913T223000Z
DTEND:20160913T233000Z
DTSTAMP:20260422T224707Z
SUMMARY:Bay Street United vs. UnbelievaBALL
DESCRIPTION:UnbelievaBALL vs. Bay Street UnitedPlus d'info : #27
X-ALT-DESC;FMTTYPE=text/html:<!DOCTYPE HTML PUBLIC "-//W3C//DTD HTML 3.2//E
	N">\n<HTML>\n<HEAD>\n<TITLE></TITLE>\n</HEAD>\n<BODY>\n<h3>UnbelievaBALL vs
	. Bay Street United</h3>Plus d'info : <a href="https://www.golnetwork.com/g
	ame/v/91348/">#27</a>\n\n</BODY>\n</HTML>
STATUS:CONFIRMED
CLASS:PUBLIC
URL:https://www.golnetwork.com/game/v/91348/
X-MICROSOFT-CDO-BUSYSTATUS:BUSY
X-MICROSOFT-CDO-IMPORTANCE:1
END:VEVENT
BEGIN:VEVENT
UID:g9a94@games.golnetwork.com
LOCATION:Jesse Ketchum 2
GEO:45.10662;-94.578209
CREATED:20160809T162650Z
DTSTART:20160830T220000Z
DTEND:20160830T230000Z
DTSTAMP:20260422T224707Z
SUMMARY:Bay Street United vs. Return to the Ravens
DESCRIPTION:Return to the Ravens vs. Bay Street UnitedPlus d'info : #18
X-ALT-DESC;FMTTYPE=text/html:<!DOCTYPE HTML PUBLIC "-//W3C//DTD HTML 3.2//E
	N">\n<HTML>\n<HEAD>\n<TITLE></TITLE>\n</HEAD>\n<BODY>\n<h3>Return to the Ra
	vens vs. Bay Street United</h3>Plus d'info : <a href="https://www.golnetwor
	k.com/game/v/91343/">#18</a>\n\n</BODY>\n</HTML>
STATUS:CONFIRMED
CLASS:PUBLIC
URL:https://www.golnetwork.com/game/v/91343/
X-MICROSOFT-CDO-BUSYSTATUS:BUSY
X-MICROSOFT-CDO-IMPORTANCE:1
END:VEVENT
BEGIN:VEVENT
UID:g9a98@games.golnetwork.com
LOCATION:Jesse Ketchum 2
GEO:45.10662;-94.578209
CREATED:20160809T162710Z
DTSTART:20160823T231500Z
DTEND:20160824T001500Z
DTSTAMP:20260422T224707Z
SUMMARY:IWP vs. Bay Street United
DESCRIPTION:Bay Street United vs. IWPPlus d'info : #12
X-ALT-DESC;FMTTYPE=text/html:<!DOCTYPE HTML PUBLIC "-//W3C//DTD HTML 3.2//E
	N">\n<HTML>\n<HEAD>\n<TITLE></TITLE>\n</HEAD>\n<BODY>\n<h3>Bay Street Unite
	d vs. IWP</h3>Plus d'info : <a href="https://www.golnetwork.com/game/v/9134
	5/">#12</a>\n\n</BODY>\n</HTML>
STATUS:CONFIRMED
CLASS:PUBLIC
URL:https://www.golnetwork.com/game/v/91345/
X-MICROSOFT-CDO-BUSYSTATUS:BUSY
X-MICROSOFT-CDO-IMPORTANCE:1
END:VEVENT
BEGIN:VEVENT
UID:g9a8n@games.golnetwork.com
LOCATION:Jesse Ketchum 2
GEO:45.10662;-94.578209
CREATED:20160809T162556Z
DTSTART:20160823T221500Z
DTEND:20160823T231500Z
DTSTAMP:20260422T224707Z
SUMMARY:Features United vs. Bay Street United
DESCRIPTION:Bay Street United vs. Features UnitedPlus d'info : #10
X-ALT-DESC;FMTTYPE=text/html:<!DOCTYPE HTML PUBLIC "-//W3C//DTD HTML 3.2//E
	N">\n<HTML>\n<HEAD>\n<TITLE></TITLE>\n</HEAD>\n<BODY>\n<h3>Bay Street Unite
	d vs. Features United</h3>Plus d'info : <a href="https://www.golnetwork.com
	/game/v/91339/">#10</a>\n\n</BODY>\n</HTML>
STATUS:CONFIRMED
CLASS:PUBLIC
URL:https://www.golnetwork.com/game/v/91339/
X-MICROSOFT-CDO-BUSYSTATUS:BUSY
X-MICROSOFT-CDO-IMPORTANCE:1
END:VEVENT
BEGIN:VEVENT
UID:g9a8j@games.golnetwork.com
LOCATION:Jesse Ketchum 2
GEO:45.10662;-94.578209
CREATED:20160809T162531Z
DTSTART:20160816T233000Z
DTEND:20160817T003000Z
DTSTAMP:20260422T224707Z
SUMMARY:Misfires vs. Bay Street United
DESCRIPTION:Bay Street United vs. MisfiresPlus d'info : #4
X-ALT-DESC;FMTTYPE=text/html:<!DOCTYPE HTML PUBLIC "-//W3C//DTD HTML 3.2//E
	N">\n<HTML>\n<HEAD>\n<TITLE></TITLE>\n</HEAD>\n<BODY>\n<h3>Bay Street Unite
	d vs. Misfires</h3>Plus d'info : <a href="https://www.golnetwork.com/game/v
	/91337/">#4</a>\n\n</BODY>\n</HTML>
STATUS:CONFIRMED
CLASS:PUBLIC
URL:https://www.golnetwork.com/game/v/91337/
X-MICROSOFT-CDO-BUSYSTATUS:BUSY
X-MICROSOFT-CDO-IMPORTANCE:1
END:VEVENT
END:VCALENDAR
