BEGIN:VCALENDAR
PRODID:-//gdesolutions.com//MV Framework 1.0.0.1607 Calendar//EN
VERSION:2.0
METHOD:PUBLISH
CALSCALE:GREGORIAN
BEGIN:VEVENT
UID:g5hb3@games.golnetwork.com
LOCATION:Cherry Beach West 3
CREATED:20140728T155734Z
DTSTART:20140810T232500Z
DTEND:20140811T002000Z
DTSTAMP:20260421T015205Z
SUMMARY:FO' SHIZZLE FC vs. More Salah'd
DESCRIPTION:More Salah'd vs. FO' SHIZZLE FCPlus d'info : #537
X-ALT-DESC;FMTTYPE=text/html:<!DOCTYPE HTML PUBLIC "-//W3C//DTD HTML 3.2//E
	N">\n<HTML>\n<HEAD>\n<TITLE></TITLE>\n</HEAD>\n<BODY>\n<h3>More Salah'd vs.
	 FO' SHIZZLE FC</h3>Plus d'info : <a href="https://www.golnetwork.com/game/
	v/54555/">#537</a>\n\n</BODY>\n</HTML>
STATUS:CONFIRMED
CLASS:PUBLIC
URL:https://www.golnetwork.com/game/v/54555/
X-MICROSOFT-CDO-BUSYSTATUS:BUSY
X-MICROSOFT-CDO-IMPORTANCE:1
END:VEVENT
BEGIN:VEVENT
UID:g5bbj@games.golnetwork.com
LOCATION:Cherry Beach West 2
CREATED:20140602T172002Z
DTSTART:20140810T223000Z
DTEND:20140810T232500Z
DTSTAMP:20260421T015205Z
SUMMARY:BVB Honeybees vs. More Salah'd
DESCRIPTION:More Salah'd vs. BVB HoneybeesPlus d'info : #533
X-ALT-DESC;FMTTYPE=text/html:<!DOCTYPE HTML PUBLIC "-//W3C//DTD HTML 3.2//E
	N">\n<HTML>\n<HEAD>\n<TITLE></TITLE>\n</HEAD>\n<BODY>\n<h3>More Salah'd vs.
	 BVB Honeybees</h3>Plus d'info : <a href="https://www.golnetwork.com/game/v
	/52376/">#533</a>\n\n</BODY>\n</HTML>
STATUS:CONFIRMED
CLASS:PUBLIC
URL:https://www.golnetwork.com/game/v/52376/
X-MICROSOFT-CDO-BUSYSTATUS:BUSY
X-MICROSOFT-CDO-IMPORTANCE:1
END:VEVENT
BEGIN:VEVENT
UID:g5bb3@games.golnetwork.com
LOCATION:Cherry Beach West 2
CREATED:20140602T171813Z
DTSTART:20140727T232500Z
DTEND:20140728T002000Z
DTSTAMP:20260421T015205Z
SUMMARY:FC Dnipro vs. More Salah'd
DESCRIPTION:More Salah'd vs. FC DniproPlus d'info : #531
X-ALT-DESC;FMTTYPE=text/html:<!DOCTYPE HTML PUBLIC "-//W3C//DTD HTML 3.2//E
	N">\n<HTML>\n<HEAD>\n<TITLE></TITLE>\n</HEAD>\n<BODY>\n<h3>More Salah'd vs.
	 FC Dnipro</h3>Plus d'info : <a href="https://www.golnetwork.com/game/v/523
	68/">#531</a>\n\n</BODY>\n</HTML>
STATUS:CONFIRMED
CLASS:PUBLIC
URL:https://www.golnetwork.com/game/v/52368/
X-MICROSOFT-CDO-BUSYSTATUS:BUSY
X-MICROSOFT-CDO-IMPORTANCE:1
END:VEVENT
BEGIN:VEVENT
UID:g5bai@games.golnetwork.com
LOCATION:Cherry Beach West 2
CREATED:20140602T171813Z
DTSTART:20140720T232500Z
DTEND:20140721T002000Z
DTSTAMP:20260421T015205Z
SUMMARY:More Salah'd vs. FO' SHIZZLE FC
DESCRIPTION:FO' SHIZZLE FC vs. More Salah'dPlus d'info : #525
X-ALT-DESC;FMTTYPE=text/html:<!DOCTYPE HTML PUBLIC "-//W3C//DTD HTML 3.2//E
	N">\n<HTML>\n<HEAD>\n<TITLE></TITLE>\n</HEAD>\n<BODY>\n<h3>FO' SHIZZLE FC v
	s. More Salah'd</h3>Plus d'info : <a href="https://www.golnetwork.com/game/
	v/52362/">#525</a>\n\n</BODY>\n</HTML>
STATUS:CONFIRMED
CLASS:PUBLIC
URL:https://www.golnetwork.com/game/v/52362/
X-MICROSOFT-CDO-BUSYSTATUS:BUSY
X-MICROSOFT-CDO-IMPORTANCE:1
END:VEVENT
BEGIN:VEVENT
UID:g5ba6@games.golnetwork.com
LOCATION:Cherry Beach West 2
CREATED:20140602T171813Z
DTSTART:20140713T232500Z
DTEND:20140714T002000Z
DTSTAMP:20260421T015205Z
SUMMARY:XTSC First Timers vs. More Salah'd
DESCRIPTION:More Salah'd vs. XTSC First TimersPlus d'info : #519
X-ALT-DESC;FMTTYPE=text/html:<!DOCTYPE HTML PUBLIC "-//W3C//DTD HTML 3.2//E
	N">\n<HTML>\n<HEAD>\n<TITLE></TITLE>\n</HEAD>\n<BODY>\n<h3>More Salah'd vs.
	 XTSC First Timers</h3>Plus d'info : <a href="https://www.golnetwork.com/ga
	me/v/52356/">#519</a>\n\n</BODY>\n</HTML>
STATUS:CONFIRMED
CLASS:PUBLIC
URL:https://www.golnetwork.com/game/v/52356/
X-MICROSOFT-CDO-BUSYSTATUS:BUSY
X-MICROSOFT-CDO-IMPORTANCE:1
END:VEVENT
BEGIN:VEVENT
UID:g5b9h@games.golnetwork.com
LOCATION:Cherry Beach West 3
CREATED:20140602T171813Z
DTSTART:20140706T223000Z
DTEND:20140706T232500Z
DTSTAMP:20260421T015205Z
SUMMARY:Scoregasm vs. More Salah'd
DESCRIPTION:More Salah'd vs. ScoregasmPlus d'info : #485
X-ALT-DESC;FMTTYPE=text/html:<!DOCTYPE HTML PUBLIC "-//W3C//DTD HTML 3.2//E
	N">\n<HTML>\n<HEAD>\n<TITLE></TITLE>\n</HEAD>\n<BODY>\n<h3>More Salah'd vs.
	 Scoregasm</h3>Plus d'info : <a href="https://www.golnetwork.com/game/v/523
	48/">#485</a>\n\n</BODY>\n</HTML>
STATUS:CONFIRMED
CLASS:PUBLIC
URL:https://www.golnetwork.com/game/v/52348/
X-MICROSOFT-CDO-BUSYSTATUS:BUSY
X-MICROSOFT-CDO-IMPORTANCE:1
END:VEVENT
BEGIN:VEVENT
UID:g5b9b@games.golnetwork.com
LOCATION:Cherry Beach West 3
CREATED:20140602T171813Z
DTSTART:20140622T232500Z
DTEND:20140623T002000Z
DTSTAMP:20260421T015205Z
SUMMARY:Les Bleus vs. More Salah'd
DESCRIPTION:More Salah'd vs. Les BleusPlus d'info : #429
X-ALT-DESC;FMTTYPE=text/html:<!DOCTYPE HTML PUBLIC "-//W3C//DTD HTML 3.2//E
	N">\n<HTML>\n<HEAD>\n<TITLE></TITLE>\n</HEAD>\n<BODY>\n<h3>More Salah'd vs.
	 Les Bleus</h3>Plus d'info : <a href="https://www.golnetwork.com/game/v/523
	45/">#429</a>\n\n</BODY>\n</HTML>
STATUS:CONFIRMED
CLASS:PUBLIC
URL:https://www.golnetwork.com/game/v/52345/
X-MICROSOFT-CDO-BUSYSTATUS:BUSY
X-MICROSOFT-CDO-IMPORTANCE:1
END:VEVENT
BEGIN:VEVENT
UID:g5b8k@games.golnetwork.com
LOCATION:Cherry Beach West 3
CREATED:20140602T171813Z
DTSTART:20140615T223000Z
DTEND:20140615T232500Z
DTSTAMP:20260421T015205Z
SUMMARY:FC Dnipro vs. More Salah'd
DESCRIPTION:More Salah'd vs. FC DniproPlus d'info : #370
X-ALT-DESC;FMTTYPE=text/html:<!DOCTYPE HTML PUBLIC "-//W3C//DTD HTML 3.2//E
	N">\n<HTML>\n<HEAD>\n<TITLE></TITLE>\n</HEAD>\n<BODY>\n<h3>More Salah'd vs.
	 FC Dnipro</h3>Plus d'info : <a href="https://www.golnetwork.com/game/v/523
	36/">#370</a>\n\n</BODY>\n</HTML>
STATUS:CONFIRMED
CLASS:PUBLIC
URL:https://www.golnetwork.com/game/v/52336/
X-MICROSOFT-CDO-BUSYSTATUS:BUSY
X-MICROSOFT-CDO-IMPORTANCE:1
END:VEVENT
BEGIN:VEVENT
UID:g5b88@games.golnetwork.com
LOCATION:Cherry Beach West 3
CREATED:20140602T171813Z
DTSTART:20140608T223000Z
DTEND:20140608T232500Z
DTSTAMP:20260421T015205Z
SUMMARY:Boro FC vs. More Salah'd
DESCRIPTION:More Salah'd vs. Boro FCPlus d'info : #318
X-ALT-DESC;FMTTYPE=text/html:<!DOCTYPE HTML PUBLIC "-//W3C//DTD HTML 3.2//E
	N">\n<HTML>\n<HEAD>\n<TITLE></TITLE>\n</HEAD>\n<BODY>\n<h3>More Salah'd vs.
	 Boro FC</h3>Plus d'info : <a href="https://www.golnetwork.com/game/v/52330
	/">#318</a>\n\n</BODY>\n</HTML>
STATUS:CONFIRMED
CLASS:PUBLIC
URL:https://www.golnetwork.com/game/v/52330/
X-MICROSOFT-CDO-BUSYSTATUS:BUSY
X-MICROSOFT-CDO-IMPORTANCE:1
END:VEVENT
BEGIN:VEVENT
UID:g58da@games.golnetwork.com
LOCATION:Cherry Beach West 3
CREATED:20140509T141940Z
DTSTART:20140601T220000Z
DTEND:20140601T230000Z
DTSTAMP:20260421T015205Z
SUMMARY:More Salah'd vs. XTSC Blue Rays
DESCRIPTION:XTSC Blue Rays vs. More Salah'dPlus d'info : #266
X-ALT-DESC;FMTTYPE=text/html:<!DOCTYPE HTML PUBLIC "-//W3C//DTD HTML 3.2//E
	N">\n<HTML>\n<HEAD>\n<TITLE></TITLE>\n</HEAD>\n<BODY>\n<h3>XTSC Blue Rays v
	s. More Salah'd</h3>Plus d'info : <a href="https://www.golnetwork.com/game/
	v/51305/">#266</a>\n\n</BODY>\n</HTML>
STATUS:CONFIRMED
CLASS:PUBLIC
URL:https://www.golnetwork.com/game/v/51305/
X-MICROSOFT-CDO-BUSYSTATUS:BUSY
X-MICROSOFT-CDO-IMPORTANCE:1
END:VEVENT
BEGIN:VEVENT
UID:g58cn@games.golnetwork.com
LOCATION:Cherry Beach West 1
CREATED:20140509T141940Z
DTSTART:20140525T220000Z
DTEND:20140525T230000Z
DTSTAMP:20260421T015205Z
SUMMARY:More Salah'd vs. Shot In The Dark
DESCRIPTION:Shot In The Dark vs. More Salah'dPlus d'info : #212
X-ALT-DESC;FMTTYPE=text/html:<!DOCTYPE HTML PUBLIC "-//W3C//DTD HTML 3.2//E
	N">\n<HTML>\n<HEAD>\n<TITLE></TITLE>\n</HEAD>\n<BODY>\n<h3>Shot In The Dark
	 vs. More Salah'd</h3>Plus d'info : <a href="https://www.golnetwork.com/gam
	e/v/51298/">#212</a>\n\n</BODY>\n</HTML>
STATUS:CONFIRMED
CLASS:PUBLIC
URL:https://www.golnetwork.com/game/v/51298/
X-MICROSOFT-CDO-BUSYSTATUS:BUSY
X-MICROSOFT-CDO-IMPORTANCE:1
END:VEVENT
BEGIN:VEVENT
UID:g5b37@games.golnetwork.com
LOCATION:Cherry Beach West 3
CREATED:20140523T153407Z
DTSTART:20140525T210000Z
DTEND:20140525T220000Z
DTSTAMP:20260421T015205Z
SUMMARY:More Salah'd vs.  Bain FC
DESCRIPTION: Bain FC vs. More Salah'dPlus d'info : #210
X-ALT-DESC;FMTTYPE=text/html:<!DOCTYPE HTML PUBLIC "-//W3C//DTD HTML 3.2//E
	N">\n<HTML>\n<HEAD>\n<TITLE></TITLE>\n</HEAD>\n<BODY>\n<h3> Bain FC vs. Mor
	e Salah'd</h3>Plus d'info : <a href="https://www.golnetwork.com/game/v/5226
	2/">#210</a>\n\n</BODY>\n</HTML>
STATUS:CONFIRMED
CLASS:PUBLIC
URL:https://www.golnetwork.com/game/v/52262/
X-MICROSOFT-CDO-BUSYSTATUS:BUSY
X-MICROSOFT-CDO-IMPORTANCE:1
END:VEVENT
END:VCALENDAR
