BEGIN:VCALENDAR
PRODID:-//gdesolutions.com//MV Framework 1.0.0.1607 Calendar//EN
VERSION:2.0
METHOD:PUBLISH
CALSCALE:GREGORIAN
BEGIN:VEVENT
UID:g88k2@games.golnetwork.com
LOCATION:Monarch Park Stadium - Field 3
GEO:43.6792789;-79.3234873
CREATED:20151201T201140Z
DTSTART:20160302T040000Z
DTEND:20160302T050000Z
DTSTAMP:20260422T194330Z
SUMMARY:Galacticos FC vs. Hedgie FC
DESCRIPTION:Hedgie FC vs. Galacticos FCPlus d'info : #326
X-ALT-DESC;FMTTYPE=text/html:<!DOCTYPE HTML PUBLIC "-//W3C//DTD HTML 3.2//E
	N">\n<HTML>\n<HEAD>\n<TITLE></TITLE>\n</HEAD>\n<BODY>\n<h3>Hedgie FC vs. Ga
	lacticos FC</h3>Plus d'info : <a href="https://www.golnetwork.com/game/v/80
	920/">#326</a>\n\n</BODY>\n</HTML>
STATUS:CONFIRMED
CLASS:PUBLIC
URL:https://www.golnetwork.com/game/v/80920/
X-MICROSOFT-CDO-BUSYSTATUS:BUSY
X-MICROSOFT-CDO-IMPORTANCE:1
END:VEVENT
BEGIN:VEVENT
UID:g88jj@games.golnetwork.com
LOCATION:Monarch Park Stadium - Field 3
GEO:43.6792789;-79.3234873
CREATED:20151201T201140Z
DTSTART:20160217T040000Z
DTEND:20160217T050000Z
DTSTAMP:20260422T194330Z
SUMMARY:Hedgie FC vs.  Livestock All Blacks
DESCRIPTION: Livestock All Blacks vs. Hedgie FCPlus d'info : #226
X-ALT-DESC;FMTTYPE=text/html:<!DOCTYPE HTML PUBLIC "-//W3C//DTD HTML 3.2//E
	N">\n<HTML>\n<HEAD>\n<TITLE></TITLE>\n</HEAD>\n<BODY>\n<h3> Livestock All B
	lacks vs. Hedgie FC</h3>Plus d'info : <a href="https://www.golnetwork.com/g
	ame/v/80915/">#226</a>\n\n</BODY>\n</HTML>
STATUS:CONFIRMED
CLASS:PUBLIC
URL:https://www.golnetwork.com/game/v/80915/
X-MICROSOFT-CDO-BUSYSTATUS:BUSY
X-MICROSOFT-CDO-IMPORTANCE:1
END:VEVENT
BEGIN:VEVENT
UID:g88jd@games.golnetwork.com
LOCATION:Monarch Park Stadium - Field 3
GEO:43.6792789;-79.3234873
CREATED:20151201T201140Z
DTSTART:20160210T020000Z
DTEND:20160210T030000Z
DTSTAMP:20260422T194330Z
SUMMARY:Hedgie FC vs. Samba All-Stars
DESCRIPTION:Samba All-Stars vs. Hedgie FCPlus d'info : #166
X-ALT-DESC;FMTTYPE=text/html:<!DOCTYPE HTML PUBLIC "-//W3C//DTD HTML 3.2//E
	N">\n<HTML>\n<HEAD>\n<TITLE></TITLE>\n</HEAD>\n<BODY>\n<h3>Samba All-Stars 
	vs. Hedgie FC</h3>Plus d'info : <a href="https://www.golnetwork.com/game/v/
	80912/">#166</a>\n\n</BODY>\n</HTML>
STATUS:CONFIRMED
CLASS:PUBLIC
URL:https://www.golnetwork.com/game/v/80912/
X-MICROSOFT-CDO-BUSYSTATUS:BUSY
X-MICROSOFT-CDO-IMPORTANCE:1
END:VEVENT
BEGIN:VEVENT
UID:g88j9@games.golnetwork.com
LOCATION:Monarch Park Stadium - Field 3
GEO:43.6792789;-79.3234873
CREATED:20151201T201140Z
DTSTART:20160203T030000Z
DTEND:20160203T040000Z
DTSTAMP:20260422T194330Z
SUMMARY:Hedgie FC vs. Friendship United FC
DESCRIPTION:Friendship United FC vs. Hedgie FCPlus d'info : #120
X-ALT-DESC;FMTTYPE=text/html:<!DOCTYPE HTML PUBLIC "-//W3C//DTD HTML 3.2//E
	N">\n<HTML>\n<HEAD>\n<TITLE></TITLE>\n</HEAD>\n<BODY>\n<h3>Friendship Unite
	d FC vs. Hedgie FC</h3>Plus d'info : <a href="https://www.golnetwork.com/ga
	me/v/80910/">#120</a>\n\n</BODY>\n</HTML>
STATUS:CONFIRMED
CLASS:PUBLIC
URL:https://www.golnetwork.com/game/v/80910/
X-MICROSOFT-CDO-BUSYSTATUS:BUSY
X-MICROSOFT-CDO-IMPORTANCE:1
END:VEVENT
BEGIN:VEVENT
UID:g88j5@games.golnetwork.com
LOCATION:Monarch Park Stadium - Field 3
GEO:43.6792789;-79.3234873
CREATED:20151201T201140Z
DTSTART:20160127T040000Z
DTEND:20160127T050000Z
DTSTAMP:20260422T194330Z
SUMMARY:Hedgie FC vs. Misfires
DESCRIPTION:Misfires vs. Hedgie FCPlus d'info : #81
X-ALT-DESC;FMTTYPE=text/html:<!DOCTYPE HTML PUBLIC "-//W3C//DTD HTML 3.2//E
	N">\n<HTML>\n<HEAD>\n<TITLE></TITLE>\n</HEAD>\n<BODY>\n<h3>Misfires vs. Hed
	gie FC</h3>Plus d'info : <a href="https://www.golnetwork.com/game/v/80908/"
	>#81</a>\n\n</BODY>\n</HTML>
STATUS:CONFIRMED
CLASS:PUBLIC
URL:https://www.golnetwork.com/game/v/80908/
X-MICROSOFT-CDO-BUSYSTATUS:BUSY
X-MICROSOFT-CDO-IMPORTANCE:1
END:VEVENT
BEGIN:VEVENT
UID:g88iq@games.golnetwork.com
LOCATION:Monarch Park Stadium - Field 3
GEO:43.6792789;-79.3234873
CREATED:20151201T201140Z
DTSTART:20160120T040000Z
DTEND:20160120T050000Z
DTSTAMP:20260422T194330Z
SUMMARY:Samba All-Stars vs. Hedgie FC
DESCRIPTION:Hedgie FC vs. Samba All-StarsPlus d'info : #57
X-ALT-DESC;FMTTYPE=text/html:<!DOCTYPE HTML PUBLIC "-//W3C//DTD HTML 3.2//E
	N">\n<HTML>\n<HEAD>\n<TITLE></TITLE>\n</HEAD>\n<BODY>\n<h3>Hedgie FC vs. Sa
	mba All-Stars</h3>Plus d'info : <a href="https://www.golnetwork.com/game/v/
	80905/">#57</a>\n\n</BODY>\n</HTML>
STATUS:CONFIRMED
CLASS:PUBLIC
URL:https://www.golnetwork.com/game/v/80905/
X-MICROSOFT-CDO-BUSYSTATUS:BUSY
X-MICROSOFT-CDO-IMPORTANCE:1
END:VEVENT
BEGIN:VEVENT
UID:g88ii@games.golnetwork.com
LOCATION:Monarch Park Stadium - Field 3
GEO:43.6792789;-79.3234873
CREATED:20151201T201140Z
DTSTART:20160113T020000Z
DTEND:20160113T030000Z
DTSTAMP:20260422T194330Z
SUMMARY: Livestock All Blacks vs. Hedgie FC
DESCRIPTION:Hedgie FC vs.  Livestock All BlacksPlus d'info : #29
X-ALT-DESC;FMTTYPE=text/html:<!DOCTYPE HTML PUBLIC "-//W3C//DTD HTML 3.2//E
	N">\n<HTML>\n<HEAD>\n<TITLE></TITLE>\n</HEAD>\n<BODY>\n<h3>Hedgie FC vs.  L
	ivestock All Blacks</h3>Plus d'info : <a href="https://www.golnetwork.com/g
	ame/v/80901/">#29</a>\n\n</BODY>\n</HTML>
STATUS:CONFIRMED
CLASS:PUBLIC
URL:https://www.golnetwork.com/game/v/80901/
X-MICROSOFT-CDO-BUSYSTATUS:BUSY
X-MICROSOFT-CDO-IMPORTANCE:1
END:VEVENT
BEGIN:VEVENT
UID:g88ia@games.golnetwork.com
LOCATION:Monarch Park Stadium - Field 3
GEO:43.6792789;-79.3234873
CREATED:20151201T201140Z
DTSTART:20160106T020000Z
DTEND:20160106T030000Z
DTSTAMP:20260422T194330Z
SUMMARY:Galacticos FC vs. Hedgie FC
DESCRIPTION:Hedgie FC vs. Galacticos FCPlus d'info : #7
X-ALT-DESC;FMTTYPE=text/html:<!DOCTYPE HTML PUBLIC "-//W3C//DTD HTML 3.2//E
	N">\n<HTML>\n<HEAD>\n<TITLE></TITLE>\n</HEAD>\n<BODY>\n<h3>Hedgie FC vs. Ga
	lacticos FC</h3>Plus d'info : <a href="https://www.golnetwork.com/game/v/80
	897/">#7</a>\n\n</BODY>\n</HTML>
STATUS:CONFIRMED
CLASS:PUBLIC
URL:https://www.golnetwork.com/game/v/80897/
X-MICROSOFT-CDO-BUSYSTATUS:BUSY
X-MICROSOFT-CDO-IMPORTANCE:1
END:VEVENT
END:VCALENDAR
