BEGIN:VCALENDAR
PRODID:-//gdesolutions.com//MV Framework 1.0.0.1607 Calendar//EN
VERSION:2.0
METHOD:PUBLISH
CALSCALE:GREGORIAN
BEGIN:VEVENT
UID:gacn9@games.golnetwork.com
LOCATION:Lamport Stadium - Field 3
GEO:43.6390028;-79.4232104
CREATED:20170126T022415Z
DTSTART:20170419T010000Z
DTEND:20170419T015000Z
DTSTAMP:20260422T065708Z
SUMMARY:Look Ma No Hands vs. Bradley Bunch
DESCRIPTION:Bradley Bunch vs. Look Ma No HandsPlus d'info : #746
X-ALT-DESC;FMTTYPE=text/html:<!DOCTYPE HTML PUBLIC "-//W3C//DTD HTML 3.2//E
	N">\n<HTML>\n<HEAD>\n<TITLE></TITLE>\n</HEAD>\n<BODY>\n<h3>Bradley Bunch vs
	. Look Ma No Hands</h3>Plus d'info : <a href="https://www.golnetwork.com/ga
	me/v/102105/">#746</a>\n\n</BODY>\n</HTML>
STATUS:CONFIRMED
CLASS:PUBLIC
URL:https://www.golnetwork.com/game/v/102105/
X-MICROSOFT-CDO-BUSYSTATUS:BUSY
X-MICROSOFT-CDO-IMPORTANCE:1
END:VEVENT
BEGIN:VEVENT
UID:gai6i@games.golnetwork.com
LOCATION:Lamport Stadium - Field 3
GEO:43.6390028;-79.4232104
CREATED:20170405T222000Z
DTSTART:20170412T000000Z
DTEND:20170412T005000Z
DTSTAMP:20260422T065708Z
SUMMARY:Liberty Street Hooligans vs. Bradley Bunch
DESCRIPTION:Bradley Bunch vs. Liberty Street HooligansPlus d'info : R#704
X-ALT-DESC;FMTTYPE=text/html:<!DOCTYPE HTML PUBLIC "-//W3C//DTD HTML 3.2//E
	N">\n<HTML>\n<HEAD>\n<TITLE></TITLE>\n</HEAD>\n<BODY>\n<h3>Bradley Bunch vs
	. Liberty Street Hooligans</h3>Plus d'info : <a href="https://www.golnetwor
	k.com/game/v/104067/">R#704</a>\n\n</BODY>\n</HTML>
STATUS:CONFIRMED
CLASS:PUBLIC
URL:https://www.golnetwork.com/game/v/104067/
X-MICROSOFT-CDO-BUSYSTATUS:BUSY
X-MICROSOFT-CDO-IMPORTANCE:1
END:VEVENT
BEGIN:VEVENT
UID:gacn5@games.golnetwork.com
LOCATION:Lamport Stadium - Field 3
GEO:43.6390028;-79.4232104
CREATED:20170126T022415Z
DTSTART:20170405T010000Z
DTEND:20170405T015000Z
DTSTAMP:20260422T065708Z
SUMMARY:Liberty Street Hooligans vs. Bradley Bunch
DESCRIPTION:Bradley Bunch vs. Liberty Street HooligansPlus d'info : #704
X-ALT-DESC;FMTTYPE=text/html:<!DOCTYPE HTML PUBLIC "-//W3C//DTD HTML 3.2//E
	N">\n<HTML>\n<HEAD>\n<TITLE></TITLE>\n</HEAD>\n<BODY>\n<h3>Bradley Bunch vs
	. Liberty Street Hooligans</h3>Plus d'info : <a href="https://www.golnetwor
	k.com/game/v/102103/">#704</a>\n\n</BODY>\n</HTML>
STATUS:RESCHEDULED
CLASS:PUBLIC
URL:https://www.golnetwork.com/game/v/102103/
X-MICROSOFT-CDO-BUSYSTATUS:BUSY
X-MICROSOFT-CDO-IMPORTANCE:1
END:VEVENT
END:VCALENDAR
