BEGIN:VCALENDAR
PRODID:-//gdesolutions.com//MV Framework 1.0.0.1607 Calendar//EN
VERSION:2.0
METHOD:PUBLISH
CALSCALE:GREGORIAN
BEGIN:VEVENT
UID:g9393@games.golnetwork.com
LOCATION:Lamport Stadium - Field 1
GEO:43.6390028;-79.4232104
CREATED:20160525T140458Z
DTSTART:20160625T000000Z
DTEND:20160625T010000Z
DTSTAMP:20260426T020747Z
SUMMARY:BOOMSHAKKALAKKA! vs. Loose Cannons
DESCRIPTION:Loose Cannons vs. BOOMSHAKKALAKKA!Plus d'info : R#104
X-ALT-DESC;FMTTYPE=text/html:<!DOCTYPE HTML PUBLIC "-//W3C//DTD HTML 3.2//E
	N">\n<HTML>\n<HEAD>\n<TITLE></TITLE>\n</HEAD>\n<BODY>\n<h3>Loose Cannons vs
	. BOOMSHAKKALAKKA!</h3>Plus d'info : <a href="https://www.golnetwork.com/ga
	me/v/88791/">R#104</a>\n\n</BODY>\n</HTML>
STATUS:CONFIRMED
CLASS:PUBLIC
URL:https://www.golnetwork.com/game/v/88791/
X-MICROSOFT-CDO-BUSYSTATUS:BUSY
X-MICROSOFT-CDO-IMPORTANCE:1
END:VEVENT
BEGIN:VEVENT
UID:g8ma2@games.golnetwork.com
LOCATION:Lamport Stadium - Field 1
GEO:43.6390028;-79.4232104
CREATED:20160407T211728Z
DTSTART:20160618T000000Z
DTEND:20160618T010000Z
DTSTAMP:20260426T020747Z
SUMMARY: Balls Deep vs. BOOMSHAKKALAKKA!
DESCRIPTION:BOOMSHAKKALAKKA! vs.  Balls DeepPlus d'info : #329
X-ALT-DESC;FMTTYPE=text/html:<!DOCTYPE HTML PUBLIC "-//W3C//DTD HTML 3.2//E
	N">\n<HTML>\n<HEAD>\n<TITLE></TITLE>\n</HEAD>\n<BODY>\n<h3>BOOMSHAKKALAKKA!
	 vs.  Balls Deep</h3>Plus d'info : <a href="https://www.golnetwork.com/game
	/v/85888/">#329</a>\n\n</BODY>\n</HTML>
STATUS:CONFIRMED
CLASS:PUBLIC
URL:https://www.golnetwork.com/game/v/85888/
X-MICROSOFT-CDO-BUSYSTATUS:BUSY
X-MICROSOFT-CDO-IMPORTANCE:1
END:VEVENT
BEGIN:VEVENT
UID:g8m9l@games.golnetwork.com
LOCATION:Lamport Stadium - Field 1
GEO:43.6390028;-79.4232104
CREATED:20160407T211728Z
DTSTART:20160611T010000Z
DTEND:20160611T020000Z
DTSTAMP:20260426T020747Z
SUMMARY:XTSC Descendants vs. BOOMSHAKKALAKKA!
DESCRIPTION:BOOMSHAKKALAKKA! vs. XTSC DescendantsPlus d'info : #271
X-ALT-DESC;FMTTYPE=text/html:<!DOCTYPE HTML PUBLIC "-//W3C//DTD HTML 3.2//E
	N">\n<HTML>\n<HEAD>\n<TITLE></TITLE>\n</HEAD>\n<BODY>\n<h3>BOOMSHAKKALAKKA!
	 vs. XTSC Descendants</h3>Plus d'info : <a href="https://www.golnetwork.com
	/game/v/85884/">#271</a>\n\n</BODY>\n</HTML>
STATUS:CONFIRMED
CLASS:PUBLIC
URL:https://www.golnetwork.com/game/v/85884/
X-MICROSOFT-CDO-BUSYSTATUS:BUSY
X-MICROSOFT-CDO-IMPORTANCE:1
END:VEVENT
BEGIN:VEVENT
UID:g8m9d@games.golnetwork.com
LOCATION:Lamport Stadium - Field 3
GEO:43.6390028;-79.4232104
CREATED:20160407T211728Z
DTSTART:20160604T010000Z
DTEND:20160604T020000Z
DTSTAMP:20260426T020747Z
SUMMARY:XTSC Ball Hogs vs. BOOMSHAKKALAKKA!
DESCRIPTION:BOOMSHAKKALAKKA! vs. XTSC Ball HogsPlus d'info : #210
X-ALT-DESC;FMTTYPE=text/html:<!DOCTYPE HTML PUBLIC "-//W3C//DTD HTML 3.2//E
	N">\n<HTML>\n<HEAD>\n<TITLE></TITLE>\n</HEAD>\n<BODY>\n<h3>BOOMSHAKKALAKKA!
	 vs. XTSC Ball Hogs</h3>Plus d'info : <a href="https://www.golnetwork.com/g
	ame/v/85880/">#210</a>\n\n</BODY>\n</HTML>
STATUS:CONFIRMED
CLASS:PUBLIC
URL:https://www.golnetwork.com/game/v/85880/
X-MICROSOFT-CDO-BUSYSTATUS:BUSY
X-MICROSOFT-CDO-IMPORTANCE:1
END:VEVENT
BEGIN:VEVENT
UID:g8m99@games.golnetwork.com
LOCATION:Lamport Stadium - Field 1
GEO:43.6390028;-79.4232104
CREATED:20160407T211728Z
DTSTART:20160528T000000Z
DTEND:20160528T010000Z
DTSTAMP:20260426T020747Z
SUMMARY:BOOMSHAKKALAKKA! vs. 9 Story
DESCRIPTION:9 Story vs. BOOMSHAKKALAKKA!Plus d'info : #143
X-ALT-DESC;FMTTYPE=text/html:<!DOCTYPE HTML PUBLIC "-//W3C//DTD HTML 3.2//E
	N">\n<HTML>\n<HEAD>\n<TITLE></TITLE>\n</HEAD>\n<BODY>\n<h3>9 Story vs. BOOM
	SHAKKALAKKA!</h3>Plus d'info : <a href="https://www.golnetwork.com/game/v/8
	5878/">#143</a>\n\n</BODY>\n</HTML>
STATUS:CONFIRMED
CLASS:PUBLIC
URL:https://www.golnetwork.com/game/v/85878/
X-MICROSOFT-CDO-BUSYSTATUS:BUSY
X-MICROSOFT-CDO-IMPORTANCE:1
END:VEVENT
BEGIN:VEVENT
UID:g8m95@games.golnetwork.com
LOCATION:Lamport Stadium - Field 1
GEO:43.6390028;-79.4232104
CREATED:20160407T211728Z
DTSTART:20160521T000000Z
DTEND:20160521T010000Z
DTSTAMP:20260426T020747Z
SUMMARY:BOOMSHAKKALAKKA! vs. Loose Cannons
DESCRIPTION:Loose Cannons vs. BOOMSHAKKALAKKA!Plus d'info : #104
X-ALT-DESC;FMTTYPE=text/html:<!DOCTYPE HTML PUBLIC "-//W3C//DTD HTML 3.2//E
	N">\n<HTML>\n<HEAD>\n<TITLE></TITLE>\n</HEAD>\n<BODY>\n<h3>Loose Cannons vs
	. BOOMSHAKKALAKKA!</h3>Plus d'info : <a href="https://www.golnetwork.com/ga
	me/v/85876/">#104</a>\n\n</BODY>\n</HTML>
STATUS:RESCHEDULED
CLASS:PUBLIC
URL:https://www.golnetwork.com/game/v/85876/
X-MICROSOFT-CDO-BUSYSTATUS:BUSY
X-MICROSOFT-CDO-IMPORTANCE:1
END:VEVENT
BEGIN:VEVENT
UID:g8m8q@games.golnetwork.com
LOCATION:Lamport Stadium - Field 3
GEO:43.6390028;-79.4232104
CREATED:20160407T211728Z
DTSTART:20160514T000000Z
DTEND:20160514T010000Z
DTSTAMP:20260426T020747Z
SUMMARY: Balls Deep vs. BOOMSHAKKALAKKA!
DESCRIPTION:BOOMSHAKKALAKKA! vs.  Balls DeepPlus d'info : #53
X-ALT-DESC;FMTTYPE=text/html:<!DOCTYPE HTML PUBLIC "-//W3C//DTD HTML 3.2//E
	N">\n<HTML>\n<HEAD>\n<TITLE></TITLE>\n</HEAD>\n<BODY>\n<h3>BOOMSHAKKALAKKA!
	 vs.  Balls Deep</h3>Plus d'info : <a href="https://www.golnetwork.com/game
	/v/85873/">#53</a>\n\n</BODY>\n</HTML>
STATUS:CONFIRMED
CLASS:PUBLIC
URL:https://www.golnetwork.com/game/v/85873/
X-MICROSOFT-CDO-BUSYSTATUS:BUSY
X-MICROSOFT-CDO-IMPORTANCE:1
END:VEVENT
BEGIN:VEVENT
UID:g8m8i@games.golnetwork.com
LOCATION:Lamport Stadium - Field 1
GEO:43.6390028;-79.4232104
CREATED:20160407T211728Z
DTSTART:20160507T010000Z
DTEND:20160507T020000Z
DTSTAMP:20260426T020747Z
SUMMARY:XTSC Descendants vs. BOOMSHAKKALAKKA!
DESCRIPTION:BOOMSHAKKALAKKA! vs. XTSC DescendantsPlus d'info : #29
X-ALT-DESC;FMTTYPE=text/html:<!DOCTYPE HTML PUBLIC "-//W3C//DTD HTML 3.2//E
	N">\n<HTML>\n<HEAD>\n<TITLE></TITLE>\n</HEAD>\n<BODY>\n<h3>BOOMSHAKKALAKKA!
	 vs. XTSC Descendants</h3>Plus d'info : <a href="https://www.golnetwork.com
	/game/v/85869/">#29</a>\n\n</BODY>\n</HTML>
STATUS:CONFIRMED
CLASS:PUBLIC
URL:https://www.golnetwork.com/game/v/85869/
X-MICROSOFT-CDO-BUSYSTATUS:BUSY
X-MICROSOFT-CDO-IMPORTANCE:1
END:VEVENT
END:VCALENDAR
