BEGIN:VCALENDAR
PRODID:-//gdesolutions.com//MV Framework 1.0.0.1607 Calendar//EN
VERSION:2.0
METHOD:PUBLISH
CALSCALE:GREGORIAN
BEGIN:VEVENT
UID:g73ec@games.golnetwork.com
LOCATION:Cherry Beach East 1
CREATED:20150507T225531Z
DTSTART:20150710T010000Z
DTEND:20150710T020000Z
DTSTAMP:20260423T012658Z
SUMMARY:Emergency FC vs. Pink Panthers FC
DESCRIPTION:Pink Panthers FC vs. Emergency FCPlus d'info : #460
X-ALT-DESC;FMTTYPE=text/html:<!DOCTYPE HTML PUBLIC "-//W3C//DTD HTML 3.2//E
	N">\n<HTML>\n<HEAD>\n<TITLE></TITLE>\n</HEAD>\n<BODY>\n<h3>Pink Panthers FC
	 vs. Emergency FC</h3>Plus d'info : <a href="https://www.golnetwork.com/gam
	e/v/69180/">#460</a>\n\n</BODY>\n</HTML>
STATUS:CONFIRMED
CLASS:PUBLIC
URL:https://www.golnetwork.com/game/v/69180/
X-MICROSOFT-CDO-BUSYSTATUS:BUSY
X-MICROSOFT-CDO-IMPORTANCE:1
END:VEVENT
BEGIN:VEVENT
UID:g73e8@games.golnetwork.com
LOCATION:Cherry Beach East 3
CREATED:20150507T225531Z
DTSTART:20150703T010000Z
DTEND:20150703T020000Z
DTSTAMP:20260423T012658Z
SUMMARY:Killtrocity FC vs. Pink Panthers FC
DESCRIPTION:Pink Panthers FC vs. Killtrocity FCPlus d'info : #416
X-ALT-DESC;FMTTYPE=text/html:<!DOCTYPE HTML PUBLIC "-//W3C//DTD HTML 3.2//E
	N">\n<HTML>\n<HEAD>\n<TITLE></TITLE>\n</HEAD>\n<BODY>\n<h3>Pink Panthers FC
	 vs. Killtrocity FC</h3>Plus d'info : <a href="https://www.golnetwork.com/g
	ame/v/69178/">#416</a>\n\n</BODY>\n</HTML>
STATUS:CONFIRMED
CLASS:PUBLIC
URL:https://www.golnetwork.com/game/v/69178/
X-MICROSOFT-CDO-BUSYSTATUS:BUSY
X-MICROSOFT-CDO-IMPORTANCE:1
END:VEVENT
END:VCALENDAR
