BEGIN:VCALENDAR
PRODID:-//gdesolutions.com//MV Framework 1.0.0.1607 Calendar//EN
VERSION:2.0
METHOD:PUBLISH
CALSCALE:GREGORIAN
BEGIN:VEVENT
UID:gaj4n@games.golnetwork.com
LOCATION:Jesse Ketchum Field
CREATED:20170424T150854Z
DTSTART:20170603T170000Z
DTEND:20170603T181500Z
DTSTAMP:20260419T201000Z
SUMMARY:The Orange vs. Never Wuzzes
DESCRIPTION:Never Wuzzes vs. The OrangePlus d'info : #33
X-ALT-DESC;FMTTYPE=text/html:<!DOCTYPE HTML PUBLIC "-//W3C//DTD HTML 3.2//E
	N">\n<HTML>\n<HEAD>\n<TITLE></TITLE>\n</HEAD>\n<BODY>\n<h3>Never Wuzzes vs.
	 The Orange</h3>Plus d'info : <a href="https://www.golnetwork.com/game/v/10
	4407/">#33</a>\n\n</BODY>\n</HTML>
STATUS:CONFIRMED
CLASS:PUBLIC
URL:https://www.golnetwork.com/game/v/104407/
X-MICROSOFT-CDO-BUSYSTATUS:BUSY
X-MICROSOFT-CDO-IMPORTANCE:1
END:VEVENT
END:VCALENDAR
