BEGIN:VCALENDAR
PRODID:-//gdesolutions.com//MV Framework 1.0.0.1607 Calendar//EN
VERSION:2.0
METHOD:PUBLISH
CALSCALE:GREGORIAN
BEGIN:VEVENT
UID:g6kmm@games.golnetwork.com
LOCATION:Jesse Ketchum Public School
GEO:43.6730545;-79.3911034
CREATED:20150303T134734Z
DTSTART:20150324T003000Z
DTEND:20150324T013000Z
DTSTAMP:20260422T084612Z
SUMMARY:The DJ Rav Goonsquad vs. Noob's Luck
DESCRIPTION:Noob's Luck vs. The DJ Rav GoonsquadPlus d'info : #31
X-ALT-DESC;FMTTYPE=text/html:<!DOCTYPE HTML PUBLIC "-//W3C//DTD HTML 3.2//E
	N">\n<HTML>\n<HEAD>\n<TITLE></TITLE>\n</HEAD>\n<BODY>\n<h3>Noob's Luck vs. 
	The DJ Rav Goonsquad</h3>Plus d'info : <a href="https://www.golnetwork.com/
	game/v/65648/">#31</a>\n\n</BODY>\n</HTML>
STATUS:CONFIRMED
CLASS:PUBLIC
URL:https://www.golnetwork.com/game/v/65648/
X-MICROSOFT-CDO-BUSYSTATUS:BUSY
X-MICROSOFT-CDO-IMPORTANCE:1
END:VEVENT
BEGIN:VEVENT
UID:g6a8e@games.golnetwork.com
LOCATION:Jesse Ketchum Public School
GEO:43.6730545;-79.3911034
CREATED:20141128T175035Z
DTSTART:20150309T223000Z
DTEND:20150309T233000Z
DTSTAMP:20260422T084612Z
SUMMARY:White Noise vs. The DJ Rav Goonsquad
DESCRIPTION:The DJ Rav Goonsquad vs. White NoisePlus d'info : #25
X-ALT-DESC;FMTTYPE=text/html:<!DOCTYPE HTML PUBLIC "-//W3C//DTD HTML 3.2//E
	N">\n<HTML>\n<HEAD>\n<TITLE></TITLE>\n</HEAD>\n<BODY>\n<h3>The DJ Rav Goons
	quad vs. White Noise</h3>Plus d'info : <a href="https://www.golnetwork.com/
	game/v/61810/">#25</a>\n\n</BODY>\n</HTML>
STATUS:CONFIRMED
CLASS:PUBLIC
URL:https://www.golnetwork.com/game/v/61810/
X-MICROSOFT-CDO-BUSYSTATUS:BUSY
X-MICROSOFT-CDO-IMPORTANCE:1
END:VEVENT
BEGIN:VEVENT
UID:g6a77@games.golnetwork.com
LOCATION:Jesse Ketchum Public School
GEO:43.6730545;-79.3911034
CREATED:20141128T175034Z
DTSTART:20150303T013000Z
DTEND:20150303T023000Z
DTSTAMP:20260422T084612Z
SUMMARY:The DJ Rav Goonsquad vs. Sapient FC (Black)
DESCRIPTION:Sapient FC (Black) vs. The DJ Rav GoonsquadPlus d'info : #24
X-ALT-DESC;FMTTYPE=text/html:<!DOCTYPE HTML PUBLIC "-//W3C//DTD HTML 3.2//E
	N">\n<HTML>\n<HEAD>\n<TITLE></TITLE>\n</HEAD>\n<BODY>\n<h3>Sapient FC (Blac
	k) vs. The DJ Rav Goonsquad</h3>Plus d'info : <a href="https://www.golnetwo
	rk.com/game/v/61793/">#24</a>\n\n</BODY>\n</HTML>
STATUS:CONFIRMED
CLASS:PUBLIC
URL:https://www.golnetwork.com/game/v/61793/
X-MICROSOFT-CDO-BUSYSTATUS:BUSY
X-MICROSOFT-CDO-IMPORTANCE:1
END:VEVENT
BEGIN:VEVENT
UID:g6a84@games.golnetwork.com
LOCATION:Jesse Ketchum Public School
GEO:43.6730545;-79.3911034
CREATED:20141128T175035Z
DTSTART:20150224T003000Z
DTEND:20150224T013000Z
DTSTAMP:20260422T084612Z
SUMMARY:The Pit Dwellers (Winter) vs. The DJ Rav Goonsquad
DESCRIPTION:The DJ Rav Goonsquad vs. The Pit Dwellers (Winter)Plus d'info :
	 #20
X-ALT-DESC;FMTTYPE=text/html:<!DOCTYPE HTML PUBLIC "-//W3C//DTD HTML 3.2//E
	N">\n<HTML>\n<HEAD>\n<TITLE></TITLE>\n</HEAD>\n<BODY>\n<h3>The DJ Rav Goons
	quad vs. The Pit Dwellers (Winter)</h3>Plus d'info : <a href="https://www.g
	olnetwork.com/game/v/61805/">#20</a>\n\n</BODY>\n</HTML>
STATUS:CONFIRMED
CLASS:PUBLIC
URL:https://www.golnetwork.com/game/v/61805/
X-MICROSOFT-CDO-BUSYSTATUS:BUSY
X-MICROSOFT-CDO-IMPORTANCE:1
END:VEVENT
BEGIN:VEVENT
UID:g6a7j@games.golnetwork.com
LOCATION:Jesse Ketchum Public School
GEO:43.6730545;-79.3911034
CREATED:20141128T175034Z
DTSTART:20150209T233000Z
DTEND:20150210T003000Z
DTSTAMP:20260422T084612Z
SUMMARY:White Noise vs. The DJ Rav Goonsquad
DESCRIPTION:The DJ Rav Goonsquad vs. White NoisePlus d'info : #16
X-ALT-DESC;FMTTYPE=text/html:<!DOCTYPE HTML PUBLIC "-//W3C//DTD HTML 3.2//E
	N">\n<HTML>\n<HEAD>\n<TITLE></TITLE>\n</HEAD>\n<BODY>\n<h3>The DJ Rav Goons
	quad vs. White Noise</h3>Plus d'info : <a href="https://www.golnetwork.com/
	game/v/61799/">#16</a>\n\n</BODY>\n</HTML>
STATUS:CONFIRMED
CLASS:PUBLIC
URL:https://www.golnetwork.com/game/v/61799/
X-MICROSOFT-CDO-BUSYSTATUS:BUSY
X-MICROSOFT-CDO-IMPORTANCE:1
END:VEVENT
BEGIN:VEVENT
UID:g6a7b@games.golnetwork.com
LOCATION:Jesse Ketchum Public School
GEO:43.6730545;-79.3911034
CREATED:20141128T175034Z
DTSTART:20150127T003000Z
DTEND:20150127T013000Z
DTSTAMP:20260422T084612Z
SUMMARY:The DJ Rav Goonsquad vs. The Pit Dwellers (Winter)
DESCRIPTION:The Pit Dwellers (Winter) vs. The DJ Rav GoonsquadPlus d'info :
	 #14
X-ALT-DESC;FMTTYPE=text/html:<!DOCTYPE HTML PUBLIC "-//W3C//DTD HTML 3.2//E
	N">\n<HTML>\n<HEAD>\n<TITLE></TITLE>\n</HEAD>\n<BODY>\n<h3>The Pit Dwellers
	 (Winter) vs. The DJ Rav Goonsquad</h3>Plus d'info : <a href="https://www.g
	olnetwork.com/game/v/61795/">#14</a>\n\n</BODY>\n</HTML>
STATUS:CONFIRMED
CLASS:PUBLIC
URL:https://www.golnetwork.com/game/v/61795/
X-MICROSOFT-CDO-BUSYSTATUS:BUSY
X-MICROSOFT-CDO-IMPORTANCE:1
END:VEVENT
BEGIN:VEVENT
UID:g6a80@games.golnetwork.com
LOCATION:Jesse Ketchum Public School
GEO:43.6730545;-79.3911034
CREATED:20141128T175034Z
DTSTART:20150120T013000Z
DTEND:20150120T023000Z
DTSTAMP:20260422T084612Z
SUMMARY:Noob's Luck vs. The DJ Rav Goonsquad
DESCRIPTION:The DJ Rav Goonsquad vs. Noob's LuckPlus d'info : #12
X-ALT-DESC;FMTTYPE=text/html:<!DOCTYPE HTML PUBLIC "-//W3C//DTD HTML 3.2//E
	N">\n<HTML>\n<HEAD>\n<TITLE></TITLE>\n</HEAD>\n<BODY>\n<h3>The DJ Rav Goons
	quad vs. Noob's Luck</h3>Plus d'info : <a href="https://www.golnetwork.com/
	game/v/61803/">#12</a>\n\n</BODY>\n</HTML>
STATUS:CONFIRMED
CLASS:PUBLIC
URL:https://www.golnetwork.com/game/v/61803/
X-MICROSOFT-CDO-BUSYSTATUS:BUSY
X-MICROSOFT-CDO-IMPORTANCE:1
END:VEVENT
BEGIN:VEVENT
UID:g6a71@games.golnetwork.com
LOCATION:Jesse Ketchum Public School
GEO:43.6730545;-79.3911034
CREATED:20141128T175034Z
DTSTART:20150112T233000Z
DTEND:20150113T003000Z
DTSTAMP:20260422T084612Z
SUMMARY:The DJ Rav Goonsquad vs. White Noise
DESCRIPTION:White Noise vs. The DJ Rav GoonsquadPlus d'info : #7
X-ALT-DESC;FMTTYPE=text/html:<!DOCTYPE HTML PUBLIC "-//W3C//DTD HTML 3.2//E
	N">\n<HTML>\n<HEAD>\n<TITLE></TITLE>\n</HEAD>\n<BODY>\n<h3>White Noise vs. 
	The DJ Rav Goonsquad</h3>Plus d'info : <a href="https://www.golnetwork.com/
	game/v/61790/">#7</a>\n\n</BODY>\n</HTML>
STATUS:CONFIRMED
CLASS:PUBLIC
URL:https://www.golnetwork.com/game/v/61790/
X-MICROSOFT-CDO-BUSYSTATUS:BUSY
X-MICROSOFT-CDO-IMPORTANCE:1
END:VEVENT
BEGIN:VEVENT
UID:g6a6o@games.golnetwork.com
LOCATION:Jesse Ketchum Public School
GEO:43.6730545;-79.3911034
CREATED:20141128T175034Z
DTSTART:20150106T013000Z
DTEND:20150106T023000Z
DTSTAMP:20260422T084612Z
SUMMARY:The DJ Rav Goonsquad vs. Sapient FC (Black)
DESCRIPTION:Sapient FC (Black) vs. The DJ Rav GoonsquadPlus d'info : #6
X-ALT-DESC;FMTTYPE=text/html:<!DOCTYPE HTML PUBLIC "-//W3C//DTD HTML 3.2//E
	N">\n<HTML>\n<HEAD>\n<TITLE></TITLE>\n</HEAD>\n<BODY>\n<h3>Sapient FC (Blac
	k) vs. The DJ Rav Goonsquad</h3>Plus d'info : <a href="https://www.golnetwo
	rk.com/game/v/61788/">#6</a>\n\n</BODY>\n</HTML>
STATUS:CONFIRMED
CLASS:PUBLIC
URL:https://www.golnetwork.com/game/v/61788/
X-MICROSOFT-CDO-BUSYSTATUS:BUSY
X-MICROSOFT-CDO-IMPORTANCE:1
END:VEVENT
BEGIN:VEVENT
UID:g6a6e@games.golnetwork.com
LOCATION:Jesse Ketchum Public School
GEO:43.6730545;-79.3911034
CREATED:20141128T175034Z
DTSTART:20141215T233000Z
DTEND:20141216T003000Z
DTSTAMP:20260422T084612Z
SUMMARY: Queens Park Rangers vs. The DJ Rav Goonsquad
DESCRIPTION:The DJ Rav Goonsquad vs.  Queens Park RangersPlus d'info : #1
X-ALT-DESC;FMTTYPE=text/html:<!DOCTYPE HTML PUBLIC "-//W3C//DTD HTML 3.2//E
	N">\n<HTML>\n<HEAD>\n<TITLE></TITLE>\n</HEAD>\n<BODY>\n<h3>The DJ Rav Goons
	quad vs.  Queens Park Rangers</h3>Plus d'info : <a href="https://www.golnet
	work.com/game/v/61783/">#1</a>\n\n</BODY>\n</HTML>
STATUS:CONFIRMED
CLASS:PUBLIC
URL:https://www.golnetwork.com/game/v/61783/
X-MICROSOFT-CDO-BUSYSTATUS:BUSY
X-MICROSOFT-CDO-IMPORTANCE:1
END:VEVENT
END:VCALENDAR
