BEGIN:VCALENDAR
PRODID:-//gdesolutions.com//MV Framework 1.0.0.1607 Calendar//EN
VERSION:2.0
METHOD:PUBLISH
CALSCALE:GREGORIAN
BEGIN:VEVENT
UID:gf2pi@games.golnetwork.com
LOCATION:Louis Riel #3
GEO:45.4410208;-75.5715394
CREATED:20190719T220841Z
DTSTART:20190725T233000Z
DTEND:20190726T010000Z
DTSTAMP:20260422T040925Z
SUMMARY:Happy Feet vs. Junkyard Dogs
DESCRIPTION:Junkyard Dogs vs. Happy FeetPlus d'info : #88
X-ALT-DESC;FMTTYPE=text/html:<!DOCTYPE HTML PUBLIC "-//W3C//DTD HTML 3.2//E
	N">\n<HTML>\n<HEAD>\n<TITLE></TITLE>\n</HEAD>\n<BODY>\n<h3>Junkyard Dogs vs
	. Happy Feet</h3>Plus d'info : <a href="https://www.golnetwork.com/game/v/1
	47699/">#88</a>\n\n</BODY>\n</HTML>
STATUS:CONFIRMED
CLASS:PUBLIC
URL:https://www.golnetwork.com/game/v/147699/
X-MICROSOFT-CDO-BUSYSTATUS:BUSY
X-MICROSOFT-CDO-IMPORTANCE:1
END:VEVENT
BEGIN:VEVENT
UID:gf26d@games.golnetwork.com
LOCATION:Louis Riel #3
GEO:45.4410208;-75.5715394
CREATED:20190714T165051Z
DTSTART:20190719T010000Z
DTEND:20190719T023000Z
DTSTAMP:20260422T040925Z
SUMMARY:Nat & The Wookies vs. Junkyard Dogs
DESCRIPTION:Junkyard Dogs vs. Nat & The WookiesPlus d'info : #82
X-ALT-DESC;FMTTYPE=text/html:<!DOCTYPE HTML PUBLIC "-//W3C//DTD HTML 3.2//E
	N">\n<HTML>\n<HEAD>\n<TITLE></TITLE>\n</HEAD>\n<BODY>\n<h3>Junkyard Dogs vs
	. Nat & The Wookies</h3>Plus d'info : <a href="https://www.golnetwork.com/g
	ame/v/147440/">#82</a>\n\n</BODY>\n</HTML>
STATUS:CONFIRMED
CLASS:PUBLIC
URL:https://www.golnetwork.com/game/v/147440/
X-MICROSOFT-CDO-BUSYSTATUS:BUSY
X-MICROSOFT-CDO-IMPORTANCE:1
END:VEVENT
BEGIN:VEVENT
UID:gf184@games.golnetwork.com
LOCATION:Louis Riel #2
GEO:45.4410208;-75.5715394
CREATED:20190708T160410Z
DTSTART:20190711T233000Z
DTEND:20190712T010000Z
DTSTAMP:20260422T040925Z
SUMMARY:50 Shades of Pink vs. Junkyard Dogs
DESCRIPTION:Junkyard Dogs vs. 50 Shades of PinkPlus d'info : #67
X-ALT-DESC;FMTTYPE=text/html:<!DOCTYPE HTML PUBLIC "-//W3C//DTD HTML 3.2//E
	N">\n<HTML>\n<HEAD>\n<TITLE></TITLE>\n</HEAD>\n<BODY>\n<h3>Junkyard Dogs vs
	. 50 Shades of Pink</h3>Plus d'info : <a href="https://www.golnetwork.com/g
	ame/v/147098/">#67</a>\n\n</BODY>\n</HTML>
STATUS:CONFIRMED
CLASS:PUBLIC
URL:https://www.golnetwork.com/game/v/147098/
X-MICROSOFT-CDO-BUSYSTATUS:BUSY
X-MICROSOFT-CDO-IMPORTANCE:1
END:VEVENT
BEGIN:VEVENT
UID:gf0ja@games.golnetwork.com
LOCATION:Louis Riel #3
GEO:45.4410208;-75.5715394
CREATED:20190628T145355Z
DTSTART:20190705T010000Z
DTEND:20190705T023000Z
DTSTAMP:20260422T040925Z
SUMMARY:Junkyard Dogs vs. Maroon 7
DESCRIPTION:Maroon 7 vs. Junkyard DogsPlus d'info : #62
X-ALT-DESC;FMTTYPE=text/html:<!DOCTYPE HTML PUBLIC "-//W3C//DTD HTML 3.2//E
	N">\n<HTML>\n<HEAD>\n<TITLE></TITLE>\n</HEAD>\n<BODY>\n<h3>Maroon 7 vs. Jun
	kyard Dogs</h3>Plus d'info : <a href="https://www.golnetwork.com/game/v/146
	885/">#62</a>\n\n</BODY>\n</HTML>
STATUS:CONFIRMED
CLASS:PUBLIC
URL:https://www.golnetwork.com/game/v/146885/
X-MICROSOFT-CDO-BUSYSTATUS:BUSY
X-MICROSOFT-CDO-IMPORTANCE:1
END:VEVENT
BEGIN:VEVENT
UID:gf0g3@games.golnetwork.com
LOCATION:Louis Riel #3
GEO:45.4410208;-75.5715394
CREATED:20190624T062242Z
DTSTART:20190627T233000Z
DTEND:20190628T010000Z
DTSTAMP:20260422T040925Z
SUMMARY:Strikers vs. Junkyard Dogs
DESCRIPTION:Junkyard Dogs vs. StrikersPlus d'info : #49
X-ALT-DESC;FMTTYPE=text/html:<!DOCTYPE HTML PUBLIC "-//W3C//DTD HTML 3.2//E
	N">\n<HTML>\n<HEAD>\n<TITLE></TITLE>\n</HEAD>\n<BODY>\n<h3>Junkyard Dogs vs
	. Strikers</h3>Plus d'info : <a href="https://www.golnetwork.com/game/v/146
	841/">#49</a>\n\n</BODY>\n</HTML>
STATUS:CONFIRMED
CLASS:PUBLIC
URL:https://www.golnetwork.com/game/v/146841/
X-MICROSOFT-CDO-BUSYSTATUS:BUSY
X-MICROSOFT-CDO-IMPORTANCE:1
END:VEVENT
BEGIN:VEVENT
UID:gep72@games.golnetwork.com
LOCATION:Hornet's Nest #1
GEO:45.4428309;-75.575268
CREATED:20190527T050827Z
DTSTART:20190621T000000Z
DTEND:20190621T013000Z
DTSTAMP:20260422T040925Z
SUMMARY:Upper Rec Ind 1 vs. Junkyard Dogs
DESCRIPTION:Junkyard Dogs vs. Upper Rec Ind 1Plus d'info : #40
X-ALT-DESC;FMTTYPE=text/html:<!DOCTYPE HTML PUBLIC "-//W3C//DTD HTML 3.2//E
	N">\n<HTML>\n<HEAD>\n<TITLE></TITLE>\n</HEAD>\n<BODY>\n<h3>Junkyard Dogs vs
	. Upper Rec Ind 1</h3>Plus d'info : <a href="https://www.golnetwork.com/gam
	e/v/145990/">#40</a>\n\n</BODY>\n</HTML>
STATUS:CONFIRMED
CLASS:PUBLIC
URL:https://www.golnetwork.com/game/v/145990/
X-MICROSOFT-CDO-BUSYSTATUS:BUSY
X-MICROSOFT-CDO-IMPORTANCE:1
END:VEVENT
BEGIN:VEVENT
UID:gep63@games.golnetwork.com
LOCATION:Louis Riel #3
GEO:45.4410208;-75.5715394
CREATED:20190527T050449Z
DTSTART:20190614T010000Z
DTEND:20190614T023000Z
DTSTAMP:20260422T040925Z
SUMMARY:Junkyard Dogs vs. Los Portunese Vikings
DESCRIPTION:Los Portunese Vikings vs. Junkyard DogsPlus d'info : #32
X-ALT-DESC;FMTTYPE=text/html:<!DOCTYPE HTML PUBLIC "-//W3C//DTD HTML 3.2//E
	N">\n<HTML>\n<HEAD>\n<TITLE></TITLE>\n</HEAD>\n<BODY>\n<h3>Los Portunese Vi
	kings vs. Junkyard Dogs</h3>Plus d'info : <a href="https://www.golnetwork.c
	om/game/v/145977/">#32</a>\n\n</BODY>\n</HTML>
STATUS:CONFIRMED
CLASS:PUBLIC
URL:https://www.golnetwork.com/game/v/145977/
X-MICROSOFT-CDO-BUSYSTATUS:BUSY
X-MICROSOFT-CDO-IMPORTANCE:1
END:VEVENT
BEGIN:VEVENT
UID:geq82@games.golnetwork.com
LOCATION:Louis Riel #2
GEO:45.4410208;-75.5715394
CREATED:20190603T160635Z
DTSTART:20190606T233000Z
DTEND:20190607T010000Z
DTSTAMP:20260422T040925Z
SUMMARY:Grass Stains vs. Junkyard Dogs
DESCRIPTION:Junkyard Dogs vs. Grass StainsPlus d'info : #16
X-ALT-DESC;FMTTYPE=text/html:<!DOCTYPE HTML PUBLIC "-//W3C//DTD HTML 3.2//E
	N">\n<HTML>\n<HEAD>\n<TITLE></TITLE>\n</HEAD>\n<BODY>\n<h3>Junkyard Dogs vs
	. Grass Stains</h3>Plus d'info : <a href="https://www.golnetwork.com/game/v
	/146368/">#16</a>\n\n</BODY>\n</HTML>
STATUS:CONFIRMED
CLASS:PUBLIC
URL:https://www.golnetwork.com/game/v/146368/
X-MICROSOFT-CDO-BUSYSTATUS:BUSY
X-MICROSOFT-CDO-IMPORTANCE:1
END:VEVENT
BEGIN:VEVENT
UID:gelfm@games.golnetwork.com
LOCATION:Louis Riel #2
GEO:45.4410208;-75.5715394
CREATED:20190525T205156Z
DTSTART:20190531T010000Z
DTEND:20190531T023000Z
DTSTAMP:20260422T040925Z
SUMMARY:TBD vs. Junkyard Dogs
DESCRIPTION:Junkyard Dogs vs. TBDPlus d'info : #10
X-ALT-DESC;FMTTYPE=text/html:<!DOCTYPE HTML PUBLIC "-//W3C//DTD HTML 3.2//E
	N">\n<HTML>\n<HEAD>\n<TITLE></TITLE>\n</HEAD>\n<BODY>\n<h3>Junkyard Dogs vs
	. TBD</h3>Plus d'info : <a href="https://www.golnetwork.com/game/v/144650/"
	>#10</a>\n\n</BODY>\n</HTML>
STATUS:CONFIRMED
CLASS:PUBLIC
URL:https://www.golnetwork.com/game/v/144650/
X-MICROSOFT-CDO-BUSYSTATUS:BUSY
X-MICROSOFT-CDO-IMPORTANCE:1
END:VEVENT
END:VCALENDAR
