BEGIN:VCALENDAR
PRODID:-//gdesolutions.com//MV Framework 1.0.0.1607 Calendar//EN
VERSION:2.0
METHOD:PUBLISH
CALSCALE:GREGORIAN
BEGIN:VEVENT
UID:g62gc@games.golnetwork.com
LOCATION:Marianopolis #1
GEO:45.4807868;-73.610845
CREATED:20141005T230511Z
DTSTART:20150301T220000Z
DTEND:20150301T230000Z
DTSTAMP:20260421T052407Z
SUMMARY:MID 30'S vs. P SQUAD
DESCRIPTION:P SQUAD vs. MID 30'SPlus d'info : #413
X-ALT-DESC;FMTTYPE=text/html:<!DOCTYPE HTML PUBLIC "-//W3C//DTD HTML 3.2//E
	N">\n<HTML>\n<HEAD>\n<TITLE></TITLE>\n</HEAD>\n<BODY>\n<h3>P SQUAD vs. MID 
	30'S</h3>Plus d'info : <a href="https://www.golnetwork.com/game/v/59001/">#
	413</a>\n\n</BODY>\n</HTML>
STATUS:CONFIRMED
CLASS:PUBLIC
URL:https://www.golnetwork.com/game/v/59001/
X-MICROSOFT-CDO-BUSYSTATUS:BUSY
X-MICROSOFT-CDO-IMPORTANCE:1
END:VEVENT
BEGIN:VEVENT
UID:g62fp@games.golnetwork.com
LOCATION:CVM - Court #1
GEO:45.5146585;-73.5658635
CREATED:20141005T230511Z
DTSTART:20150224T023000Z
DTEND:20150224T033000Z
DTSTAMP:20260421T052407Z
SUMMARY:MID 30'S vs. SPORTING
DESCRIPTION:SPORTING vs. MID 30'SPlus d'info : #404
X-ALT-DESC;FMTTYPE=text/html:<!DOCTYPE HTML PUBLIC "-//W3C//DTD HTML 3.2//E
	N">\n<HTML>\n<HEAD>\n<TITLE></TITLE>\n</HEAD>\n<BODY>\n<h3>SPORTING vs. MID
	 30'S</h3>Plus d'info : <a href="https://www.golnetwork.com/game/v/58994/">
	#404</a>\n\n</BODY>\n</HTML>
STATUS:CONFIRMED
CLASS:PUBLIC
URL:https://www.golnetwork.com/game/v/58994/
X-MICROSOFT-CDO-BUSYSTATUS:BUSY
X-MICROSOFT-CDO-IMPORTANCE:1
END:VEVENT
BEGIN:VEVENT
UID:g62f7@games.golnetwork.com
LOCATION:CVM - Court #1
GEO:45.5146585;-73.5658635
CREATED:20141005T230511Z
DTSTART:20150217T003000Z
DTEND:20150217T013000Z
DTSTAMP:20260421T052407Z
SUMMARY:NAYLOR vs. MID 30'S
DESCRIPTION:MID 30'S vs. NAYLORPlus d'info : #370
X-ALT-DESC;FMTTYPE=text/html:<!DOCTYPE HTML PUBLIC "-//W3C//DTD HTML 3.2//E
	N">\n<HTML>\n<HEAD>\n<TITLE></TITLE>\n</HEAD>\n<BODY>\n<h3>MID 30'S vs. NAY
	LOR</h3>Plus d'info : <a href="https://www.golnetwork.com/game/v/58985/">#3
	70</a>\n\n</BODY>\n</HTML>
STATUS:CONFIRMED
CLASS:PUBLIC
URL:https://www.golnetwork.com/game/v/58985/
X-MICROSOFT-CDO-BUSYSTATUS:BUSY
X-MICROSOFT-CDO-IMPORTANCE:1
END:VEVENT
BEGIN:VEVENT
UID:g62eg@games.golnetwork.com
LOCATION:CVM - Court #1
GEO:45.5146585;-73.5658635
CREATED:20141005T230511Z
DTSTART:20150210T013000Z
DTEND:20150210T023000Z
DTSTAMP:20260421T052407Z
SUMMARY:MID 30'S vs. WILDCATS
DESCRIPTION:WILDCATS vs. MID 30'SPlus d'info : #349
X-ALT-DESC;FMTTYPE=text/html:<!DOCTYPE HTML PUBLIC "-//W3C//DTD HTML 3.2//E
	N">\n<HTML>\n<HEAD>\n<TITLE></TITLE>\n</HEAD>\n<BODY>\n<h3>WILDCATS vs. MID
	 30'S</h3>Plus d'info : <a href="https://www.golnetwork.com/game/v/58976/">
	#349</a>\n\n</BODY>\n</HTML>
STATUS:CONFIRMED
CLASS:PUBLIC
URL:https://www.golnetwork.com/game/v/58976/
X-MICROSOFT-CDO-BUSYSTATUS:BUSY
X-MICROSOFT-CDO-IMPORTANCE:1
END:VEVENT
BEGIN:VEVENT
UID:g62c0@games.golnetwork.com
LOCATION:Marianopolis #1
GEO:45.4807868;-73.610845
CREATED:20141005T230511Z
DTSTART:20150209T020000Z
DTEND:20150209T030000Z
DTSTAMP:20260421T052407Z
SUMMARY:MID 30'S vs. SHURIK'N
DESCRIPTION:SHURIK'N vs. MID 30'SPlus d'info : #345
X-ALT-DESC;FMTTYPE=text/html:<!DOCTYPE HTML PUBLIC "-//W3C//DTD HTML 3.2//E
	N">\n<HTML>\n<HEAD>\n<TITLE></TITLE>\n</HEAD>\n<BODY>\n<h3>SHURIK'N vs. MID
	 30'S</h3>Plus d'info : <a href="https://www.golnetwork.com/game/v/58941/">
	#345</a>\n\n</BODY>\n</HTML>
STATUS:CONFIRMED
CLASS:PUBLIC
URL:https://www.golnetwork.com/game/v/58941/
X-MICROSOFT-CDO-BUSYSTATUS:BUSY
X-MICROSOFT-CDO-IMPORTANCE:1
END:VEVENT
BEGIN:VEVENT
UID:g62e2@games.golnetwork.com
LOCATION:CVM - Court #1
GEO:45.5146585;-73.5658635
CREATED:20141005T230511Z
DTSTART:20150203T003000Z
DTEND:20150203T013000Z
DTSTAMP:20260421T052407Z
SUMMARY:MID 30'S vs. SPANK
DESCRIPTION:SPANK vs. MID 30'SPlus d'info : #318
X-ALT-DESC;FMTTYPE=text/html:<!DOCTYPE HTML PUBLIC "-//W3C//DTD HTML 3.2//E
	N">\n<HTML>\n<HEAD>\n<TITLE></TITLE>\n</HEAD>\n<BODY>\n<h3>SPANK vs. MID 30
	'S</h3>Plus d'info : <a href="https://www.golnetwork.com/game/v/58969/">#31
	8</a>\n\n</BODY>\n</HTML>
STATUS:CONFIRMED
CLASS:PUBLIC
URL:https://www.golnetwork.com/game/v/58969/
X-MICROSOFT-CDO-BUSYSTATUS:BUSY
X-MICROSOFT-CDO-IMPORTANCE:1
END:VEVENT
BEGIN:VEVENT
UID:g62df@games.golnetwork.com
LOCATION:CVM - Court #1
GEO:45.5146585;-73.5658635
CREATED:20141005T230511Z
DTSTART:20150127T023000Z
DTEND:20150127T033000Z
DTSTAMP:20260421T052407Z
SUMMARY:MID 30'S vs. MARCHAL
DESCRIPTION:MARCHAL vs. MID 30'SPlus d'info : #302
X-ALT-DESC;FMTTYPE=text/html:<!DOCTYPE HTML PUBLIC "-//W3C//DTD HTML 3.2//E
	N">\n<HTML>\n<HEAD>\n<TITLE></TITLE>\n</HEAD>\n<BODY>\n<h3>MARCHAL vs. MID 
	30'S</h3>Plus d'info : <a href="https://www.golnetwork.com/game/v/58962/">#
	302</a>\n\n</BODY>\n</HTML>
STATUS:CONFIRMED
CLASS:PUBLIC
URL:https://www.golnetwork.com/game/v/58962/
X-MICROSOFT-CDO-BUSYSTATUS:BUSY
X-MICROSOFT-CDO-IMPORTANCE:1
END:VEVENT
BEGIN:VEVENT
UID:g62d1@games.golnetwork.com
LOCATION:CVM - Court #1
GEO:45.5146585;-73.5658635
CREATED:20141005T230511Z
DTSTART:20150120T003000Z
DTEND:20150120T013000Z
DTSTAMP:20260421T052407Z
SUMMARY:MID 30'S vs. CREAM TEAM
DESCRIPTION:CREAM TEAM vs. MID 30'SPlus d'info : #269
X-ALT-DESC;FMTTYPE=text/html:<!DOCTYPE HTML PUBLIC "-//W3C//DTD HTML 3.2//E
	N">\n<HTML>\n<HEAD>\n<TITLE></TITLE>\n</HEAD>\n<BODY>\n<h3>CREAM TEAM vs. M
	ID 30'S</h3>Plus d'info : <a href="https://www.golnetwork.com/game/v/58955/
	">#269</a>\n\n</BODY>\n</HTML>
STATUS:CONFIRMED
CLASS:PUBLIC
URL:https://www.golnetwork.com/game/v/58955/
X-MICROSOFT-CDO-BUSYSTATUS:BUSY
X-MICROSOFT-CDO-IMPORTANCE:1
END:VEVENT
BEGIN:VEVENT
UID:g62ce@games.golnetwork.com
LOCATION:CVM - Court #1
GEO:45.5146585;-73.5658635
CREATED:20141005T230511Z
DTSTART:20150113T023000Z
DTEND:20150113T033000Z
DTSTAMP:20260421T052407Z
SUMMARY:MID 30'S vs. WARRIORS
DESCRIPTION:WARRIORS vs. MID 30'SPlus d'info : #249
X-ALT-DESC;FMTTYPE=text/html:<!DOCTYPE HTML PUBLIC "-//W3C//DTD HTML 3.2//E
	N">\n<HTML>\n<HEAD>\n<TITLE></TITLE>\n</HEAD>\n<BODY>\n<h3>WARRIORS vs. MID
	 30'S</h3>Plus d'info : <a href="https://www.golnetwork.com/game/v/58948/">
	#249</a>\n\n</BODY>\n</HTML>
STATUS:CONFIRMED
CLASS:PUBLIC
URL:https://www.golnetwork.com/game/v/58948/
X-MICROSOFT-CDO-BUSYSTATUS:BUSY
X-MICROSOFT-CDO-IMPORTANCE:1
END:VEVENT
BEGIN:VEVENT
UID:g62bd@games.golnetwork.com
LOCATION:CVM - Court #1
GEO:45.5146585;-73.5658635
CREATED:20141005T230510Z
DTSTART:20141209T003000Z
DTEND:20141209T013000Z
DTSTAMP:20260421T052407Z
SUMMARY:MID 30'S vs. HUSKY'S
DESCRIPTION:HUSKY'S vs. MID 30'SPlus d'info : #191
X-ALT-DESC;FMTTYPE=text/html:<!DOCTYPE HTML PUBLIC "-//W3C//DTD HTML 3.2//E
	N">\n<HTML>\n<HEAD>\n<TITLE></TITLE>\n</HEAD>\n<BODY>\n<h3>HUSKY'S vs. MID 
	30'S</h3>Plus d'info : <a href="https://www.golnetwork.com/game/v/58934/">#
	191</a>\n\n</BODY>\n</HTML>
STATUS:CONFIRMED
CLASS:PUBLIC
URL:https://www.golnetwork.com/game/v/58934/
X-MICROSOFT-CDO-BUSYSTATUS:BUSY
X-MICROSOFT-CDO-IMPORTANCE:1
END:VEVENT
BEGIN:VEVENT
UID:g62aq@games.golnetwork.com
LOCATION:CVM - Court #1
GEO:45.5146585;-73.5658635
CREATED:20141005T230510Z
DTSTART:20141202T013000Z
DTEND:20141202T023000Z
DTSTAMP:20260421T052407Z
SUMMARY:MID 30'S vs. DADOLLE 2
DESCRIPTION:DADOLLE 2 vs. MID 30'SPlus d'info : #170
X-ALT-DESC;FMTTYPE=text/html:<!DOCTYPE HTML PUBLIC "-//W3C//DTD HTML 3.2//E
	N">\n<HTML>\n<HEAD>\n<TITLE></TITLE>\n</HEAD>\n<BODY>\n<h3>DADOLLE 2 vs. MI
	D 30'S</h3>Plus d'info : <a href="https://www.golnetwork.com/game/v/58927/"
	>#170</a>\n\n</BODY>\n</HTML>
STATUS:CONFIRMED
CLASS:PUBLIC
URL:https://www.golnetwork.com/game/v/58927/
X-MICROSOFT-CDO-BUSYSTATUS:BUSY
X-MICROSOFT-CDO-IMPORTANCE:1
END:VEVENT
BEGIN:VEVENT
UID:g62aa@games.golnetwork.com
LOCATION:CVM - Court #1
GEO:45.5146585;-73.5658635
CREATED:20141005T230510Z
DTSTART:20141127T023000Z
DTEND:20141127T033000Z
DTSTAMP:20260421T052407Z
SUMMARY:BRAND NU vs. MID 30'S
DESCRIPTION:MID 30'S vs. BRAND NUPlus d'info : #156
X-ALT-DESC;FMTTYPE=text/html:<!DOCTYPE HTML PUBLIC "-//W3C//DTD HTML 3.2//E
	N">\n<HTML>\n<HEAD>\n<TITLE></TITLE>\n</HEAD>\n<BODY>\n<h3>MID 30'S vs. BRA
	ND NU</h3>Plus d'info : <a href="https://www.golnetwork.com/game/v/58919/">
	#156</a>\n\n</BODY>\n</HTML>
STATUS:CONFIRMED
CLASS:PUBLIC
URL:https://www.golnetwork.com/game/v/58919/
X-MICROSOFT-CDO-BUSYSTATUS:BUSY
X-MICROSOFT-CDO-IMPORTANCE:1
END:VEVENT
BEGIN:VEVENT
UID:g629j@games.golnetwork.com
LOCATION:CVM - Court #1
GEO:45.5146585;-73.5658635
CREATED:20141005T230510Z
DTSTART:20141118T013000Z
DTEND:20141118T023000Z
DTSTAMP:20260421T052407Z
SUMMARY:ESCOUADE vs. MID 30'S
DESCRIPTION:MID 30'S vs. ESCOUADEPlus d'info : #117
X-ALT-DESC;FMTTYPE=text/html:<!DOCTYPE HTML PUBLIC "-//W3C//DTD HTML 3.2//E
	N">\n<HTML>\n<HEAD>\n<TITLE></TITLE>\n</HEAD>\n<BODY>\n<h3>MID 30'S vs. ESC
	OUADE</h3>Plus d'info : <a href="https://www.golnetwork.com/game/v/58910/">
	#117</a>\n\n</BODY>\n</HTML>
STATUS:CONFIRMED
CLASS:PUBLIC
URL:https://www.golnetwork.com/game/v/58910/
X-MICROSOFT-CDO-BUSYSTATUS:BUSY
X-MICROSOFT-CDO-IMPORTANCE:1
END:VEVENT
BEGIN:VEVENT
UID:g6291@games.golnetwork.com
LOCATION:CVM - Court #1
GEO:45.5146585;-73.5658635
CREATED:20141005T230510Z
DTSTART:20141111T013000Z
DTEND:20141111T023000Z
DTSTAMP:20260421T052407Z
SUMMARY:P SQUAD vs. MID 30'S
DESCRIPTION:MID 30'S vs. P SQUADPlus d'info : #89
X-ALT-DESC;FMTTYPE=text/html:<!DOCTYPE HTML PUBLIC "-//W3C//DTD HTML 3.2//E
	N">\n<HTML>\n<HEAD>\n<TITLE></TITLE>\n</HEAD>\n<BODY>\n<h3>MID 30'S vs. P S
	QUAD</h3>Plus d'info : <a href="https://www.golnetwork.com/game/v/58901/">#
	89</a>\n\n</BODY>\n</HTML>
STATUS:CONFIRMED
CLASS:PUBLIC
URL:https://www.golnetwork.com/game/v/58901/
X-MICROSOFT-CDO-BUSYSTATUS:BUSY
X-MICROSOFT-CDO-IMPORTANCE:1
END:VEVENT
BEGIN:VEVENT
UID:g628a@games.golnetwork.com
LOCATION:CVM - Court #1
GEO:45.5146585;-73.5658635
CREATED:20141005T230510Z
DTSTART:20141104T013000Z
DTEND:20141104T023000Z
DTSTAMP:20260421T052407Z
SUMMARY:VAILLANCOURT vs. MID 30'S
DESCRIPTION:MID 30'S vs. VAILLANCOURTPlus d'info : #60
X-ALT-DESC;FMTTYPE=text/html:<!DOCTYPE HTML PUBLIC "-//W3C//DTD HTML 3.2//E
	N">\n<HTML>\n<HEAD>\n<TITLE></TITLE>\n</HEAD>\n<BODY>\n<h3>MID 30'S vs. VAI
	LLANCOURT</h3>Plus d'info : <a href="https://www.golnetwork.com/game/v/5889
	2/">#60</a>\n\n</BODY>\n</HTML>
STATUS:CONFIRMED
CLASS:PUBLIC
URL:https://www.golnetwork.com/game/v/58892/
X-MICROSOFT-CDO-BUSYSTATUS:BUSY
X-MICROSOFT-CDO-IMPORTANCE:1
END:VEVENT
BEGIN:VEVENT
UID:g627j@games.golnetwork.com
LOCATION:CVM - Court #1
GEO:45.5146585;-73.5658635
CREATED:20141005T230510Z
DTSTART:20141028T003000Z
DTEND:20141028T013000Z
DTSTAMP:20260421T052407Z
SUMMARY:SPORTING vs. MID 30'S
DESCRIPTION:MID 30'S vs. SPORTINGPlus d'info : #40
X-ALT-DESC;FMTTYPE=text/html:<!DOCTYPE HTML PUBLIC "-//W3C//DTD HTML 3.2//E
	N">\n<HTML>\n<HEAD>\n<TITLE></TITLE>\n</HEAD>\n<BODY>\n<h3>MID 30'S vs. SPO
	RTING</h3>Plus d'info : <a href="https://www.golnetwork.com/game/v/58883/">
	#40</a>\n\n</BODY>\n</HTML>
STATUS:CONFIRMED
CLASS:PUBLIC
URL:https://www.golnetwork.com/game/v/58883/
X-MICROSOFT-CDO-BUSYSTATUS:BUSY
X-MICROSOFT-CDO-IMPORTANCE:1
END:VEVENT
BEGIN:VEVENT
UID:g6271@games.golnetwork.com
LOCATION:École Alex Manoogian
GEO:45.5176467;-73.667044
CREATED:20141005T230510Z
DTSTART:20141021T003000Z
DTEND:20141021T013000Z
DTSTAMP:20260421T052407Z
SUMMARY:AGBU vs. MID 30'S
DESCRIPTION:MID 30'S vs. AGBUPlus d'info : #14
X-ALT-DESC;FMTTYPE=text/html:<!DOCTYPE HTML PUBLIC "-//W3C//DTD HTML 3.2//E
	N">\n<HTML>\n<HEAD>\n<TITLE></TITLE>\n</HEAD>\n<BODY>\n<h3>MID 30'S vs. AGB
	U</h3>Plus d'info : <a href="https://www.golnetwork.com/game/v/58874/">#14<
	/a>\n\n</BODY>\n</HTML>
STATUS:CONFIRMED
CLASS:PUBLIC
URL:https://www.golnetwork.com/game/v/58874/
X-MICROSOFT-CDO-BUSYSTATUS:BUSY
X-MICROSOFT-CDO-IMPORTANCE:1
END:VEVENT
END:VCALENDAR
