BEGIN:VCALENDAR
PRODID:-//gdesolutions.com//MV Framework 1.0.0.1607 Calendar//EN
VERSION:2.0
METHOD:PUBLISH
CALSCALE:GREGORIAN
BEGIN:VEVENT
UID:gbm67@games.golnetwork.com
LOCATION:CVM - Court #1
GEO:45.5146585;-73.5658635
CREATED:20171016T021421Z
DTSTART:20180326T003000Z
DTEND:20180326T013000Z
DTSTAMP:20260423T024927Z
SUMMARY:NO EZ BASKET vs. THE REPLACEMENTS
DESCRIPTION:THE REPLACEMENTS vs. NO EZ BASKETPlus d'info : #502
X-ALT-DESC;FMTTYPE=text/html:<!DOCTYPE HTML PUBLIC "-//W3C//DTD HTML 3.2//E
	N">\n<HTML>\n<HEAD>\n<TITLE></TITLE>\n</HEAD>\n<BODY>\n<h3>THE REPLACEMENTS
	 vs. NO EZ BASKET</h3>Plus d'info : <a href="https://www.golnetwork.com/gam
	e/v/115361/">#502</a>\n\n</BODY>\n</HTML>
STATUS:CONFIRMED
CLASS:PUBLIC
URL:https://www.golnetwork.com/game/v/115361/
X-MICROSOFT-CDO-BUSYSTATUS:BUSY
X-MICROSOFT-CDO-IMPORTANCE:1
END:VEVENT
BEGIN:VEVENT
UID:gbm56@games.golnetwork.com
LOCATION:CVM - Court #1
GEO:45.5146585;-73.5658635
CREATED:20171016T021421Z
DTSTART:20180319T233000Z
DTEND:20180320T003000Z
DTSTAMP:20260423T024927Z
SUMMARY:NO EZ BASKET vs. 90's LEGENDS
DESCRIPTION:90's LEGENDS vs. NO EZ BASKETPlus d'info : #487
X-ALT-DESC;FMTTYPE=text/html:<!DOCTYPE HTML PUBLIC "-//W3C//DTD HTML 3.2//E
	N">\n<HTML>\n<HEAD>\n<TITLE></TITLE>\n</HEAD>\n<BODY>\n<h3>90's LEGENDS vs.
	 NO EZ BASKET</h3>Plus d'info : <a href="https://www.golnetwork.com/game/v/
	115347/">#487</a>\n\n</BODY>\n</HTML>
STATUS:CONFIRMED
CLASS:PUBLIC
URL:https://www.golnetwork.com/game/v/115347/
X-MICROSOFT-CDO-BUSYSTATUS:BUSY
X-MICROSOFT-CDO-IMPORTANCE:1
END:VEVENT
END:VCALENDAR
