BEGIN:VCALENDAR
PRODID:-//gdesolutions.com//MV Framework 1.0.0.1607 Calendar//EN
VERSION:2.0
METHOD:PUBLISH
CALSCALE:GREGORIAN
BEGIN:VEVENT
UID:g6aqo@games.golnetwork.com
LOCATION:Lees Dome Field #1
GEO:45.415776;-75.6684899
CREATED:20141213T220044Z
DTSTART:20141219T010000Z
DTEND:20141219T015000Z
DTSTAMP:20260421T213628Z
SUMMARY:Green Machine vs. Team Doug
DESCRIPTION:Team Doug vs. Green MachinePlus d'info : #216
X-ALT-DESC;FMTTYPE=text/html:<!DOCTYPE HTML PUBLIC "-//W3C//DTD HTML 3.2//E
	N">\n<HTML>\n<HEAD>\n<TITLE></TITLE>\n</HEAD>\n<BODY>\n<h3>Team Doug vs. Gr
	een Machine</h3>Plus d'info : <a href="https://www.golnetwork.com/game/v/62
	058/">#216</a>\n\n</BODY>\n</HTML>
STATUS:CONFIRMED
CLASS:PUBLIC
URL:https://www.golnetwork.com/game/v/62058/
X-MICROSOFT-CDO-BUSYSTATUS:BUSY
X-MICROSOFT-CDO-IMPORTANCE:1
END:VEVENT
BEGIN:VEVENT
UID:g68fd@games.golnetwork.com
LOCATION:Louis Riel #1
GEO:45.4410208;-75.5715394
CREATED:20141107T192913Z
DTSTART:20141121T030000Z
DTEND:20141121T035000Z
DTSTAMP:20260421T213628Z
SUMMARY:Green Machine vs. Fm FC
DESCRIPTION:Fm FC vs. Green MachinePlus d'info : #156
X-ALT-DESC;FMTTYPE=text/html:<!DOCTYPE HTML PUBLIC "-//W3C//DTD HTML 3.2//E
	N">\n<HTML>\n<HEAD>\n<TITLE></TITLE>\n</HEAD>\n<BODY>\n<h3>Fm FC vs. Green 
	Machine</h3>Plus d'info : <a href="https://www.golnetwork.com/game/v/61175/
	">#156</a>\n\n</BODY>\n</HTML>
STATUS:CONFIRMED
CLASS:PUBLIC
URL:https://www.golnetwork.com/game/v/61175/
X-MICROSOFT-CDO-BUSYSTATUS:BUSY
X-MICROSOFT-CDO-IMPORTANCE:1
END:VEVENT
BEGIN:VEVENT
UID:g68eg@games.golnetwork.com
LOCATION:Branchaud Briere Field #1
GEO:45.4982732;-75.6421544
CREATED:20141107T192205Z
DTSTART:20141114T023000Z
DTEND:20141114T032000Z
DTSTAMP:20260421T213628Z
SUMMARY:Green Machine vs. Fantasy Draught
DESCRIPTION:Fantasy Draught vs. Green MachinePlus d'info : #140
X-ALT-DESC;FMTTYPE=text/html:<!DOCTYPE HTML PUBLIC "-//W3C//DTD HTML 3.2//E
	N">\n<HTML>\n<HEAD>\n<TITLE></TITLE>\n</HEAD>\n<BODY>\n<h3>Fantasy Draught 
	vs. Green Machine</h3>Plus d'info : <a href="https://www.golnetwork.com/gam
	e/v/61163/">#140</a>\n\n</BODY>\n</HTML>
STATUS:CONFIRMED
CLASS:PUBLIC
URL:https://www.golnetwork.com/game/v/61163/
X-MICROSOFT-CDO-BUSYSTATUS:BUSY
X-MICROSOFT-CDO-IMPORTANCE:1
END:VEVENT
BEGIN:VEVENT
UID:g683d@games.golnetwork.com
LOCATION:Louis Riel #3
GEO:45.4410208;-75.5715394
CREATED:20141104T063607Z
DTSTART:20141107T040000Z
DTEND:20141107T045000Z
DTSTAMP:20260421T213628Z
SUMMARY:Fusion vs. Green Machine
DESCRIPTION:Green Machine vs. FusionPlus d'info : #12
X-ALT-DESC;FMTTYPE=text/html:<!DOCTYPE HTML PUBLIC "-//W3C//DTD HTML 3.2//E
	N">\n<HTML>\n<HEAD>\n<TITLE></TITLE>\n</HEAD>\n<BODY>\n<h3>Green Machine vs
	. Fusion</h3>Plus d'info : <a href="https://www.golnetwork.com/game/v/61013
	/">#12</a>\n\n</BODY>\n</HTML>
STATUS:CONFIRMED
CLASS:PUBLIC
URL:https://www.golnetwork.com/game/v/61013/
X-MICROSOFT-CDO-BUSYSTATUS:BUSY
X-MICROSOFT-CDO-IMPORTANCE:1
END:VEVENT
BEGIN:VEVENT
UID:g66i4@games.golnetwork.com
LOCATION:Hornet's Nest #3
GEO:45.4428309;-75.575268
CREATED:20141021T213655Z
DTSTART:20141030T233000Z
DTEND:20141031T002000Z
DTSTAMP:20260421T213628Z
SUMMARY:The Funky Bunch vs. Green Machine
DESCRIPTION:Green Machine vs. The Funky BunchPlus d'info : #2
X-ALT-DESC;FMTTYPE=text/html:<!DOCTYPE HTML PUBLIC "-//W3C//DTD HTML 3.2//E
	N">\n<HTML>\n<HEAD>\n<TITLE></TITLE>\n</HEAD>\n<BODY>\n<h3>Green Machine vs
	. The Funky Bunch</h3>Plus d'info : <a href="https://www.golnetwork.com/gam
	e/v/60482/">#2</a>\n\n</BODY>\n</HTML>
STATUS:CONFIRMED
CLASS:PUBLIC
URL:https://www.golnetwork.com/game/v/60482/
X-MICROSOFT-CDO-BUSYSTATUS:BUSY
X-MICROSOFT-CDO-IMPORTANCE:1
END:VEVENT
BEGIN:VEVENT
UID:g65q5@games.golnetwork.com
LOCATION:Hornet's Nest #3
GEO:45.4428309;-75.575268
CREATED:20141020T174820Z
DTSTART:20141023T233000Z
DTEND:20141024T002000Z
DTSTAMP:20260421T213628Z
SUMMARY:Junkyard Dogs vs. Green Machine
DESCRIPTION:Green Machine vs. Junkyard DogsPlus d'info : #2
X-ALT-DESC;FMTTYPE=text/html:<!DOCTYPE HTML PUBLIC "-//W3C//DTD HTML 3.2//E
	N">\n<HTML>\n<HEAD>\n<TITLE></TITLE>\n</HEAD>\n<BODY>\n<h3>Green Machine vs
	. Junkyard Dogs</h3>Plus d'info : <a href="https://www.golnetwork.com/game/
	v/60226/">#2</a>\n\n</BODY>\n</HTML>
STATUS:CONFIRMED
CLASS:PUBLIC
URL:https://www.golnetwork.com/game/v/60226/
X-MICROSOFT-CDO-BUSYSTATUS:BUSY
X-MICROSOFT-CDO-IMPORTANCE:1
END:VEVENT
BEGIN:VEVENT
UID:g63q3@games.golnetwork.com
LOCATION:Louis Riel #3
GEO:45.4410208;-75.5715394
CREATED:20141011T190550Z
DTSTART:20141017T020000Z
DTEND:20141017T025000Z
DTSTAMP:20260421T213628Z
SUMMARY:Elemonators vs. Green Machine
DESCRIPTION:Green Machine vs. ElemonatorsPlus d'info : #14
X-ALT-DESC;FMTTYPE=text/html:<!DOCTYPE HTML PUBLIC "-//W3C//DTD HTML 3.2//E
	N">\n<HTML>\n<HEAD>\n<TITLE></TITLE>\n</HEAD>\n<BODY>\n<h3>Green Machine vs
	. Elemonators</h3>Plus d'info : <a href="https://www.golnetwork.com/game/v/
	59496/">#14</a>\n\n</BODY>\n</HTML>
STATUS:CONFIRMED
CLASS:PUBLIC
URL:https://www.golnetwork.com/game/v/59496/
X-MICROSOFT-CDO-BUSYSTATUS:BUSY
X-MICROSOFT-CDO-IMPORTANCE:1
END:VEVENT
BEGIN:VEVENT
UID:g63gp@games.golnetwork.com
LOCATION:Terry Fox Field West #1
GEO:45.3702572;-75.6905176
CREATED:20141006T214313Z
DTSTART:20141010T011500Z
DTEND:20141010T020500Z
DTSTAMP:20260421T213628Z
SUMMARY:Fantasy Draught vs. Green Machine
DESCRIPTION:Green Machine vs. Fantasy DraughtPlus d'info : #13
X-ALT-DESC;FMTTYPE=text/html:<!DOCTYPE HTML PUBLIC "-//W3C//DTD HTML 3.2//E
	N">\n<HTML>\n<HEAD>\n<TITLE></TITLE>\n</HEAD>\n<BODY>\n<h3>Green Machine vs
	. Fantasy Draught</h3>Plus d'info : <a href="https://www.golnetwork.com/gam
	e/v/59372/">#13</a>\n\n</BODY>\n</HTML>
STATUS:CONFIRMED
CLASS:PUBLIC
URL:https://www.golnetwork.com/game/v/59372/
X-MICROSOFT-CDO-BUSYSTATUS:BUSY
X-MICROSOFT-CDO-IMPORTANCE:1
END:VEVENT
BEGIN:VEVENT
UID:g5q8p@games.golnetwork.com
LOCATION:Louis Riel #2
GEO:45.4410208;-75.5715394
CREATED:20140926T210254Z
DTSTART:20141003T010000Z
DTEND:20141003T015000Z
DTSTAMP:20260421T213628Z
SUMMARY:Velvet Vikings vs. Green Machine
DESCRIPTION:Green Machine vs. Velvet VikingsPlus d'info : #7
X-ALT-DESC;FMTTYPE=text/html:<!DOCTYPE HTML PUBLIC "-//W3C//DTD HTML 3.2//E
	N">\n<HTML>\n<HEAD>\n<TITLE></TITLE>\n</HEAD>\n<BODY>\n<h3>Green Machine vs
	. Velvet Vikings</h3>Plus d'info : <a href="https://www.golnetwork.com/game
	/v/57806/">#7</a>\n\n</BODY>\n</HTML>
STATUS:CONFIRMED
CLASS:PUBLIC
URL:https://www.golnetwork.com/game/v/57806/
X-MICROSOFT-CDO-BUSYSTATUS:BUSY
X-MICROSOFT-CDO-IMPORTANCE:1
END:VEVENT
BEGIN:VEVENT
UID:g5p5p@games.golnetwork.com
LOCATION:Branchaud Briere Field #1
GEO:45.4982732;-75.6421544
CREATED:20140922T025820Z
DTSTART:20140926T000000Z
DTEND:20140926T005000Z
DTSTAMP:20260421T213628Z
SUMMARY:The Miseducation vs. Green Machine
DESCRIPTION:Green Machine vs. The MiseducationPlus d'info : #21
X-ALT-DESC;FMTTYPE=text/html:<!DOCTYPE HTML PUBLIC "-//W3C//DTD HTML 3.2//E
	N">\n<HTML>\n<HEAD>\n<TITLE></TITLE>\n</HEAD>\n<BODY>\n<h3>Green Machine vs
	. The Miseducation</h3>Plus d'info : <a href="https://www.golnetwork.com/ga
	me/v/57401/">#21</a>\n\n</BODY>\n</HTML>
STATUS:CONFIRMED
CLASS:PUBLIC
URL:https://www.golnetwork.com/game/v/57401/
X-MICROSOFT-CDO-BUSYSTATUS:BUSY
X-MICROSOFT-CDO-IMPORTANCE:1
END:VEVENT
END:VCALENDAR
