BEGIN:VCALENDAR
PRODID:-//gdesolutions.com//MV Framework 1.0.0.1607 Calendar//EN
VERSION:2.0
METHOD:PUBLISH
CALSCALE:GREGORIAN
BEGIN:VEVENT
UID:g6gi8@games.golnetwork.com
LOCATION:Fieldhouse B
GEO:45.10662;-94.578209
CREATED:20150116T205949Z
DTSTART:20150326T233000Z
DTEND:20150327T003000Z
DTSTAMP:20260421T052443Z
SUMMARY:That's What She Set (CRA) vs. Skinny Tipping
DESCRIPTION:Skinny Tipping vs. That's What She Set (CRA)Plus d'info : #150
X-ALT-DESC;FMTTYPE=text/html:<!DOCTYPE HTML PUBLIC "-//W3C//DTD HTML 3.2//E
	N">\n<HTML>\n<HEAD>\n<TITLE></TITLE>\n</HEAD>\n<BODY>\n<h3>Skinny Tipping v
	s. That's What She Set (CRA)</h3>Plus d'info : <a href="https://www.golnetw
	ork.com/game/v/64129/">#150</a>\n\n</BODY>\n</HTML>
STATUS:CONFIRMED
CLASS:PUBLIC
URL:https://www.golnetwork.com/game/v/64129/
X-MICROSOFT-CDO-BUSYSTATUS:BUSY
X-MICROSOFT-CDO-IMPORTANCE:1
END:VEVENT
BEGIN:VEVENT
UID:g6idd@games.golnetwork.com
LOCATION:Fieldhouse B
GEO:45.10662;-94.578209
CREATED:20150126T201051Z
DTSTART:20150325T013000Z
DTEND:20150325T023000Z
DTSTAMP:20260421T052443Z
SUMMARY:I'd Hit That (CRA) vs. Skinny Tipping
DESCRIPTION:Skinny Tipping vs. I'd Hit That (CRA)Plus d'info : R#124
X-ALT-DESC;FMTTYPE=text/html:<!DOCTYPE HTML PUBLIC "-//W3C//DTD HTML 3.2//E
	N">\n<HTML>\n<HEAD>\n<TITLE></TITLE>\n</HEAD>\n<BODY>\n<h3>Skinny Tipping v
	s. I'd Hit That (CRA)</h3>Plus d'info : <a href="https://www.golnetwork.com
	/game/v/64793/">R#124</a>\n\n</BODY>\n</HTML>
STATUS:CONFIRMED
CLASS:PUBLIC
URL:https://www.golnetwork.com/game/v/64793/
X-MICROSOFT-CDO-BUSYSTATUS:BUSY
X-MICROSOFT-CDO-IMPORTANCE:1
END:VEVENT
BEGIN:VEVENT
UID:g6gga@games.golnetwork.com
LOCATION:Fieldhouse A
GEO:45.10662;-94.578209
CREATED:20150116T205948Z
DTSTART:20150318T013000Z
DTEND:20150318T023000Z
DTSTAMP:20260421T052443Z
SUMMARY:I'd Hit That (CRA) vs. Skinny Tipping
DESCRIPTION:Skinny Tipping vs. I'd Hit That (CRA)Plus d'info : #124
X-ALT-DESC;FMTTYPE=text/html:<!DOCTYPE HTML PUBLIC "-//W3C//DTD HTML 3.2//E
	N">\n<HTML>\n<HEAD>\n<TITLE></TITLE>\n</HEAD>\n<BODY>\n<h3>Skinny Tipping v
	s. I'd Hit That (CRA)</h3>Plus d'info : <a href="https://www.golnetwork.com
	/game/v/64103/">#124</a>\n\n</BODY>\n</HTML>
STATUS:RESCHEDULED
CLASS:PUBLIC
URL:https://www.golnetwork.com/game/v/64103/
X-MICROSOFT-CDO-BUSYSTATUS:BUSY
X-MICROSOFT-CDO-IMPORTANCE:1
END:VEVENT
BEGIN:VEVENT
UID:g6gck@games.golnetwork.com
LOCATION:Fieldhouse A
GEO:45.10662;-94.578209
CREATED:20150116T205946Z
DTSTART:20150218T013000Z
DTEND:20150218T023000Z
DTSTAMP:20260421T052443Z
SUMMARY:Skinny Tipping vs. Sons of Beaches
DESCRIPTION:Sons of Beaches vs. Skinny TippingPlus d'info : #75
X-ALT-DESC;FMTTYPE=text/html:<!DOCTYPE HTML PUBLIC "-//W3C//DTD HTML 3.2//E
	N">\n<HTML>\n<HEAD>\n<TITLE></TITLE>\n</HEAD>\n<BODY>\n<h3>Sons of Beaches 
	vs. Skinny Tipping</h3>Plus d'info : <a href="https://www.golnetwork.com/ga
	me/v/64054/">#75</a>\n\n</BODY>\n</HTML>
STATUS:CONFIRMED
CLASS:PUBLIC
URL:https://www.golnetwork.com/game/v/64054/
X-MICROSOFT-CDO-BUSYSTATUS:BUSY
X-MICROSOFT-CDO-IMPORTANCE:1
END:VEVENT
BEGIN:VEVENT
UID:g6gao@games.golnetwork.com
LOCATION:Fieldhouse A
GEO:45.10662;-94.578209
CREATED:20150116T205945Z
DTSTART:20150206T003000Z
DTEND:20150206T013000Z
DTSTAMP:20260421T052443Z
SUMMARY:Skinny Tipping vs. Acetaminowin
DESCRIPTION:Acetaminowin vs. Skinny TippingPlus d'info : #50
X-ALT-DESC;FMTTYPE=text/html:<!DOCTYPE HTML PUBLIC "-//W3C//DTD HTML 3.2//E
	N">\n<HTML>\n<HEAD>\n<TITLE></TITLE>\n</HEAD>\n<BODY>\n<h3>Acetaminowin vs.
	 Skinny Tipping</h3>Plus d'info : <a href="https://www.golnetwork.com/game/
	v/64029/">#50</a>\n\n</BODY>\n</HTML>
STATUS:CONFIRMED
CLASS:PUBLIC
URL:https://www.golnetwork.com/game/v/64029/
X-MICROSOFT-CDO-BUSYSTATUS:BUSY
X-MICROSOFT-CDO-IMPORTANCE:1
END:VEVENT
BEGIN:VEVENT
UID:g6g9n@games.golnetwork.com
LOCATION:Fieldhouse A
GEO:45.10662;-94.578209
CREATED:20150116T205944Z
DTSTART:20150130T023000Z
DTEND:20150130T033000Z
DTSTAMP:20260421T052443Z
SUMMARY:Skinny Tipping vs. Set On My Face
DESCRIPTION:Set On My Face vs. Skinny TippingPlus d'info : #36
X-ALT-DESC;FMTTYPE=text/html:<!DOCTYPE HTML PUBLIC "-//W3C//DTD HTML 3.2//E
	N">\n<HTML>\n<HEAD>\n<TITLE></TITLE>\n</HEAD>\n<BODY>\n<h3>Set On My Face v
	s. Skinny Tipping</h3>Plus d'info : <a href="https://www.golnetwork.com/gam
	e/v/64015/">#36</a>\n\n</BODY>\n</HTML>
STATUS:CONFIRMED
CLASS:PUBLIC
URL:https://www.golnetwork.com/game/v/64015/
X-MICROSOFT-CDO-BUSYSTATUS:BUSY
X-MICROSOFT-CDO-IMPORTANCE:1
END:VEVENT
BEGIN:VEVENT
UID:g6f8h@games.golnetwork.com
LOCATION:Fieldhouse A
GEO:45.10662;-94.578209
CREATED:20150112T000133Z
DTSTART:20150116T013000Z
DTEND:20150116T023000Z
DTSTAMP:20260421T052443Z
SUMMARY:Smashmallows vs. Skinny Tipping
DESCRIPTION:Skinny Tipping vs. SmashmallowsPlus d'info : #11
X-ALT-DESC;FMTTYPE=text/html:<!DOCTYPE HTML PUBLIC "-//W3C//DTD HTML 3.2//E
	N">\n<HTML>\n<HEAD>\n<TITLE></TITLE>\n</HEAD>\n<BODY>\n<h3>Skinny Tipping v
	s. Smashmallows</h3>Plus d'info : <a href="https://www.golnetwork.com/game/
	v/63634/">#11</a>\n\n</BODY>\n</HTML>
STATUS:CONFIRMED
CLASS:PUBLIC
URL:https://www.golnetwork.com/game/v/63634/
X-MICROSOFT-CDO-BUSYSTATUS:BUSY
X-MICROSOFT-CDO-IMPORTANCE:1
END:VEVENT
END:VCALENDAR
