BEGIN:VCALENDAR
PRODID:-//gdesolutions.com//MV Framework 1.0.0.1607 Calendar//EN
VERSION:2.0
METHOD:PUBLISH
CALSCALE:GREGORIAN
BEGIN:VEVENT
UID:g75c4@games.golnetwork.com
LOCATION:Lamport Stadium - Field 2
GEO:43.6390028;-79.4232104
CREATED:20150522T183907Z
DTSTART:20150627T010000Z
DTEND:20150627T020000Z
DTSTAMP:20260420T011559Z
SUMMARY:All Ballz vs.  Drama Queens
DESCRIPTION: Drama Queens vs. All BallzPlus d'info : #390
X-ALT-DESC;FMTTYPE=text/html:<!DOCTYPE HTML PUBLIC "-//W3C//DTD HTML 3.2//E
	N">\n<HTML>\n<HEAD>\n<TITLE></TITLE>\n</HEAD>\n<BODY>\n<h3> Drama Queens vs
	. All Ballz</h3>Plus d'info : <a href="https://www.golnetwork.com/game/v/69
	878/">#390</a>\n\n</BODY>\n</HTML>
STATUS:CONFIRMED
CLASS:PUBLIC
URL:https://www.golnetwork.com/game/v/69878/
X-MICROSOFT-CDO-BUSYSTATUS:BUSY
X-MICROSOFT-CDO-IMPORTANCE:1
END:VEVENT
BEGIN:VEVENT
UID:g6oio@games.golnetwork.com
LOCATION:Lamport Stadium - Field 3
GEO:43.6390028;-79.4232104
CREATED:20150422T230825Z
DTSTART:20150620T000000Z
DTEND:20150620T005000Z
DTSTAMP:20260420T011559Z
SUMMARY:Cleats and Cleavage vs.  Drama Queens
DESCRIPTION: Drama Queens vs. Cleats and CleavagePlus d'info : #341
X-ALT-DESC;FMTTYPE=text/html:<!DOCTYPE HTML PUBLIC "-//W3C//DTD HTML 3.2//E
	N">\n<HTML>\n<HEAD>\n<TITLE></TITLE>\n</HEAD>\n<BODY>\n<h3> Drama Queens vs
	. Cleats and Cleavage</h3>Plus d'info : <a href="https://www.golnetwork.com
	/game/v/67053/">#341</a>\n\n</BODY>\n</HTML>
STATUS:CONFIRMED
CLASS:PUBLIC
URL:https://www.golnetwork.com/game/v/67053/
X-MICROSOFT-CDO-BUSYSTATUS:BUSY
X-MICROSOFT-CDO-IMPORTANCE:1
END:VEVENT
BEGIN:VEVENT
UID:g6oig@games.golnetwork.com
LOCATION:Lamport Stadium - Field 3
GEO:43.6390028;-79.4232104
CREATED:20150422T230713Z
DTSTART:20150613T000000Z
DTEND:20150613T005000Z
DTSTAMP:20260420T011559Z
SUMMARY:Shut Up\, Meg. vs.  Drama Queens
DESCRIPTION: Drama Queens vs. Shut Up\, Meg.Plus d'info : #286
X-ALT-DESC;FMTTYPE=text/html:<!DOCTYPE HTML PUBLIC "-//W3C//DTD HTML 3.2//E
	N">\n<HTML>\n<HEAD>\n<TITLE></TITLE>\n</HEAD>\n<BODY>\n<h3> Drama Queens vs
	. Shut Up\, Meg.</h3>Plus d'info : <a href="https://www.golnetwork.com/game
	/v/67049/">#286</a>\n\n</BODY>\n</HTML>
STATUS:CONFIRMED
CLASS:PUBLIC
URL:https://www.golnetwork.com/game/v/67049/
X-MICROSOFT-CDO-BUSYSTATUS:BUSY
X-MICROSOFT-CDO-IMPORTANCE:1
END:VEVENT
BEGIN:VEVENT
UID:g6oie@games.golnetwork.com
LOCATION:Lamport Stadium - Field 3
GEO:43.6390028;-79.4232104
CREATED:20150422T230654Z
DTSTART:20150606T010000Z
DTEND:20150606T015000Z
DTSTAMP:20260420T011559Z
SUMMARY: Drama Queens vs. BOOMSHAKKALAKKA!
DESCRIPTION:BOOMSHAKKALAKKA! vs.  Drama QueensPlus d'info : #235
X-ALT-DESC;FMTTYPE=text/html:<!DOCTYPE HTML PUBLIC "-//W3C//DTD HTML 3.2//E
	N">\n<HTML>\n<HEAD>\n<TITLE></TITLE>\n</HEAD>\n<BODY>\n<h3>BOOMSHAKKALAKKA!
	 vs.  Drama Queens</h3>Plus d'info : <a href="https://www.golnetwork.com/ga
	me/v/67048/">#235</a>\n\n</BODY>\n</HTML>
STATUS:CONFIRMED
CLASS:PUBLIC
URL:https://www.golnetwork.com/game/v/67048/
X-MICROSOFT-CDO-BUSYSTATUS:BUSY
X-MICROSOFT-CDO-IMPORTANCE:1
END:VEVENT
BEGIN:VEVENT
UID:g6oi4@games.golnetwork.com
LOCATION:Lamport Stadium - Field 3
GEO:43.6390028;-79.4232104
CREATED:20150422T230433Z
DTSTART:20150530T000000Z
DTEND:20150530T010000Z
DTSTAMP:20260420T011559Z
SUMMARY: Drama Queens vs. The Six Shooters
DESCRIPTION:The Six Shooters vs.  Drama QueensPlus d'info : #176
X-ALT-DESC;FMTTYPE=text/html:<!DOCTYPE HTML PUBLIC "-//W3C//DTD HTML 3.2//E
	N">\n<HTML>\n<HEAD>\n<TITLE></TITLE>\n</HEAD>\n<BODY>\n<h3>The Six Shooters
	 vs.  Drama Queens</h3>Plus d'info : <a href="https://www.golnetwork.com/ga
	me/v/67043/">#176</a>\n\n</BODY>\n</HTML>
STATUS:CONFIRMED
CLASS:PUBLIC
URL:https://www.golnetwork.com/game/v/67043/
X-MICROSOFT-CDO-BUSYSTATUS:BUSY
X-MICROSOFT-CDO-IMPORTANCE:1
END:VEVENT
BEGIN:VEVENT
UID:g6oi2@games.golnetwork.com
LOCATION:Lamport Stadium - Field 3
GEO:43.6390028;-79.4232104
CREATED:20150422T222602Z
DTSTART:20150516T010000Z
DTEND:20150516T015000Z
DTSTAMP:20260420T011559Z
SUMMARY: Drama Queens vs. All Ballz
DESCRIPTION:All Ballz vs.  Drama QueensPlus d'info : #104
X-ALT-DESC;FMTTYPE=text/html:<!DOCTYPE HTML PUBLIC "-//W3C//DTD HTML 3.2//E
	N">\n<HTML>\n<HEAD>\n<TITLE></TITLE>\n</HEAD>\n<BODY>\n<h3>All Ballz vs.  D
	rama Queens</h3>Plus d'info : <a href="https://www.golnetwork.com/game/v/67
	042/">#104</a>\n\n</BODY>\n</HTML>
STATUS:CONFIRMED
CLASS:PUBLIC
URL:https://www.golnetwork.com/game/v/67042/
X-MICROSOFT-CDO-BUSYSTATUS:BUSY
X-MICROSOFT-CDO-IMPORTANCE:1
END:VEVENT
BEGIN:VEVENT
UID:g6ohl@games.golnetwork.com
LOCATION:Lamport Stadium - Field 3
GEO:43.6390028;-79.4232104
CREATED:20150422T222459Z
DTSTART:20150509T010000Z
DTEND:20150509T015000Z
DTSTAMP:20260420T011559Z
SUMMARY:Cleats and Cleavage vs.  Drama Queens
DESCRIPTION: Drama Queens vs. Cleats and CleavagePlus d'info : #48
X-ALT-DESC;FMTTYPE=text/html:<!DOCTYPE HTML PUBLIC "-//W3C//DTD HTML 3.2//E
	N">\n<HTML>\n<HEAD>\n<TITLE></TITLE>\n</HEAD>\n<BODY>\n<h3> Drama Queens vs
	. Cleats and Cleavage</h3>Plus d'info : <a href="https://www.golnetwork.com
	/game/v/67038/">#48</a>\n\n</BODY>\n</HTML>
STATUS:CONFIRMED
CLASS:PUBLIC
URL:https://www.golnetwork.com/game/v/67038/
X-MICROSOFT-CDO-BUSYSTATUS:BUSY
X-MICROSOFT-CDO-IMPORTANCE:1
END:VEVENT
END:VCALENDAR
