BEGIN:VCALENDAR
PRODID:-//gdesolutions.com//MV Framework 1.0.0.1607 Calendar//EN
VERSION:2.0
METHOD:PUBLISH
CALSCALE:GREGORIAN
BEGIN:VEVENT
UID:g6mae@games.golnetwork.com
LOCATION:Fieldhouse A & B
GEO:45.10662;-94.578209
CREATED:20150323T211749Z
DTSTART:20150328T013000Z
DTEND:20150328T021400Z
DTSTAMP:20260420T004600Z
SUMMARY:Wandering Watermelon vs. Original Balotellitubbies
DESCRIPTION:Original Balotellitubbies vs. Wandering WatermelonPlus d'info :
	 #314
X-ALT-DESC;FMTTYPE=text/html:<!DOCTYPE HTML PUBLIC "-//W3C//DTD HTML 3.2//E
	N">\n<HTML>\n<HEAD>\n<TITLE></TITLE>\n</HEAD>\n<BODY>\n<h3>Original Balotel
	litubbies vs. Wandering Watermelon</h3>Plus d'info : <a href="https://www.g
	olnetwork.com/game/v/66211/">#314</a>\n\n</BODY>\n</HTML>
STATUS:CONFIRMED
CLASS:PUBLIC
URL:https://www.golnetwork.com/game/v/66211/
X-MICROSOFT-CDO-BUSYSTATUS:BUSY
X-MICROSOFT-CDO-IMPORTANCE:1
END:VEVENT
END:VCALENDAR
