BEGIN:VCALENDAR
PRODID:-//gdesolutions.com//MV Framework 1.0.0.1607 Calendar//EN
VERSION:2.0
METHOD:PUBLISH
CALSCALE:GREGORIAN
BEGIN:VEVENT
UID:g6nf0@games.golnetwork.com
LOCATION:Squash Court #1
GEO:45.508899688721;-73.5795573
CREATED:20150410T152900Z
DTSTART:20150414T000000Z
DTEND:20150414T004500Z
DTSTAMP:20260423T031742Z
SUMMARY:Cops & Robbers vs. Settlers of Zlatan
DESCRIPTION:Settlers of Zlatan vs. Cops & RobbersPlus d'info : #115
X-ALT-DESC;FMTTYPE=text/html:<!DOCTYPE HTML PUBLIC "-//W3C//DTD HTML 3.2//E
	N">\n<HTML>\n<HEAD>\n<TITLE></TITLE>\n</HEAD>\n<BODY>\n<h3>Settlers of Zlat
	an vs. Cops & Robbers</h3>Plus d'info : <a href="https://www.golnetwork.com
	/game/v/66636/">#115</a>\n\n</BODY>\n</HTML>
STATUS:CONFIRMED
CLASS:PUBLIC
URL:https://www.golnetwork.com/game/v/66636/
X-MICROSOFT-CDO-BUSYSTATUS:BUSY
X-MICROSOFT-CDO-IMPORTANCE:1
END:VEVENT
END:VCALENDAR
