BEGIN:VCALENDAR
PRODID:-//gdesolutions.com//MV Framework 1.0.0.1607 Calendar//EN
VERSION:2.0
METHOD:PUBLISH
CALSCALE:GREGORIAN
BEGIN:VEVENT
UID:g7078@games.golnetwork.com
LOCATION:Marianopolis #1
GEO:45.4807868;-73.610845
CREATED:20150423T201024Z
DTSTART:20150818T233000Z
DTEND:20150819T003000Z
DTSTAMP:20260423T043008Z
SUMMARY:BERALL vs. BLACK EAGLES
DESCRIPTION:BLACK EAGLES vs. BERALLPlus d'info : #412
X-ALT-DESC;FMTTYPE=text/html:<!DOCTYPE HTML PUBLIC "-//W3C//DTD HTML 3.2//E
	N">\n<HTML>\n<HEAD>\n<TITLE></TITLE>\n</HEAD>\n<BODY>\n<h3>BLACK EAGLES vs.
	 BERALL</h3>Plus d'info : <a href="https://www.golnetwork.com/game/v/67990/
	">#412</a>\n\n</BODY>\n</HTML>
STATUS:CONFIRMED
CLASS:PUBLIC
URL:https://www.golnetwork.com/game/v/67990/
X-MICROSOFT-CDO-BUSYSTATUS:BUSY
X-MICROSOFT-CDO-IMPORTANCE:1
END:VEVENT
BEGIN:VEVENT
UID:g706h@games.golnetwork.com
LOCATION:Marianopolis #1
GEO:45.4807868;-73.610845
CREATED:20150423T201024Z
DTSTART:20150811T223000Z
DTEND:20150811T233000Z
DTSTAMP:20260423T043008Z
SUMMARY:BERALL vs. SHAWN KEMP
DESCRIPTION:SHAWN KEMP vs. BERALLPlus d'info : #380
X-ALT-DESC;FMTTYPE=text/html:<!DOCTYPE HTML PUBLIC "-//W3C//DTD HTML 3.2//E
	N">\n<HTML>\n<HEAD>\n<TITLE></TITLE>\n</HEAD>\n<BODY>\n<h3>SHAWN KEMP vs. B
	ERALL</h3>Plus d'info : <a href="https://www.golnetwork.com/game/v/67981/">
	#380</a>\n\n</BODY>\n</HTML>
STATUS:CONFIRMED
CLASS:PUBLIC
URL:https://www.golnetwork.com/game/v/67981/
X-MICROSOFT-CDO-BUSYSTATUS:BUSY
X-MICROSOFT-CDO-IMPORTANCE:1
END:VEVENT
BEGIN:VEVENT
UID:g705q@games.golnetwork.com
LOCATION:Marianopolis #1
GEO:45.4807868;-73.610845
CREATED:20150423T201024Z
DTSTART:20150804T223000Z
DTEND:20150804T233000Z
DTSTAMP:20260423T043008Z
SUMMARY:BERALL vs. THE ACB
DESCRIPTION:THE ACB vs. BERALLPlus d'info : #352
X-ALT-DESC;FMTTYPE=text/html:<!DOCTYPE HTML PUBLIC "-//W3C//DTD HTML 3.2//E
	N">\n<HTML>\n<HEAD>\n<TITLE></TITLE>\n</HEAD>\n<BODY>\n<h3>THE ACB vs. BERA
	LL</h3>Plus d'info : <a href="https://www.golnetwork.com/game/v/67972/">#35
	2</a>\n\n</BODY>\n</HTML>
STATUS:CONFIRMED
CLASS:PUBLIC
URL:https://www.golnetwork.com/game/v/67972/
X-MICROSOFT-CDO-BUSYSTATUS:BUSY
X-MICROSOFT-CDO-IMPORTANCE:1
END:VEVENT
BEGIN:VEVENT
UID:g7058@games.golnetwork.com
LOCATION:Marianopolis #1
GEO:45.4807868;-73.610845
CREATED:20150423T201023Z
DTSTART:20150728T223000Z
DTEND:20150728T233000Z
DTSTAMP:20260423T043008Z
SUMMARY:BERALL vs. THE COALITION
DESCRIPTION:THE COALITION vs. BERALLPlus d'info : #324
X-ALT-DESC;FMTTYPE=text/html:<!DOCTYPE HTML PUBLIC "-//W3C//DTD HTML 3.2//E
	N">\n<HTML>\n<HEAD>\n<TITLE></TITLE>\n</HEAD>\n<BODY>\n<h3>THE COALITION vs
	. BERALL</h3>Plus d'info : <a href="https://www.golnetwork.com/game/v/67963
	/">#324</a>\n\n</BODY>\n</HTML>
STATUS:CONFIRMED
CLASS:PUBLIC
URL:https://www.golnetwork.com/game/v/67963/
X-MICROSOFT-CDO-BUSYSTATUS:BUSY
X-MICROSOFT-CDO-IMPORTANCE:1
END:VEVENT
BEGIN:VEVENT
UID:g704h@games.golnetwork.com
LOCATION:Marianopolis #1
GEO:45.4807868;-73.610845
CREATED:20150423T201023Z
DTSTART:20150721T233000Z
DTEND:20150722T003000Z
DTSTAMP:20260423T043008Z
SUMMARY:BERALL vs. AMBITIOUS RHINOS
DESCRIPTION:AMBITIOUS RHINOS vs. BERALLPlus d'info : #301
X-ALT-DESC;FMTTYPE=text/html:<!DOCTYPE HTML PUBLIC "-//W3C//DTD HTML 3.2//E
	N">\n<HTML>\n<HEAD>\n<TITLE></TITLE>\n</HEAD>\n<BODY>\n<h3>AMBITIOUS RHINOS
	 vs. BERALL</h3>Plus d'info : <a href="https://www.golnetwork.com/game/v/67
	954/">#301</a>\n\n</BODY>\n</HTML>
STATUS:CONFIRMED
CLASS:PUBLIC
URL:https://www.golnetwork.com/game/v/67954/
X-MICROSOFT-CDO-BUSYSTATUS:BUSY
X-MICROSOFT-CDO-IMPORTANCE:1
END:VEVENT
BEGIN:VEVENT
UID:g703q@games.golnetwork.com
LOCATION:Marianopolis #1
GEO:45.4807868;-73.610845
CREATED:20150423T201023Z
DTSTART:20150714T223000Z
DTEND:20150714T233000Z
DTSTAMP:20260423T043008Z
SUMMARY:BERALL vs. PIPPEN AINT EASY
DESCRIPTION:PIPPEN AINT EASY vs. BERALLPlus d'info : #265
X-ALT-DESC;FMTTYPE=text/html:<!DOCTYPE HTML PUBLIC "-//W3C//DTD HTML 3.2//E
	N">\n<HTML>\n<HEAD>\n<TITLE></TITLE>\n</HEAD>\n<BODY>\n<h3>PIPPEN AINT EASY
	 vs. BERALL</h3>Plus d'info : <a href="https://www.golnetwork.com/game/v/67
	945/">#265</a>\n\n</BODY>\n</HTML>
STATUS:CONFIRMED
CLASS:PUBLIC
URL:https://www.golnetwork.com/game/v/67945/
X-MICROSOFT-CDO-BUSYSTATUS:BUSY
X-MICROSOFT-CDO-IMPORTANCE:1
END:VEVENT
BEGIN:VEVENT
UID:g7036@games.golnetwork.com
LOCATION:Marianopolis #1
GEO:45.4807868;-73.610845
CREATED:20150423T201022Z
DTSTART:20150707T233000Z
DTEND:20150708T003000Z
DTSTAMP:20260423T043008Z
SUMMARY:DADOLLE 2 vs. BERALL
DESCRIPTION:BERALL vs. DADOLLE 2Plus d'info : #238
X-ALT-DESC;FMTTYPE=text/html:<!DOCTYPE HTML PUBLIC "-//W3C//DTD HTML 3.2//E
	N">\n<HTML>\n<HEAD>\n<TITLE></TITLE>\n</HEAD>\n<BODY>\n<h3>BERALL vs. DADOL
	LE 2</h3>Plus d'info : <a href="https://www.golnetwork.com/game/v/67935/">#
	238</a>\n\n</BODY>\n</HTML>
STATUS:CONFIRMED
CLASS:PUBLIC
URL:https://www.golnetwork.com/game/v/67935/
X-MICROSOFT-CDO-BUSYSTATUS:BUSY
X-MICROSOFT-CDO-IMPORTANCE:1
END:VEVENT
BEGIN:VEVENT
UID:g702b@games.golnetwork.com
LOCATION:Marianopolis #1
GEO:45.4807868;-73.610845
CREATED:20150423T201022Z
DTSTART:20150701T013000Z
DTEND:20150701T023000Z
DTSTAMP:20260423T043008Z
SUMMARY:NO EZ BASKET vs. BERALL
DESCRIPTION:BERALL vs. NO EZ BASKETPlus d'info : #219
X-ALT-DESC;FMTTYPE=text/html:<!DOCTYPE HTML PUBLIC "-//W3C//DTD HTML 3.2//E
	N">\n<HTML>\n<HEAD>\n<TITLE></TITLE>\n</HEAD>\n<BODY>\n<h3>BERALL vs. NO EZ
	 BASKET</h3>Plus d'info : <a href="https://www.golnetwork.com/game/v/67924/
	">#219</a>\n\n</BODY>\n</HTML>
STATUS:CONFIRMED
CLASS:PUBLIC
URL:https://www.golnetwork.com/game/v/67924/
X-MICROSOFT-CDO-BUSYSTATUS:BUSY
X-MICROSOFT-CDO-IMPORTANCE:1
END:VEVENT
BEGIN:VEVENT
UID:g701g@games.golnetwork.com
LOCATION:Marianopolis #1
GEO:45.4807868;-73.610845
CREATED:20150423T201022Z
DTSTART:20150624T013000Z
DTEND:20150624T023000Z
DTSTAMP:20260423T043008Z
SUMMARY:MAIN EVENTERS vs. BERALL
DESCRIPTION:BERALL vs. MAIN EVENTERSPlus d'info : #195
X-ALT-DESC;FMTTYPE=text/html:<!DOCTYPE HTML PUBLIC "-//W3C//DTD HTML 3.2//E
	N">\n<HTML>\n<HEAD>\n<TITLE></TITLE>\n</HEAD>\n<BODY>\n<h3>BERALL vs. MAIN 
	EVENTERS</h3>Plus d'info : <a href="https://www.golnetwork.com/game/v/67913
	/">#195</a>\n\n</BODY>\n</HTML>
STATUS:CONFIRMED
CLASS:PUBLIC
URL:https://www.golnetwork.com/game/v/67913/
X-MICROSOFT-CDO-BUSYSTATUS:BUSY
X-MICROSOFT-CDO-IMPORTANCE:1
END:VEVENT
BEGIN:VEVENT
UID:g700l@games.golnetwork.com
LOCATION:Marianopolis #1
GEO:45.4807868;-73.610845
CREATED:20150423T201021Z
DTSTART:20150616T223000Z
DTEND:20150616T233000Z
DTSTAMP:20260423T043008Z
SUMMARY:SHOWTIME vs. BERALL
DESCRIPTION:BERALL vs. SHOWTIMEPlus d'info : #156
X-ALT-DESC;FMTTYPE=text/html:<!DOCTYPE HTML PUBLIC "-//W3C//DTD HTML 3.2//E
	N">\n<HTML>\n<HEAD>\n<TITLE></TITLE>\n</HEAD>\n<BODY>\n<h3>BERALL vs. SHOWT
	IME</h3>Plus d'info : <a href="https://www.golnetwork.com/game/v/67902/">#1
	56</a>\n\n</BODY>\n</HTML>
STATUS:CONFIRMED
CLASS:PUBLIC
URL:https://www.golnetwork.com/game/v/67902/
X-MICROSOFT-CDO-BUSYSTATUS:BUSY
X-MICROSOFT-CDO-IMPORTANCE:1
END:VEVENT
BEGIN:VEVENT
UID:g6qqq@games.golnetwork.com
LOCATION:Marianopolis #1
GEO:45.4807868;-73.610845
CREATED:20150423T201021Z
DTSTART:20150609T223000Z
DTEND:20150609T233000Z
DTSTAMP:20260423T043008Z
SUMMARY:WOLF vs. BERALL
DESCRIPTION:BERALL vs. WOLFPlus d'info : #129
X-ALT-DESC;FMTTYPE=text/html:<!DOCTYPE HTML PUBLIC "-//W3C//DTD HTML 3.2//E
	N">\n<HTML>\n<HEAD>\n<TITLE></TITLE>\n</HEAD>\n<BODY>\n<h3>BERALL vs. WOLF<
	/h3>Plus d'info : <a href="https://www.golnetwork.com/game/v/67891/">#129</
	a>\n\n</BODY>\n</HTML>
STATUS:CONFIRMED
CLASS:PUBLIC
URL:https://www.golnetwork.com/game/v/67891/
X-MICROSOFT-CDO-BUSYSTATUS:BUSY
X-MICROSOFT-CDO-IMPORTANCE:1
END:VEVENT
BEGIN:VEVENT
UID:g6qq4@games.golnetwork.com
LOCATION:Marianopolis #1
GEO:45.4807868;-73.610845
CREATED:20150423T201021Z
DTSTART:20150603T003000Z
DTEND:20150603T013000Z
DTSTAMP:20260423T043008Z
SUMMARY:NIPHAKIS vs. BERALL
DESCRIPTION:BERALL vs. NIPHAKISPlus d'info : #105
X-ALT-DESC;FMTTYPE=text/html:<!DOCTYPE HTML PUBLIC "-//W3C//DTD HTML 3.2//E
	N">\n<HTML>\n<HEAD>\n<TITLE></TITLE>\n</HEAD>\n<BODY>\n<h3>BERALL vs. NIPHA
	KIS</h3>Plus d'info : <a href="https://www.golnetwork.com/game/v/67880/">#1
	05</a>\n\n</BODY>\n</HTML>
STATUS:CONFIRMED
CLASS:PUBLIC
URL:https://www.golnetwork.com/game/v/67880/
X-MICROSOFT-CDO-BUSYSTATUS:BUSY
X-MICROSOFT-CDO-IMPORTANCE:1
END:VEVENT
BEGIN:VEVENT
UID:g6qp9@games.golnetwork.com
LOCATION:Trafalgar
GEO:45.4987672;-73.5845067
CREATED:20150423T201021Z
DTSTART:20150526T223000Z
DTEND:20150526T233000Z
DTSTAMP:20260423T043008Z
SUMMARY:NOTHING BUT NETS vs. BERALL
DESCRIPTION:BERALL vs. NOTHING BUT NETSPlus d'info : #73
X-ALT-DESC;FMTTYPE=text/html:<!DOCTYPE HTML PUBLIC "-//W3C//DTD HTML 3.2//E
	N">\n<HTML>\n<HEAD>\n<TITLE></TITLE>\n</HEAD>\n<BODY>\n<h3>BERALL vs. NOTHI
	NG BUT NETS</h3>Plus d'info : <a href="https://www.golnetwork.com/game/v/67
	869/">#73</a>\n\n</BODY>\n</HTML>
STATUS:CONFIRMED
CLASS:PUBLIC
URL:https://www.golnetwork.com/game/v/67869/
X-MICROSOFT-CDO-BUSYSTATUS:BUSY
X-MICROSOFT-CDO-IMPORTANCE:1
END:VEVENT
BEGIN:VEVENT
UID:g6qoe@games.golnetwork.com
LOCATION:Trafalgar
GEO:45.4987672;-73.5845067
CREATED:20150423T201020Z
DTSTART:20150519T233000Z
DTEND:20150520T003000Z
DTSTAMP:20260423T043008Z
SUMMARY:PUMP + DUNK vs. BERALL
DESCRIPTION:BERALL vs. PUMP + DUNKPlus d'info : #52
X-ALT-DESC;FMTTYPE=text/html:<!DOCTYPE HTML PUBLIC "-//W3C//DTD HTML 3.2//E
	N">\n<HTML>\n<HEAD>\n<TITLE></TITLE>\n</HEAD>\n<BODY>\n<h3>BERALL vs. PUMP 
	+ DUNK</h3>Plus d'info : <a href="https://www.golnetwork.com/game/v/67858/"
	>#52</a>\n\n</BODY>\n</HTML>
STATUS:CONFIRMED
CLASS:PUBLIC
URL:https://www.golnetwork.com/game/v/67858/
X-MICROSOFT-CDO-BUSYSTATUS:BUSY
X-MICROSOFT-CDO-IMPORTANCE:1
END:VEVENT
BEGIN:VEVENT
UID:g6qnj@games.golnetwork.com
LOCATION:Trafalgar
GEO:45.4987672;-73.5845067
CREATED:20150423T201020Z
DTSTART:20150512T223000Z
DTEND:20150512T233000Z
DTSTAMP:20260423T043008Z
SUMMARY:PAX TOWN vs. BERALL
DESCRIPTION:BERALL vs. PAX TOWNPlus d'info : #35
X-ALT-DESC;FMTTYPE=text/html:<!DOCTYPE HTML PUBLIC "-//W3C//DTD HTML 3.2//E
	N">\n<HTML>\n<HEAD>\n<TITLE></TITLE>\n</HEAD>\n<BODY>\n<h3>BERALL vs. PAX T
	OWN</h3>Plus d'info : <a href="https://www.golnetwork.com/game/v/67847/">#3
	5</a>\n\n</BODY>\n</HTML>
STATUS:CONFIRMED
CLASS:PUBLIC
URL:https://www.golnetwork.com/game/v/67847/
X-MICROSOFT-CDO-BUSYSTATUS:BUSY
X-MICROSOFT-CDO-IMPORTANCE:1
END:VEVENT
BEGIN:VEVENT
UID:g6qmo@games.golnetwork.com
LOCATION:CVM - Court #1
GEO:45.5146585;-73.5658635
CREATED:20150423T201020Z
DTSTART:20150504T233000Z
DTEND:20150505T003000Z
DTSTAMP:20260423T043008Z
SUMMARY:OLD SCHOOL vs. BERALL
DESCRIPTION:BERALL vs. OLD SCHOOLPlus d'info : #1
X-ALT-DESC;FMTTYPE=text/html:<!DOCTYPE HTML PUBLIC "-//W3C//DTD HTML 3.2//E
	N">\n<HTML>\n<HEAD>\n<TITLE></TITLE>\n</HEAD>\n<BODY>\n<h3>BERALL vs. OLD S
	CHOOL</h3>Plus d'info : <a href="https://www.golnetwork.com/game/v/67836/">
	#1</a>\n\n</BODY>\n</HTML>
STATUS:CONFIRMED
CLASS:PUBLIC
URL:https://www.golnetwork.com/game/v/67836/
X-MICROSOFT-CDO-BUSYSTATUS:BUSY
X-MICROSOFT-CDO-IMPORTANCE:1
END:VEVENT
END:VCALENDAR
