BEGIN:VCALENDAR
PRODID:-//gdesolutions.com//MV Framework 1.0.0.1607 Calendar//EN
VERSION:2.0
METHOD:PUBLISH
CALSCALE:GREGORIAN
BEGIN:VEVENT
UID:g6o3b@games.golnetwork.com
LOCATION:North Toronto - Field 3
GEO:43.7098022;-79.3963055
CREATED:20150420T194852Z
DTSTART:20150615T230000Z
DTEND:20150615T235000Z
DTSTAMP:20260421T221420Z
SUMMARY:Entuitive FC vs. Blue Balls
DESCRIPTION:Blue Balls vs. Entuitive FCPlus d'info : #315
X-ALT-DESC;FMTTYPE=text/html:<!DOCTYPE HTML PUBLIC "-//W3C//DTD HTML 3.2//E
	N">\n<HTML>\n<HEAD>\n<TITLE></TITLE>\n</HEAD>\n<BODY>\n<h3>Blue Balls vs. E
	ntuitive FC</h3>Plus d'info : <a href="https://www.golnetwork.com/game/v/66
	844/">#315</a>\n\n</BODY>\n</HTML>
STATUS:CONFIRMED
CLASS:PUBLIC
URL:https://www.golnetwork.com/game/v/66844/
X-MICROSOFT-CDO-BUSYSTATUS:BUSY
X-MICROSOFT-CDO-IMPORTANCE:1
END:VEVENT
BEGIN:VEVENT
UID:g6o35@games.golnetwork.com
LOCATION:North Toronto - Field 3
GEO:43.7098022;-79.3963055
CREATED:20150420T194825Z
DTSTART:20150608T220000Z
DTEND:20150608T225000Z
DTSTAMP:20260421T221420Z
SUMMARY:Victorious Secret v4.0 vs. Entuitive FC
DESCRIPTION:Entuitive FC vs. Victorious Secret v4.0Plus d'info : #256
X-ALT-DESC;FMTTYPE=text/html:<!DOCTYPE HTML PUBLIC "-//W3C//DTD HTML 3.2//E
	N">\n<HTML>\n<HEAD>\n<TITLE></TITLE>\n</HEAD>\n<BODY>\n<h3>Entuitive FC vs.
	 Victorious Secret v4.0</h3>Plus d'info : <a href="https://www.golnetwork.c
	om/game/v/66841/">#256</a>\n\n</BODY>\n</HTML>
STATUS:CONFIRMED
CLASS:PUBLIC
URL:https://www.golnetwork.com/game/v/66841/
X-MICROSOFT-CDO-BUSYSTATUS:BUSY
X-MICROSOFT-CDO-IMPORTANCE:1
END:VEVENT
BEGIN:VEVENT
UID:g6o31@games.golnetwork.com
LOCATION:North Toronto - Field 3
GEO:43.7098022;-79.3963055
CREATED:20150420T194759Z
DTSTART:20150601T235500Z
DTEND:20150602T004500Z
DTSTAMP:20260421T221420Z
SUMMARY:Entuitive FC vs. No Name FC
DESCRIPTION:No Name FC vs. Entuitive FCPlus d'info : #208
X-ALT-DESC;FMTTYPE=text/html:<!DOCTYPE HTML PUBLIC "-//W3C//DTD HTML 3.2//E
	N">\n<HTML>\n<HEAD>\n<TITLE></TITLE>\n</HEAD>\n<BODY>\n<h3>No Name FC vs. E
	ntuitive FC</h3>Plus d'info : <a href="https://www.golnetwork.com/game/v/66
	839/">#208</a>\n\n</BODY>\n</HTML>
STATUS:CONFIRMED
CLASS:PUBLIC
URL:https://www.golnetwork.com/game/v/66839/
X-MICROSOFT-CDO-BUSYSTATUS:BUSY
X-MICROSOFT-CDO-IMPORTANCE:1
END:VEVENT
BEGIN:VEVENT
UID:g6o2k@games.golnetwork.com
LOCATION:North Toronto - Field 3
GEO:43.7098022;-79.3963055
CREATED:20150420T194647Z
DTSTART:20150525T235000Z
DTEND:20150526T004000Z
DTSTAMP:20260421T221420Z
SUMMARY:Entuitive FC vs. Mortchester City
DESCRIPTION:Mortchester City vs. Entuitive FCPlus d'info : #153
X-ALT-DESC;FMTTYPE=text/html:<!DOCTYPE HTML PUBLIC "-//W3C//DTD HTML 3.2//E
	N">\n<HTML>\n<HEAD>\n<TITLE></TITLE>\n</HEAD>\n<BODY>\n<h3>Mortchester City
	 vs. Entuitive FC</h3>Plus d'info : <a href="https://www.golnetwork.com/gam
	e/v/66835/">#153</a>\n\n</BODY>\n</HTML>
STATUS:CONFIRMED
CLASS:PUBLIC
URL:https://www.golnetwork.com/game/v/66835/
X-MICROSOFT-CDO-BUSYSTATUS:BUSY
X-MICROSOFT-CDO-IMPORTANCE:1
END:VEVENT
BEGIN:VEVENT
UID:g6o28@games.golnetwork.com
LOCATION:North Toronto - Field 3
GEO:43.7098022;-79.3963055
CREATED:20150420T194509Z
DTSTART:20150518T220000Z
DTEND:20150518T225000Z
DTSTAMP:20260421T221420Z
SUMMARY:Entuitive FC vs. Blue Balls
DESCRIPTION:Blue Balls vs. Entuitive FCPlus d'info : #107
X-ALT-DESC;FMTTYPE=text/html:<!DOCTYPE HTML PUBLIC "-//W3C//DTD HTML 3.2//E
	N">\n<HTML>\n<HEAD>\n<TITLE></TITLE>\n</HEAD>\n<BODY>\n<h3>Blue Balls vs. E
	ntuitive FC</h3>Plus d'info : <a href="https://www.golnetwork.com/game/v/66
	829/">#107</a>\n\n</BODY>\n</HTML>
STATUS:CONFIRMED
CLASS:PUBLIC
URL:https://www.golnetwork.com/game/v/66829/
X-MICROSOFT-CDO-BUSYSTATUS:BUSY
X-MICROSOFT-CDO-IMPORTANCE:1
END:VEVENT
BEGIN:VEVENT
UID:g6o24@games.golnetwork.com
LOCATION:North Toronto - Field 3
GEO:43.7098022;-79.3963055
CREATED:20150420T194440Z
DTSTART:20150511T235000Z
DTEND:20150512T004000Z
DTSTAMP:20260421T221420Z
SUMMARY:Entuitive FC vs. EFC
DESCRIPTION:EFC vs. Entuitive FCPlus d'info : #76
X-ALT-DESC;FMTTYPE=text/html:<!DOCTYPE HTML PUBLIC "-//W3C//DTD HTML 3.2//E
	N">\n<HTML>\n<HEAD>\n<TITLE></TITLE>\n</HEAD>\n<BODY>\n<h3>EFC vs. Entuitiv
	e FC</h3>Plus d'info : <a href="https://www.golnetwork.com/game/v/66827/">#
	76</a>\n\n</BODY>\n</HTML>
STATUS:CONFIRMED
CLASS:PUBLIC
URL:https://www.golnetwork.com/game/v/66827/
X-MICROSOFT-CDO-BUSYSTATUS:BUSY
X-MICROSOFT-CDO-IMPORTANCE:1
END:VEVENT
BEGIN:VEVENT
UID:g6o1l@games.golnetwork.com
LOCATION:North Toronto - Field 3
GEO:43.7098022;-79.3963055
CREATED:20150420T194123Z
DTSTART:20150504T225500Z
DTEND:20150504T234500Z
DTSTAMP:20260421T221420Z
SUMMARY:Entuitive FC vs. Wildcats
DESCRIPTION:Wildcats vs. Entuitive FCPlus d'info : #37
X-ALT-DESC;FMTTYPE=text/html:<!DOCTYPE HTML PUBLIC "-//W3C//DTD HTML 3.2//E
	N">\n<HTML>\n<HEAD>\n<TITLE></TITLE>\n</HEAD>\n<BODY>\n<h3>Wildcats vs. Ent
	uitive FC</h3>Plus d'info : <a href="https://www.golnetwork.com/game/v/6682
	2/">#37</a>\n\n</BODY>\n</HTML>
STATUS:CONFIRMED
CLASS:PUBLIC
URL:https://www.golnetwork.com/game/v/66822/
X-MICROSOFT-CDO-BUSYSTATUS:BUSY
X-MICROSOFT-CDO-IMPORTANCE:1
END:VEVENT
BEGIN:VEVENT
UID:g6o19@games.golnetwork.com
LOCATION:North Toronto - Field 2
GEO:43.7098022;-79.3963055
CREATED:20150420T193817Z
DTSTART:20150427T220000Z
DTEND:20150427T225000Z
DTSTAMP:20260421T221420Z
SUMMARY:Samba vs. Entuitive FC
DESCRIPTION:Entuitive FC vs. SambaPlus d'info : #11
X-ALT-DESC;FMTTYPE=text/html:<!DOCTYPE HTML PUBLIC "-//W3C//DTD HTML 3.2//E
	N">\n<HTML>\n<HEAD>\n<TITLE></TITLE>\n</HEAD>\n<BODY>\n<h3>Entuitive FC vs.
	 Samba</h3>Plus d'info : <a href="https://www.golnetwork.com/game/v/66816/"
	>#11</a>\n\n</BODY>\n</HTML>
STATUS:CONFIRMED
CLASS:PUBLIC
URL:https://www.golnetwork.com/game/v/66816/
X-MICROSOFT-CDO-BUSYSTATUS:BUSY
X-MICROSOFT-CDO-IMPORTANCE:1
END:VEVENT
BEGIN:VEVENT
UID:g6njc@games.golnetwork.com
LOCATION:North Toronto - Field 3
GEO:43.7098022;-79.3963055
CREATED:20150413T233535Z
DTSTART:20150420T235000Z
DTEND:20150421T004000Z
DTSTAMP:20260421T221420Z
SUMMARY:Victorious Secret v4.0 vs. Entuitive FC
DESCRIPTION:Entuitive FC vs. Victorious Secret v4.0Plus d'info : #9
X-ALT-DESC;FMTTYPE=text/html:<!DOCTYPE HTML PUBLIC "-//W3C//DTD HTML 3.2//E
	N">\n<HTML>\n<HEAD>\n<TITLE></TITLE>\n</HEAD>\n<BODY>\n<h3>Entuitive FC vs.
	 Victorious Secret v4.0</h3>Plus d'info : <a href="https://www.golnetwork.c
	om/game/v/66696/">#9</a>\n\n</BODY>\n</HTML>
STATUS:CONFIRMED
CLASS:PUBLIC
URL:https://www.golnetwork.com/game/v/66696/
X-MICROSOFT-CDO-BUSYSTATUS:BUSY
X-MICROSOFT-CDO-IMPORTANCE:1
END:VEVENT
END:VCALENDAR
