BEGIN:VCALENDAR
PRODID:-//gdesolutions.com//MV Framework 1.0.0.1607 Calendar//EN
VERSION:2.0
METHOD:PUBLISH
CALSCALE:GREGORIAN
BEGIN:VEVENT
UID:g8id5@games.golnetwork.com
LOCATION:Monarch Park Stadium - Field 3
GEO:43.6792789;-79.3234873
CREATED:20160304T132128Z
DTSTART:20160504T010000Z
DTEND:20160504T020000Z
DTSTAMP:20260423T040652Z
SUMMARY:Dirt Squirrel vs. Samba
DESCRIPTION:Samba vs. Dirt SquirrelPlus d'info : #636
X-ALT-DESC;FMTTYPE=text/html:<!DOCTYPE HTML PUBLIC "-//W3C//DTD HTML 3.2//E
	N">\n<HTML>\n<HEAD>\n<TITLE></TITLE>\n</HEAD>\n<BODY>\n<h3>Samba vs. Dirt S
	quirrel</h3>Plus d'info : <a href="https://www.golnetwork.com/game/v/84472/
	">#636</a>\n\n</BODY>\n</HTML>
STATUS:CONFIRMED
CLASS:PUBLIC
URL:https://www.golnetwork.com/game/v/84472/
X-MICROSOFT-CDO-BUSYSTATUS:BUSY
X-MICROSOFT-CDO-IMPORTANCE:1
END:VEVENT
BEGIN:VEVENT
UID:g8icm@games.golnetwork.com
LOCATION:Monarch Park Stadium - Field 3
GEO:43.6792789;-79.3234873
CREATED:20160304T131847Z
DTSTART:20160420T020000Z
DTEND:20160420T030000Z
DTSTAMP:20260423T040652Z
SUMMARY:Gravy Train vs. Samba
DESCRIPTION:Samba vs. Gravy TrainPlus d'info : #605
X-ALT-DESC;FMTTYPE=text/html:<!DOCTYPE HTML PUBLIC "-//W3C//DTD HTML 3.2//E
	N">\n<HTML>\n<HEAD>\n<TITLE></TITLE>\n</HEAD>\n<BODY>\n<h3>Samba vs. Gravy 
	Train</h3>Plus d'info : <a href="https://www.golnetwork.com/game/v/84467/">
	#605</a>\n\n</BODY>\n</HTML>
STATUS:CONFIRMED
CLASS:PUBLIC
URL:https://www.golnetwork.com/game/v/84467/
X-MICROSOFT-CDO-BUSYSTATUS:BUSY
X-MICROSOFT-CDO-IMPORTANCE:1
END:VEVENT
BEGIN:VEVENT
UID:g8icg@games.golnetwork.com
LOCATION:Monarch Park Stadium - Field 3
GEO:43.6792789;-79.3234873
CREATED:20160304T131748Z
DTSTART:20160413T020000Z
DTEND:20160413T030000Z
DTSTAMP:20260423T040652Z
SUMMARY:JFK vs. Samba
DESCRIPTION:Samba vs. JFKPlus d'info : #579
X-ALT-DESC;FMTTYPE=text/html:<!DOCTYPE HTML PUBLIC "-//W3C//DTD HTML 3.2//E
	N">\n<HTML>\n<HEAD>\n<TITLE></TITLE>\n</HEAD>\n<BODY>\n<h3>Samba vs. JFK</h
	3>Plus d'info : <a href="https://www.golnetwork.com/game/v/84464/">#579</a>
	\n\n</BODY>\n</HTML>
STATUS:CONFIRMED
CLASS:PUBLIC
URL:https://www.golnetwork.com/game/v/84464/
X-MICROSOFT-CDO-BUSYSTATUS:BUSY
X-MICROSOFT-CDO-IMPORTANCE:1
END:VEVENT
BEGIN:VEVENT
UID:g8ic4@games.golnetwork.com
LOCATION:Monarch Park Stadium - Field 3
GEO:43.6792789;-79.3234873
CREATED:20160304T131619Z
DTSTART:20160406T010000Z
DTEND:20160406T020000Z
DTSTAMP:20260423T040652Z
SUMMARY:The Young and the Mexican vs. Samba
DESCRIPTION:Samba vs. The Young and the MexicanPlus d'info : #531
X-ALT-DESC;FMTTYPE=text/html:<!DOCTYPE HTML PUBLIC "-//W3C//DTD HTML 3.2//E
	N">\n<HTML>\n<HEAD>\n<TITLE></TITLE>\n</HEAD>\n<BODY>\n<h3>Samba vs. The Yo
	ung and the Mexican</h3>Plus d'info : <a href="https://www.golnetwork.com/g
	ame/v/84458/">#531</a>\n\n</BODY>\n</HTML>
STATUS:CONFIRMED
CLASS:PUBLIC
URL:https://www.golnetwork.com/game/v/84458/
X-MICROSOFT-CDO-BUSYSTATUS:BUSY
X-MICROSOFT-CDO-IMPORTANCE:1
END:VEVENT
BEGIN:VEVENT
UID:g8ic0@games.golnetwork.com
LOCATION:Monarch Park Stadium - Field 3
GEO:43.6792789;-79.3234873
CREATED:20160304T131526Z
DTSTART:20160330T020000Z
DTEND:20160330T030000Z
DTSTAMP:20260423T040652Z
SUMMARY:Hedgie FC vs. Samba
DESCRIPTION:Samba vs. Hedgie FCPlus d'info : #489
X-ALT-DESC;FMTTYPE=text/html:<!DOCTYPE HTML PUBLIC "-//W3C//DTD HTML 3.2//E
	N">\n<HTML>\n<HEAD>\n<TITLE></TITLE>\n</HEAD>\n<BODY>\n<h3>Samba vs. Hedgie
	 FC</h3>Plus d'info : <a href="https://www.golnetwork.com/game/v/84456/">#4
	89</a>\n\n</BODY>\n</HTML>
STATUS:CONFIRMED
CLASS:PUBLIC
URL:https://www.golnetwork.com/game/v/84456/
X-MICROSOFT-CDO-BUSYSTATUS:BUSY
X-MICROSOFT-CDO-IMPORTANCE:1
END:VEVENT
BEGIN:VEVENT
UID:g8ibh@games.golnetwork.com
LOCATION:Monarch Park Stadium - Field 3
GEO:43.6792789;-79.3234873
CREATED:20160304T131350Z
DTSTART:20160322T230000Z
DTEND:20160323T000000Z
DTSTAMP:20260423T040652Z
SUMMARY:Misfires vs. Samba
DESCRIPTION:Samba vs. MisfiresPlus d'info : #455
X-ALT-DESC;FMTTYPE=text/html:<!DOCTYPE HTML PUBLIC "-//W3C//DTD HTML 3.2//E
	N">\n<HTML>\n<HEAD>\n<TITLE></TITLE>\n</HEAD>\n<BODY>\n<h3>Samba vs. Misfir
	es</h3>Plus d'info : <a href="https://www.golnetwork.com/game/v/84451/">#45
	5</a>\n\n</BODY>\n</HTML>
STATUS:CONFIRMED
CLASS:PUBLIC
URL:https://www.golnetwork.com/game/v/84451/
X-MICROSOFT-CDO-BUSYSTATUS:BUSY
X-MICROSOFT-CDO-IMPORTANCE:1
END:VEVENT
BEGIN:VEVENT
UID:g8ib9@games.golnetwork.com
LOCATION:Monarch Park Stadium - Field 3
GEO:43.6792789;-79.3234873
CREATED:20160304T131253Z
DTSTART:20160316T010000Z
DTEND:20160316T020000Z
DTSTAMP:20260423T040652Z
SUMMARY:Dirt Squirrel vs. Samba
DESCRIPTION:Samba vs. Dirt SquirrelPlus d'info : #412
X-ALT-DESC;FMTTYPE=text/html:<!DOCTYPE HTML PUBLIC "-//W3C//DTD HTML 3.2//E
	N">\n<HTML>\n<HEAD>\n<TITLE></TITLE>\n</HEAD>\n<BODY>\n<h3>Samba vs. Dirt S
	quirrel</h3>Plus d'info : <a href="https://www.golnetwork.com/game/v/84447/
	">#412</a>\n\n</BODY>\n</HTML>
STATUS:CONFIRMED
CLASS:PUBLIC
URL:https://www.golnetwork.com/game/v/84447/
X-MICROSOFT-CDO-BUSYSTATUS:BUSY
X-MICROSOFT-CDO-IMPORTANCE:1
END:VEVENT
BEGIN:VEVENT
UID:g8ib1@games.golnetwork.com
LOCATION:Monarch Park Stadium - Field 2
GEO:43.6792789;-79.3234873
CREATED:20160304T130620Z
DTSTART:20160309T040000Z
DTEND:20160309T050000Z
DTSTAMP:20260423T040652Z
SUMMARY:Les Foufounes vs. Samba
DESCRIPTION:Samba vs. Les FoufounesPlus d'info : #376
X-ALT-DESC;FMTTYPE=text/html:<!DOCTYPE HTML PUBLIC "-//W3C//DTD HTML 3.2//E
	N">\n<HTML>\n<HEAD>\n<TITLE></TITLE>\n</HEAD>\n<BODY>\n<h3>Samba vs. Les Fo
	ufounes</h3>Plus d'info : <a href="https://www.golnetwork.com/game/v/84443/
	">#376</a>\n\n</BODY>\n</HTML>
STATUS:CONFIRMED
CLASS:PUBLIC
URL:https://www.golnetwork.com/game/v/84443/
X-MICROSOFT-CDO-BUSYSTATUS:BUSY
X-MICROSOFT-CDO-IMPORTANCE:1
END:VEVENT
END:VCALENDAR
