BEGIN:VCALENDAR
PRODID:-//gdesolutions.com//MV Framework 1.0.0.1607 Calendar//EN
VERSION:2.0
METHOD:PUBLISH
CALSCALE:GREGORIAN
BEGIN:VEVENT
UID:g8m3b@games.golnetwork.com
LOCATION:North Toronto - Field 3
GEO:43.7098022;-79.3963055
CREATED:20160407T205820Z
DTSTART:20160621T000500Z
DTEND:20160621T010500Z
DTSTAMP:20260419T193334Z
SUMMARY:Wildcats vs. Samba
DESCRIPTION:Samba vs. WildcatsPlus d'info : #369
X-ALT-DESC;FMTTYPE=text/html:<!DOCTYPE HTML PUBLIC "-//W3C//DTD HTML 3.2//E
	N">\n<HTML>\n<HEAD>\n<TITLE></TITLE>\n</HEAD>\n<BODY>\n<h3>Samba vs. Wildca
	ts</h3>Plus d'info : <a href="https://www.golnetwork.com/game/v/85798/">#36
	9</a>\n\n</BODY>\n</HTML>
STATUS:CONFIRMED
CLASS:PUBLIC
URL:https://www.golnetwork.com/game/v/85798/
X-MICROSOFT-CDO-BUSYSTATUS:BUSY
X-MICROSOFT-CDO-IMPORTANCE:1
END:VEVENT
BEGIN:VEVENT
UID:g8m37@games.golnetwork.com
LOCATION:North Toronto - Field 2
GEO:43.7098022;-79.3963055
CREATED:20160407T205820Z
DTSTART:20160613T231000Z
DTEND:20160614T001000Z
DTSTAMP:20260419T193334Z
SUMMARY:Samba vs. ITRG
DESCRIPTION:ITRG vs. SambaPlus d'info : #301
X-ALT-DESC;FMTTYPE=text/html:<!DOCTYPE HTML PUBLIC "-//W3C//DTD HTML 3.2//E
	N">\n<HTML>\n<HEAD>\n<TITLE></TITLE>\n</HEAD>\n<BODY>\n<h3>ITRG vs. Samba</
	h3>Plus d'info : <a href="https://www.golnetwork.com/game/v/85796/">#301</a
	>\n\n</BODY>\n</HTML>
STATUS:CONFIRMED
CLASS:PUBLIC
URL:https://www.golnetwork.com/game/v/85796/
X-MICROSOFT-CDO-BUSYSTATUS:BUSY
X-MICROSOFT-CDO-IMPORTANCE:1
END:VEVENT
END:VCALENDAR
