BEGIN:VCALENDAR
PRODID:-//gdesolutions.com//MV Framework 1.0.0.1607 Calendar//EN
VERSION:2.0
METHOD:PUBLISH
CALSCALE:GREGORIAN
BEGIN:VEVENT
UID:g6pkd@games.golnetwork.com
LOCATION:Marianopolis #1
GEO:45.4807868;-73.610845
CREATED:20150423T184226Z
DTSTART:20150827T013000Z
DTEND:20150827T023000Z
DTSTAMP:20260419T144809Z
SUMMARY:D FIRE vs. EMPIRE M1
DESCRIPTION:EMPIRE M1 vs. D FIREPlus d'info : #448
X-ALT-DESC;FMTTYPE=text/html:<!DOCTYPE HTML PUBLIC "-//W3C//DTD HTML 3.2//E
	N">\n<HTML>\n<HEAD>\n<TITLE></TITLE>\n</HEAD>\n<BODY>\n<h3>EMPIRE M1 vs. D 
	FIRE</h3>Plus d'info : <a href="https://www.golnetwork.com/game/v/67439/">#
	448</a>\n\n</BODY>\n</HTML>
STATUS:CONFIRMED
CLASS:PUBLIC
URL:https://www.golnetwork.com/game/v/67439/
X-MICROSOFT-CDO-BUSYSTATUS:BUSY
X-MICROSOFT-CDO-IMPORTANCE:1
END:VEVENT
BEGIN:VEVENT
UID:g6po3@games.golnetwork.com
LOCATION:Marianopolis #1
GEO:45.4807868;-73.610845
CREATED:20150423T184226Z
DTSTART:20150818T013000Z
DTEND:20150818T023000Z
DTSTAMP:20260419T144809Z
SUMMARY:EMPIRE M1 vs. UNTOUCHABLE
DESCRIPTION:UNTOUCHABLE vs. EMPIRE M1Plus d'info : #407
X-ALT-DESC;FMTTYPE=text/html:<!DOCTYPE HTML PUBLIC "-//W3C//DTD HTML 3.2//E
	N">\n<HTML>\n<HEAD>\n<TITLE></TITLE>\n</HEAD>\n<BODY>\n<h3>UNTOUCHABLE vs. 
	EMPIRE M1</h3>Plus d'info : <a href="https://www.golnetwork.com/game/v/6748
	8/">#407</a>\n\n</BODY>\n</HTML>
STATUS:CONFIRMED
CLASS:PUBLIC
URL:https://www.golnetwork.com/game/v/67488/
X-MICROSOFT-CDO-BUSYSTATUS:BUSY
X-MICROSOFT-CDO-IMPORTANCE:1
END:VEVENT
BEGIN:VEVENT
UID:g6pno@games.golnetwork.com
LOCATION:Marianopolis #1
GEO:45.4807868;-73.610845
CREATED:20150423T184226Z
DTSTART:20150811T013000Z
DTEND:20150811T023000Z
DTSTAMP:20260419T144809Z
SUMMARY:EMPIRE M1 vs. DIAMOND BALLERS
DESCRIPTION:DIAMOND BALLERS vs. EMPIRE M1Plus d'info : #378
X-ALT-DESC;FMTTYPE=text/html:<!DOCTYPE HTML PUBLIC "-//W3C//DTD HTML 3.2//E
	N">\n<HTML>\n<HEAD>\n<TITLE></TITLE>\n</HEAD>\n<BODY>\n<h3>DIAMOND BALLERS 
	vs. EMPIRE M1</h3>Plus d'info : <a href="https://www.golnetwork.com/game/v/
	67485/">#378</a>\n\n</BODY>\n</HTML>
STATUS:CONFIRMED
CLASS:PUBLIC
URL:https://www.golnetwork.com/game/v/67485/
X-MICROSOFT-CDO-BUSYSTATUS:BUSY
X-MICROSOFT-CDO-IMPORTANCE:1
END:VEVENT
BEGIN:VEVENT
UID:g6pne@games.golnetwork.com
LOCATION:Marianopolis #1
GEO:45.4807868;-73.610845
CREATED:20150423T184226Z
DTSTART:20150804T013000Z
DTEND:20150804T023000Z
DTSTAMP:20260419T144809Z
SUMMARY:EMPIRE M1 vs. HEADHUNTERS
DESCRIPTION:HEADHUNTERS vs. EMPIRE M1Plus d'info : #351
X-ALT-DESC;FMTTYPE=text/html:<!DOCTYPE HTML PUBLIC "-//W3C//DTD HTML 3.2//E
	N">\n<HTML>\n<HEAD>\n<TITLE></TITLE>\n</HEAD>\n<BODY>\n<h3>HEADHUNTERS vs. 
	EMPIRE M1</h3>Plus d'info : <a href="https://www.golnetwork.com/game/v/6748
	0/">#351</a>\n\n</BODY>\n</HTML>
STATUS:CONFIRMED
CLASS:PUBLIC
URL:https://www.golnetwork.com/game/v/67480/
X-MICROSOFT-CDO-BUSYSTATUS:BUSY
X-MICROSOFT-CDO-IMPORTANCE:1
END:VEVENT
BEGIN:VEVENT
UID:g6pn6@games.golnetwork.com
LOCATION:Marianopolis #1
GEO:45.4807868;-73.610845
CREATED:20150423T184226Z
DTSTART:20150728T013000Z
DTEND:20150728T023000Z
DTSTAMP:20260419T144809Z
SUMMARY:NACOS vs. EMPIRE M1
DESCRIPTION:EMPIRE M1 vs. NACOSPlus d'info : #322
X-ALT-DESC;FMTTYPE=text/html:<!DOCTYPE HTML PUBLIC "-//W3C//DTD HTML 3.2//E
	N">\n<HTML>\n<HEAD>\n<TITLE></TITLE>\n</HEAD>\n<BODY>\n<h3>EMPIRE M1 vs. NA
	COS</h3>Plus d'info : <a href="https://www.golnetwork.com/game/v/67476/">#3
	22</a>\n\n</BODY>\n</HTML>
STATUS:CONFIRMED
CLASS:PUBLIC
URL:https://www.golnetwork.com/game/v/67476/
X-MICROSOFT-CDO-BUSYSTATUS:BUSY
X-MICROSOFT-CDO-IMPORTANCE:1
END:VEVENT
BEGIN:VEVENT
UID:g6pmp@games.golnetwork.com
LOCATION:Marianopolis #1
GEO:45.4807868;-73.610845
CREATED:20150423T184226Z
DTSTART:20150721T013000Z
DTEND:20150721T023000Z
DTSTAMP:20260419T144809Z
SUMMARY:EMPIRE M1 vs. D FIRE
DESCRIPTION:D FIRE vs. EMPIRE M1Plus d'info : #294
X-ALT-DESC;FMTTYPE=text/html:<!DOCTYPE HTML PUBLIC "-//W3C//DTD HTML 3.2//E
	N">\n<HTML>\n<HEAD>\n<TITLE></TITLE>\n</HEAD>\n<BODY>\n<h3>D FIRE vs. EMPIR
	E M1</h3>Plus d'info : <a href="https://www.golnetwork.com/game/v/67472/">#
	294</a>\n\n</BODY>\n</HTML>
STATUS:CONFIRMED
CLASS:PUBLIC
URL:https://www.golnetwork.com/game/v/67472/
X-MICROSOFT-CDO-BUSYSTATUS:BUSY
X-MICROSOFT-CDO-IMPORTANCE:1
END:VEVENT
BEGIN:VEVENT
UID:g6pmh@games.golnetwork.com
LOCATION:Marianopolis #1
GEO:45.4807868;-73.610845
CREATED:20150423T184226Z
DTSTART:20150714T013000Z
DTEND:20150714T023000Z
DTSTAMP:20260419T144809Z
SUMMARY:UNTOUCHABLE vs. EMPIRE M1
DESCRIPTION:EMPIRE M1 vs. UNTOUCHABLEPlus d'info : #263
X-ALT-DESC;FMTTYPE=text/html:<!DOCTYPE HTML PUBLIC "-//W3C//DTD HTML 3.2//E
	N">\n<HTML>\n<HEAD>\n<TITLE></TITLE>\n</HEAD>\n<BODY>\n<h3>EMPIRE M1 vs. UN
	TOUCHABLE</h3>Plus d'info : <a href="https://www.golnetwork.com/game/v/6746
	8/">#263</a>\n\n</BODY>\n</HTML>
STATUS:CONFIRMED
CLASS:PUBLIC
URL:https://www.golnetwork.com/game/v/67468/
X-MICROSOFT-CDO-BUSYSTATUS:BUSY
X-MICROSOFT-CDO-IMPORTANCE:1
END:VEVENT
BEGIN:VEVENT
UID:g6pm9@games.golnetwork.com
LOCATION:Marianopolis #1
GEO:45.4807868;-73.610845
CREATED:20150423T184226Z
DTSTART:20150707T013000Z
DTEND:20150707T023000Z
DTSTAMP:20260419T144809Z
SUMMARY:EMPIRE M1 vs. VETS
DESCRIPTION:VETS vs. EMPIRE M1Plus d'info : #234
X-ALT-DESC;FMTTYPE=text/html:<!DOCTYPE HTML PUBLIC "-//W3C//DTD HTML 3.2//E
	N">\n<HTML>\n<HEAD>\n<TITLE></TITLE>\n</HEAD>\n<BODY>\n<h3>VETS vs. EMPIRE 
	M1</h3>Plus d'info : <a href="https://www.golnetwork.com/game/v/67464/">#23
	4</a>\n\n</BODY>\n</HTML>
STATUS:CONFIRMED
CLASS:PUBLIC
URL:https://www.golnetwork.com/game/v/67464/
X-MICROSOFT-CDO-BUSYSTATUS:BUSY
X-MICROSOFT-CDO-IMPORTANCE:1
END:VEVENT
BEGIN:VEVENT
UID:g6pm1@games.golnetwork.com
LOCATION:Marianopolis #1
GEO:45.4807868;-73.610845
CREATED:20150423T184226Z
DTSTART:20150630T013000Z
DTEND:20150630T023000Z
DTSTAMP:20260419T144809Z
SUMMARY:DIAMOND BALLERS vs. EMPIRE M1
DESCRIPTION:EMPIRE M1 vs. DIAMOND BALLERSPlus d'info : #207
X-ALT-DESC;FMTTYPE=text/html:<!DOCTYPE HTML PUBLIC "-//W3C//DTD HTML 3.2//E
	N">\n<HTML>\n<HEAD>\n<TITLE></TITLE>\n</HEAD>\n<BODY>\n<h3>EMPIRE M1 vs. DI
	AMOND BALLERS</h3>Plus d'info : <a href="https://www.golnetwork.com/game/v/
	67460/">#207</a>\n\n</BODY>\n</HTML>
STATUS:CONFIRMED
CLASS:PUBLIC
URL:https://www.golnetwork.com/game/v/67460/
X-MICROSOFT-CDO-BUSYSTATUS:BUSY
X-MICROSOFT-CDO-IMPORTANCE:1
END:VEVENT
BEGIN:VEVENT
UID:g6plk@games.golnetwork.com
LOCATION:Marianopolis #1
GEO:45.4807868;-73.610845
CREATED:20150423T184226Z
DTSTART:20150623T013000Z
DTEND:20150623T023000Z
DTSTAMP:20260419T144809Z
SUMMARY:EMPIRE M1 vs. KRAZEURS
DESCRIPTION:KRAZEURS vs. EMPIRE M1Plus d'info : #182
X-ALT-DESC;FMTTYPE=text/html:<!DOCTYPE HTML PUBLIC "-//W3C//DTD HTML 3.2//E
	N">\n<HTML>\n<HEAD>\n<TITLE></TITLE>\n</HEAD>\n<BODY>\n<h3>KRAZEURS vs. EMP
	IRE M1</h3>Plus d'info : <a href="https://www.golnetwork.com/game/v/67456/"
	>#182</a>\n\n</BODY>\n</HTML>
STATUS:CONFIRMED
CLASS:PUBLIC
URL:https://www.golnetwork.com/game/v/67456/
X-MICROSOFT-CDO-BUSYSTATUS:BUSY
X-MICROSOFT-CDO-IMPORTANCE:1
END:VEVENT
BEGIN:VEVENT
UID:g6plc@games.golnetwork.com
LOCATION:Marianopolis #1
GEO:45.4807868;-73.610845
CREATED:20150423T184226Z
DTSTART:20150616T013000Z
DTEND:20150616T023000Z
DTSTAMP:20260419T144809Z
SUMMARY:KRAZEURS vs. EMPIRE M1
DESCRIPTION:EMPIRE M1 vs. KRAZEURSPlus d'info : #154
X-ALT-DESC;FMTTYPE=text/html:<!DOCTYPE HTML PUBLIC "-//W3C//DTD HTML 3.2//E
	N">\n<HTML>\n<HEAD>\n<TITLE></TITLE>\n</HEAD>\n<BODY>\n<h3>EMPIRE M1 vs. KR
	AZEURS</h3>Plus d'info : <a href="https://www.golnetwork.com/game/v/67452/"
	>#154</a>\n\n</BODY>\n</HTML>
STATUS:CONFIRMED
CLASS:PUBLIC
URL:https://www.golnetwork.com/game/v/67452/
X-MICROSOFT-CDO-BUSYSTATUS:BUSY
X-MICROSOFT-CDO-IMPORTANCE:1
END:VEVENT
BEGIN:VEVENT
UID:g6pl6@games.golnetwork.com
LOCATION:CVM - Court #1
GEO:45.5146585;-73.5658635
CREATED:20150423T184226Z
DTSTART:20150609T013000Z
DTEND:20150609T023000Z
DTSTAMP:20260419T144809Z
SUMMARY:EMPIRE M1 vs. HEADHUNTERS
DESCRIPTION:HEADHUNTERS vs. EMPIRE M1Plus d'info : #125
X-ALT-DESC;FMTTYPE=text/html:<!DOCTYPE HTML PUBLIC "-//W3C//DTD HTML 3.2//E
	N">\n<HTML>\n<HEAD>\n<TITLE></TITLE>\n</HEAD>\n<BODY>\n<h3>HEADHUNTERS vs. 
	EMPIRE M1</h3>Plus d'info : <a href="https://www.golnetwork.com/game/v/6744
	9/">#125</a>\n\n</BODY>\n</HTML>
STATUS:CONFIRMED
CLASS:PUBLIC
URL:https://www.golnetwork.com/game/v/67449/
X-MICROSOFT-CDO-BUSYSTATUS:BUSY
X-MICROSOFT-CDO-IMPORTANCE:1
END:VEVENT
BEGIN:VEVENT
UID:g6pl0@games.golnetwork.com
LOCATION:Marianopolis #1
GEO:45.4807868;-73.610845
CREATED:20150423T184226Z
DTSTART:20150602T013000Z
DTEND:20150602T023000Z
DTSTAMP:20260419T144809Z
SUMMARY:EMPIRE M1 vs. UNTOUCHABLE
DESCRIPTION:UNTOUCHABLE vs. EMPIRE M1Plus d'info : #97
X-ALT-DESC;FMTTYPE=text/html:<!DOCTYPE HTML PUBLIC "-//W3C//DTD HTML 3.2//E
	N">\n<HTML>\n<HEAD>\n<TITLE></TITLE>\n</HEAD>\n<BODY>\n<h3>UNTOUCHABLE vs. 
	EMPIRE M1</h3>Plus d'info : <a href="https://www.golnetwork.com/game/v/6744
	6/">#97</a>\n\n</BODY>\n</HTML>
STATUS:CONFIRMED
CLASS:PUBLIC
URL:https://www.golnetwork.com/game/v/67446/
X-MICROSOFT-CDO-BUSYSTATUS:BUSY
X-MICROSOFT-CDO-IMPORTANCE:1
END:VEVENT
BEGIN:VEVENT
UID:g6pkl@games.golnetwork.com
LOCATION:CVM - Court #1
GEO:45.5146585;-73.5658635
CREATED:20150423T184226Z
DTSTART:20150526T013000Z
DTEND:20150526T023000Z
DTSTAMP:20260419T144809Z
SUMMARY:EMPIRE M1 vs. DIAMOND BALLERS
DESCRIPTION:DIAMOND BALLERS vs. EMPIRE M1Plus d'info : #70
X-ALT-DESC;FMTTYPE=text/html:<!DOCTYPE HTML PUBLIC "-//W3C//DTD HTML 3.2//E
	N">\n<HTML>\n<HEAD>\n<TITLE></TITLE>\n</HEAD>\n<BODY>\n<h3>DIAMOND BALLERS 
	vs. EMPIRE M1</h3>Plus d'info : <a href="https://www.golnetwork.com/game/v/
	67443/">#70</a>\n\n</BODY>\n</HTML>
STATUS:CONFIRMED
CLASS:PUBLIC
URL:https://www.golnetwork.com/game/v/67443/
X-MICROSOFT-CDO-BUSYSTATUS:BUSY
X-MICROSOFT-CDO-IMPORTANCE:1
END:VEVENT
BEGIN:VEVENT
UID:g6pk3@games.golnetwork.com
LOCATION:CVM - Court #1
GEO:45.5146585;-73.5658635
CREATED:20150423T184226Z
DTSTART:20150512T013000Z
DTEND:20150512T023000Z
DTSTAMP:20260419T144809Z
SUMMARY:VETS vs. EMPIRE M1
DESCRIPTION:EMPIRE M1 vs. VETSPlus d'info : #32
X-ALT-DESC;FMTTYPE=text/html:<!DOCTYPE HTML PUBLIC "-//W3C//DTD HTML 3.2//E
	N">\n<HTML>\n<HEAD>\n<TITLE></TITLE>\n</HEAD>\n<BODY>\n<h3>EMPIRE M1 vs. VE
	TS</h3>Plus d'info : <a href="https://www.golnetwork.com/game/v/67434/">#32
	</a>\n\n</BODY>\n</HTML>
STATUS:CONFIRMED
CLASS:PUBLIC
URL:https://www.golnetwork.com/game/v/67434/
X-MICROSOFT-CDO-BUSYSTATUS:BUSY
X-MICROSOFT-CDO-IMPORTANCE:1
END:VEVENT
BEGIN:VEVENT
UID:g6pjk@games.golnetwork.com
LOCATION:CVM - Court #1
GEO:45.5146585;-73.5658635
CREATED:20150423T184226Z
DTSTART:20150505T013000Z
DTEND:20150505T023000Z
DTSTAMP:20260419T144809Z
SUMMARY:NACOS vs. EMPIRE M1
DESCRIPTION:EMPIRE M1 vs. NACOSPlus d'info : #8
X-ALT-DESC;FMTTYPE=text/html:<!DOCTYPE HTML PUBLIC "-//W3C//DTD HTML 3.2//E
	N">\n<HTML>\n<HEAD>\n<TITLE></TITLE>\n</HEAD>\n<BODY>\n<h3>EMPIRE M1 vs. NA
	COS</h3>Plus d'info : <a href="https://www.golnetwork.com/game/v/67429/">#8
	</a>\n\n</BODY>\n</HTML>
STATUS:CONFIRMED
CLASS:PUBLIC
URL:https://www.golnetwork.com/game/v/67429/
X-MICROSOFT-CDO-BUSYSTATUS:BUSY
X-MICROSOFT-CDO-IMPORTANCE:1
END:VEVENT
END:VCALENDAR
