BEGIN:VCALENDAR
PRODID:-//gdesolutions.com//MV Framework 1.0.0.1607 Calendar//EN
VERSION:2.0
METHOD:PUBLISH
CALSCALE:GREGORIAN
BEGIN:VEVENT
UID:g79l1@games.golnetwork.com
LOCATION:Cherry Beach East 3
CREATED:20150702T183231Z
DTSTART:20150909T010000Z
DTEND:20150909T020000Z
DTSTAMP:20260421T195837Z
SUMMARY:Gringos vs. XTSC Power
DESCRIPTION:XTSC Power vs. GringosPlus d'info : #388
X-ALT-DESC;FMTTYPE=text/html:<!DOCTYPE HTML PUBLIC "-//W3C//DTD HTML 3.2//E
	N">\n<HTML>\n<HEAD>\n<TITLE></TITLE>\n</HEAD>\n<BODY>\n<h3>XTSC Power vs. G
	ringos</h3>Plus d'info : <a href="https://www.golnetwork.com/game/v/71456/"
	>#388</a>\n\n</BODY>\n</HTML>
STATUS:CONFIRMED
CLASS:PUBLIC
URL:https://www.golnetwork.com/game/v/71456/
X-MICROSOFT-CDO-BUSYSTATUS:BUSY
X-MICROSOFT-CDO-IMPORTANCE:1
END:VEVENT
BEGIN:VEVENT
UID:g79ko@games.golnetwork.com
LOCATION:Cherry Beach East 3
CREATED:20150702T183231Z
DTSTART:20150902T030000Z
DTEND:20150902T040000Z
DTSTAMP:20260421T195837Z
SUMMARY:Gringos vs. The Hooligans
DESCRIPTION:The Hooligans vs. GringosPlus d'info : #376
X-ALT-DESC;FMTTYPE=text/html:<!DOCTYPE HTML PUBLIC "-//W3C//DTD HTML 3.2//E
	N">\n<HTML>\n<HEAD>\n<TITLE></TITLE>\n</HEAD>\n<BODY>\n<h3>The Hooligans vs
	. Gringos</h3>Plus d'info : <a href="https://www.golnetwork.com/game/v/7145
	4/">#376</a>\n\n</BODY>\n</HTML>
STATUS:CONFIRMED
CLASS:PUBLIC
URL:https://www.golnetwork.com/game/v/71454/
X-MICROSOFT-CDO-BUSYSTATUS:BUSY
X-MICROSOFT-CDO-IMPORTANCE:1
END:VEVENT
BEGIN:VEVENT
UID:g79ka@games.golnetwork.com
LOCATION:Cherry Beach East 1
CREATED:20150702T183231Z
DTSTART:20150826T020000Z
DTEND:20150826T030000Z
DTSTAMP:20260421T195837Z
SUMMARY:The Hooligans vs. Gringos
DESCRIPTION:Gringos vs. The HooligansPlus d'info : #321
X-ALT-DESC;FMTTYPE=text/html:<!DOCTYPE HTML PUBLIC "-//W3C//DTD HTML 3.2//E
	N">\n<HTML>\n<HEAD>\n<TITLE></TITLE>\n</HEAD>\n<BODY>\n<h3>Gringos vs. The 
	Hooligans</h3>Plus d'info : <a href="https://www.golnetwork.com/game/v/7144
	7/">#321</a>\n\n</BODY>\n</HTML>
STATUS:CONFIRMED
CLASS:PUBLIC
URL:https://www.golnetwork.com/game/v/71447/
X-MICROSOFT-CDO-BUSYSTATUS:BUSY
X-MICROSOFT-CDO-IMPORTANCE:1
END:VEVENT
BEGIN:VEVENT
UID:g79jp@games.golnetwork.com
LOCATION:Cherry Beach East 3
CREATED:20150702T183231Z
DTSTART:20150819T030000Z
DTEND:20150819T040000Z
DTSTAMP:20260421T195837Z
SUMMARY:Ball so Hard vs. Gringos
DESCRIPTION:Gringos vs. Ball so HardPlus d'info : #278
X-ALT-DESC;FMTTYPE=text/html:<!DOCTYPE HTML PUBLIC "-//W3C//DTD HTML 3.2//E
	N">\n<HTML>\n<HEAD>\n<TITLE></TITLE>\n</HEAD>\n<BODY>\n<h3>Gringos vs. Ball
	 so Hard</h3>Plus d'info : <a href="https://www.golnetwork.com/game/v/71441
	/">#278</a>\n\n</BODY>\n</HTML>
STATUS:CONFIRMED
CLASS:PUBLIC
URL:https://www.golnetwork.com/game/v/71441/
X-MICROSOFT-CDO-BUSYSTATUS:BUSY
X-MICROSOFT-CDO-IMPORTANCE:1
END:VEVENT
BEGIN:VEVENT
UID:g79jd@games.golnetwork.com
LOCATION:Cherry Beach East 1
CREATED:20150702T183231Z
DTSTART:20150812T010000Z
DTEND:20150812T020000Z
DTSTAMP:20260421T195837Z
SUMMARY:Lakeshore FC vs. Gringos
DESCRIPTION:Gringos vs. Lakeshore FCPlus d'info : #216
X-ALT-DESC;FMTTYPE=text/html:<!DOCTYPE HTML PUBLIC "-//W3C//DTD HTML 3.2//E
	N">\n<HTML>\n<HEAD>\n<TITLE></TITLE>\n</HEAD>\n<BODY>\n<h3>Gringos vs. Lake
	shore FC</h3>Plus d'info : <a href="https://www.golnetwork.com/game/v/71435
	/">#216</a>\n\n</BODY>\n</HTML>
STATUS:CONFIRMED
CLASS:PUBLIC
URL:https://www.golnetwork.com/game/v/71435/
X-MICROSOFT-CDO-BUSYSTATUS:BUSY
X-MICROSOFT-CDO-IMPORTANCE:1
END:VEVENT
BEGIN:VEVENT
UID:g79j5@games.golnetwork.com
LOCATION:Cherry Beach East 3
CREATED:20150702T183231Z
DTSTART:20150805T030000Z
DTEND:20150805T040000Z
DTSTAMP:20260421T195837Z
SUMMARY:Gringos vs. Shut your legs or I'll meg ya
DESCRIPTION:Shut your legs or I'll meg ya vs. GringosPlus d'info : #170
X-ALT-DESC;FMTTYPE=text/html:<!DOCTYPE HTML PUBLIC "-//W3C//DTD HTML 3.2//E
	N">\n<HTML>\n<HEAD>\n<TITLE></TITLE>\n</HEAD>\n<BODY>\n<h3>Shut your legs o
	r I'll meg ya vs. Gringos</h3>Plus d'info : <a href="https://www.golnetwork
	.com/game/v/71431/">#170</a>\n\n</BODY>\n</HTML>
STATUS:CONFIRMED
CLASS:PUBLIC
URL:https://www.golnetwork.com/game/v/71431/
X-MICROSOFT-CDO-BUSYSTATUS:BUSY
X-MICROSOFT-CDO-IMPORTANCE:1
END:VEVENT
BEGIN:VEVENT
UID:g79io@games.golnetwork.com
LOCATION:Cherry Beach East 1
CREATED:20150702T183231Z
DTSTART:20150729T020000Z
DTEND:20150729T030000Z
DTSTAMP:20260421T195837Z
SUMMARY:Gringos vs. Cisco FC
DESCRIPTION:Cisco FC vs. GringosPlus d'info : #139
X-ALT-DESC;FMTTYPE=text/html:<!DOCTYPE HTML PUBLIC "-//W3C//DTD HTML 3.2//E
	N">\n<HTML>\n<HEAD>\n<TITLE></TITLE>\n</HEAD>\n<BODY>\n<h3>Cisco FC vs. Gri
	ngos</h3>Plus d'info : <a href="https://www.golnetwork.com/game/v/71427/">#
	139</a>\n\n</BODY>\n</HTML>
STATUS:CONFIRMED
CLASS:PUBLIC
URL:https://www.golnetwork.com/game/v/71427/
X-MICROSOFT-CDO-BUSYSTATUS:BUSY
X-MICROSOFT-CDO-IMPORTANCE:1
END:VEVENT
BEGIN:VEVENT
UID:g79ig@games.golnetwork.com
LOCATION:Cherry Beach East 1
CREATED:20150702T183231Z
DTSTART:20150722T010000Z
DTEND:20150722T020000Z
DTSTAMP:20260421T195837Z
SUMMARY:Gringos vs. One Team One Dream
DESCRIPTION:One Team One Dream vs. GringosPlus d'info : #93
X-ALT-DESC;FMTTYPE=text/html:<!DOCTYPE HTML PUBLIC "-//W3C//DTD HTML 3.2//E
	N">\n<HTML>\n<HEAD>\n<TITLE></TITLE>\n</HEAD>\n<BODY>\n<h3>One Team One Dre
	am vs. Gringos</h3>Plus d'info : <a href="https://www.golnetwork.com/game/v
	/71423/">#93</a>\n\n</BODY>\n</HTML>
STATUS:CONFIRMED
CLASS:PUBLIC
URL:https://www.golnetwork.com/game/v/71423/
X-MICROSOFT-CDO-BUSYSTATUS:BUSY
X-MICROSOFT-CDO-IMPORTANCE:1
END:VEVENT
BEGIN:VEVENT
UID:g79i8@games.golnetwork.com
LOCATION:Cherry Beach East 3
CREATED:20150702T183230Z
DTSTART:20150715T030000Z
DTEND:20150715T040000Z
DTSTAMP:20260421T195837Z
SUMMARY:Gringos vs. Molson FC
DESCRIPTION:Molson FC vs. GringosPlus d'info : #51
X-ALT-DESC;FMTTYPE=text/html:<!DOCTYPE HTML PUBLIC "-//W3C//DTD HTML 3.2//E
	N">\n<HTML>\n<HEAD>\n<TITLE></TITLE>\n</HEAD>\n<BODY>\n<h3>Molson FC vs. Gr
	ingos</h3>Plus d'info : <a href="https://www.golnetwork.com/game/v/71419/">
	#51</a>\n\n</BODY>\n</HTML>
STATUS:CONFIRMED
CLASS:PUBLIC
URL:https://www.golnetwork.com/game/v/71419/
X-MICROSOFT-CDO-BUSYSTATUS:BUSY
X-MICROSOFT-CDO-IMPORTANCE:1
END:VEVENT
END:VCALENDAR
