BEGIN:VCALENDAR
PRODID:-//gdesolutions.com//MV Framework 1.0.0.1607 Calendar//EN
VERSION:2.0
METHOD:PUBLISH
CALSCALE:GREGORIAN
BEGIN:VEVENT
UID:g79k6@games.golnetwork.com
LOCATION:Cherry Beach East 1
CREATED:20150702T183231Z
DTSTART:20150826T010000Z
DTEND:20150826T020000Z
DTSTAMP:20260421T052522Z
SUMMARY:Lakeshore FC vs. Ball so Hard
DESCRIPTION:Ball so Hard vs. Lakeshore FCPlus d'info : #318
X-ALT-DESC;FMTTYPE=text/html:<!DOCTYPE HTML PUBLIC "-//W3C//DTD HTML 3.2//E
	N">\n<HTML>\n<HEAD>\n<TITLE></TITLE>\n</HEAD>\n<BODY>\n<h3>Ball so Hard vs.
	 Lakeshore FC</h3>Plus d'info : <a href="https://www.golnetwork.com/game/v/
	71445/">#318</a>\n\n</BODY>\n</HTML>
STATUS:CONFIRMED
CLASS:PUBLIC
URL:https://www.golnetwork.com/game/v/71445/
X-MICROSOFT-CDO-BUSYSTATUS:BUSY
X-MICROSOFT-CDO-IMPORTANCE:1
END:VEVENT
BEGIN:VEVENT
UID:g79jp@games.golnetwork.com
LOCATION:Cherry Beach East 3
CREATED:20150702T183231Z
DTSTART:20150819T030000Z
DTEND:20150819T040000Z
DTSTAMP:20260421T052522Z
SUMMARY:Ball so Hard vs. Gringos
DESCRIPTION:Gringos vs. Ball so HardPlus d'info : #278
X-ALT-DESC;FMTTYPE=text/html:<!DOCTYPE HTML PUBLIC "-//W3C//DTD HTML 3.2//E
	N">\n<HTML>\n<HEAD>\n<TITLE></TITLE>\n</HEAD>\n<BODY>\n<h3>Gringos vs. Ball
	 so Hard</h3>Plus d'info : <a href="https://www.golnetwork.com/game/v/71441
	/">#278</a>\n\n</BODY>\n</HTML>
STATUS:CONFIRMED
CLASS:PUBLIC
URL:https://www.golnetwork.com/game/v/71441/
X-MICROSOFT-CDO-BUSYSTATUS:BUSY
X-MICROSOFT-CDO-IMPORTANCE:1
END:VEVENT
BEGIN:VEVENT
UID:g79jh@games.golnetwork.com
LOCATION:Cherry Beach East 1
CREATED:20150702T183231Z
DTSTART:20150812T020000Z
DTEND:20150812T030000Z
DTSTAMP:20260421T052522Z
SUMMARY:Ball so Hard vs. Shut your legs or I'll meg ya
DESCRIPTION:Shut your legs or I'll meg ya vs. Ball so HardPlus d'info : #21
	9
X-ALT-DESC;FMTTYPE=text/html:<!DOCTYPE HTML PUBLIC "-//W3C//DTD HTML 3.2//E
	N">\n<HTML>\n<HEAD>\n<TITLE></TITLE>\n</HEAD>\n<BODY>\n<h3>Shut your legs o
	r I'll meg ya vs. Ball so Hard</h3>Plus d'info : <a href="https://www.golne
	twork.com/game/v/71437/">#219</a>\n\n</BODY>\n</HTML>
STATUS:CONFIRMED
CLASS:PUBLIC
URL:https://www.golnetwork.com/game/v/71437/
X-MICROSOFT-CDO-BUSYSTATUS:BUSY
X-MICROSOFT-CDO-IMPORTANCE:1
END:VEVENT
BEGIN:VEVENT
UID:g79j9@games.golnetwork.com
LOCATION:Cherry Beach East 1
CREATED:20150702T183231Z
DTSTART:20150805T010000Z
DTEND:20150805T020000Z
DTSTAMP:20260421T052522Z
SUMMARY:Ball so Hard vs. Cisco FC
DESCRIPTION:Cisco FC vs. Ball so HardPlus d'info : #162
X-ALT-DESC;FMTTYPE=text/html:<!DOCTYPE HTML PUBLIC "-//W3C//DTD HTML 3.2//E
	N">\n<HTML>\n<HEAD>\n<TITLE></TITLE>\n</HEAD>\n<BODY>\n<h3>Cisco FC vs. Bal
	l so Hard</h3>Plus d'info : <a href="https://www.golnetwork.com/game/v/7143
	3/">#162</a>\n\n</BODY>\n</HTML>
STATUS:CONFIRMED
CLASS:PUBLIC
URL:https://www.golnetwork.com/game/v/71433/
X-MICROSOFT-CDO-BUSYSTATUS:BUSY
X-MICROSOFT-CDO-IMPORTANCE:1
END:VEVENT
BEGIN:VEVENT
UID:g79j1@games.golnetwork.com
LOCATION:Cherry Beach East 3
CREATED:20150702T183231Z
DTSTART:20150729T030000Z
DTEND:20150729T040000Z
DTSTAMP:20260421T052522Z
SUMMARY:Ball so Hard vs. One Team One Dream
DESCRIPTION:One Team One Dream vs. Ball so HardPlus d'info : #144
X-ALT-DESC;FMTTYPE=text/html:<!DOCTYPE HTML PUBLIC "-//W3C//DTD HTML 3.2//E
	N">\n<HTML>\n<HEAD>\n<TITLE></TITLE>\n</HEAD>\n<BODY>\n<h3>One Team One Dre
	am vs. Ball so Hard</h3>Plus d'info : <a href="https://www.golnetwork.com/g
	ame/v/71429/">#144</a>\n\n</BODY>\n</HTML>
STATUS:CONFIRMED
CLASS:PUBLIC
URL:https://www.golnetwork.com/game/v/71429/
X-MICROSOFT-CDO-BUSYSTATUS:BUSY
X-MICROSOFT-CDO-IMPORTANCE:1
END:VEVENT
BEGIN:VEVENT
UID:g79ii@games.golnetwork.com
LOCATION:Cherry Beach East 3
CREATED:20150702T183231Z
DTSTART:20150722T010000Z
DTEND:20150722T020000Z
DTSTAMP:20260421T052522Z
SUMMARY:Molson FC vs. Ball so Hard
DESCRIPTION:Ball so Hard vs. Molson FCPlus d'info : #95
X-ALT-DESC;FMTTYPE=text/html:<!DOCTYPE HTML PUBLIC "-//W3C//DTD HTML 3.2//E
	N">\n<HTML>\n<HEAD>\n<TITLE></TITLE>\n</HEAD>\n<BODY>\n<h3>Ball so Hard vs.
	 Molson FC</h3>Plus d'info : <a href="https://www.golnetwork.com/game/v/714
	24/">#95</a>\n\n</BODY>\n</HTML>
STATUS:CONFIRMED
CLASS:PUBLIC
URL:https://www.golnetwork.com/game/v/71424/
X-MICROSOFT-CDO-BUSYSTATUS:BUSY
X-MICROSOFT-CDO-IMPORTANCE:1
END:VEVENT
BEGIN:VEVENT
UID:g79i6@games.golnetwork.com
LOCATION:Cherry Beach East 1
CREATED:20150702T183230Z
DTSTART:20150715T030000Z
DTEND:20150715T040000Z
DTSTAMP:20260421T052522Z
SUMMARY:ID FC vs. Ball so Hard
DESCRIPTION:Ball so Hard vs. ID FCPlus d'info : #49
X-ALT-DESC;FMTTYPE=text/html:<!DOCTYPE HTML PUBLIC "-//W3C//DTD HTML 3.2//E
	N">\n<HTML>\n<HEAD>\n<TITLE></TITLE>\n</HEAD>\n<BODY>\n<h3>Ball so Hard vs.
	 ID FC</h3>Plus d'info : <a href="https://www.golnetwork.com/game/v/71418/"
	>#49</a>\n\n</BODY>\n</HTML>
STATUS:CONFIRMED
CLASS:PUBLIC
URL:https://www.golnetwork.com/game/v/71418/
X-MICROSOFT-CDO-BUSYSTATUS:BUSY
X-MICROSOFT-CDO-IMPORTANCE:1
END:VEVENT
END:VCALENDAR
