BEGIN:VCALENDAR
PRODID:-//gdesolutions.com//MV Framework 1.0.0.1607 Calendar//EN
VERSION:2.0
METHOD:PUBLISH
CALSCALE:GREGORIAN
BEGIN:VEVENT
UID:g7ghi@games.golnetwork.com
LOCATION:Louis Riel #3
GEO:45.4410208;-75.5715394
CREATED:20150817T175005Z
DTSTART:20150821T013000Z
DTEND:20150821T030000Z
DTSTAMP:20260423T015151Z
SUMMARY:50 Shades of Pink vs. Int Individuals 1
DESCRIPTION:Int Individuals 1 vs. 50 Shades of PinkPlus d'info : #191
X-ALT-DESC;FMTTYPE=text/html:<!DOCTYPE HTML PUBLIC "-//W3C//DTD HTML 3.2//E
	N">\n<HTML>\n<HEAD>\n<TITLE></TITLE>\n</HEAD>\n<BODY>\n<h3>Int Individuals 
	1 vs. 50 Shades of Pink</h3>Plus d'info : <a href="https://www.golnetwork.c
	om/game/v/73962/">#191</a>\n\n</BODY>\n</HTML>
STATUS:CONFIRMED
CLASS:PUBLIC
URL:https://www.golnetwork.com/game/v/73962/
X-MICROSOFT-CDO-BUSYSTATUS:BUSY
X-MICROSOFT-CDO-IMPORTANCE:1
END:VEVENT
BEGIN:VEVENT
UID:g7f42@games.golnetwork.com
LOCATION:McCarthy Park Field #5
GEO:45.3517739;-75.6718247
CREATED:20150803T232128Z
DTSTART:20150806T224500Z
DTEND:20150807T001500Z
DTSTAMP:20260423T015151Z
SUMMARY:Int Individuals 1 vs. Spartans
DESCRIPTION:Spartans vs. Int Individuals 1Plus d'info : #151
X-ALT-DESC;FMTTYPE=text/html:<!DOCTYPE HTML PUBLIC "-//W3C//DTD HTML 3.2//E
	N">\n<HTML>\n<HEAD>\n<TITLE></TITLE>\n</HEAD>\n<BODY>\n<h3>Spartans vs. Int
	 Individuals 1</h3>Plus d'info : <a href="https://www.golnetwork.com/game/v
	/73414/">#151</a>\n\n</BODY>\n</HTML>
STATUS:CONFIRMED
CLASS:PUBLIC
URL:https://www.golnetwork.com/game/v/73414/
X-MICROSOFT-CDO-BUSYSTATUS:BUSY
X-MICROSOFT-CDO-IMPORTANCE:1
END:VEVENT
END:VCALENDAR
