BEGIN:VCALENDAR
PRODID:-//gdesolutions.com//MV Framework 1.0.0.1607 Calendar//EN
VERSION:2.0
METHOD:PUBLISH
CALSCALE:GREGORIAN
BEGIN:VEVENT
UID:g87fq@games.golnetwork.com
LOCATION:Louis Riel #2
GEO:45.4410208;-75.5715394
CREATED:20151117T193922Z
DTSTART:20151122T210000Z
DTEND:20151122T220000Z
DTSTAMP:20260422T232328Z
SUMMARY:Dauntless vs. Ottawa Easy Wheels
DESCRIPTION:Ottawa Easy Wheels vs. DauntlessPlus d'info : #111
X-ALT-DESC;FMTTYPE=text/html:<!DOCTYPE HTML PUBLIC "-//W3C//DTD HTML 3.2//E
	N">\n<HTML>\n<HEAD>\n<TITLE></TITLE>\n</HEAD>\n<BODY>\n<h3>Ottawa Easy Whee
	ls vs. Dauntless</h3>Plus d'info : <a href="https://www.golnetwork.com/game
	/v/80500/">#111</a>\n\n</BODY>\n</HTML>
STATUS:CONFIRMED
CLASS:PUBLIC
URL:https://www.golnetwork.com/game/v/80500/
X-MICROSOFT-CDO-BUSYSTATUS:BUSY
X-MICROSOFT-CDO-IMPORTANCE:1
END:VEVENT
BEGIN:VEVENT
UID:g86qg@games.golnetwork.com
LOCATION:Louis Riel #2
GEO:45.4410208;-75.5715394
CREATED:20151110T184631Z
DTSTART:20151115T200000Z
DTEND:20151115T210000Z
DTSTAMP:20260422T232328Z
SUMMARY:Ottawa Easy Wheels vs. Real Ale Madrid
DESCRIPTION:Real Ale Madrid vs. Ottawa Easy WheelsPlus d'info : #97
X-ALT-DESC;FMTTYPE=text/html:<!DOCTYPE HTML PUBLIC "-//W3C//DTD HTML 3.2//E
	N">\n<HTML>\n<HEAD>\n<TITLE></TITLE>\n</HEAD>\n<BODY>\n<h3>Real Ale Madrid 
	vs. Ottawa Easy Wheels</h3>Plus d'info : <a href="https://www.golnetwork.co
	m/game/v/80279/">#97</a>\n\n</BODY>\n</HTML>
STATUS:CONFIRMED
CLASS:PUBLIC
URL:https://www.golnetwork.com/game/v/80279/
X-MICROSOFT-CDO-BUSYSTATUS:BUSY
X-MICROSOFT-CDO-IMPORTANCE:1
END:VEVENT
END:VCALENDAR
