BEGIN:VCALENDAR
PRODID:-//gdesolutions.com//MV Framework 1.0.0.1607 Calendar//EN
VERSION:2.0
METHOD:PUBLISH
CALSCALE:GREGORIAN
BEGIN:VEVENT
UID:g93m4@games.golnetwork.com
LOCATION:Jesse Ketchum 2
GEO:45.10662;-94.578209
CREATED:20160526T190941Z
DTSTART:20160719T220000Z
DTEND:20160719T230000Z
DTSTAMP:20260423T081654Z
SUMMARY:Footie Fetish vs. Royal Gooses
DESCRIPTION:Royal Gooses vs. Footie FetishPlus d'info : #85
X-ALT-DESC;FMTTYPE=text/html:<!DOCTYPE HTML PUBLIC "-//W3C//DTD HTML 3.2//E
	N">\n<HTML>\n<HEAD>\n<TITLE></TITLE>\n</HEAD>\n<BODY>\n<h3>Royal Gooses vs.
	 Footie Fetish</h3>Plus d'info : <a href="https://www.golnetwork.com/game/v
	/88967/">#85</a>\n\n</BODY>\n</HTML>
STATUS:CONFIRMED
CLASS:PUBLIC
URL:https://www.golnetwork.com/game/v/88967/
X-MICROSOFT-CDO-BUSYSTATUS:BUSY
X-MICROSOFT-CDO-IMPORTANCE:1
END:VEVENT
BEGIN:VEVENT
UID:g93ll@games.golnetwork.com
LOCATION:Jesse Ketchum 1
GEO:45.10662;-94.578209
CREATED:20160526T190941Z
DTSTART:20160713T000000Z
DTEND:20160713T010000Z
DTSTAMP:20260423T081654Z
SUMMARY:Royal Gooses vs. Bay Street United
DESCRIPTION:Bay Street United vs. Royal GoosesPlus d'info : #52
X-ALT-DESC;FMTTYPE=text/html:<!DOCTYPE HTML PUBLIC "-//W3C//DTD HTML 3.2//E
	N">\n<HTML>\n<HEAD>\n<TITLE></TITLE>\n</HEAD>\n<BODY>\n<h3>Bay Street Unite
	d vs. Royal Gooses</h3>Plus d'info : <a href="https://www.golnetwork.com/ga
	me/v/88962/">#52</a>\n\n</BODY>\n</HTML>
STATUS:CONFIRMED
CLASS:PUBLIC
URL:https://www.golnetwork.com/game/v/88962/
X-MICROSOFT-CDO-BUSYSTATUS:BUSY
X-MICROSOFT-CDO-IMPORTANCE:1
END:VEVENT
BEGIN:VEVENT
UID:g93lb@games.golnetwork.com
LOCATION:Jesse Ketchum 2
GEO:45.10662;-94.578209
CREATED:20160526T190941Z
DTSTART:20160706T000000Z
DTEND:20160706T010000Z
DTSTAMP:20260423T081654Z
SUMMARY:Misfires vs. Royal Gooses
DESCRIPTION:Royal Gooses vs. MisfiresPlus d'info : #36
X-ALT-DESC;FMTTYPE=text/html:<!DOCTYPE HTML PUBLIC "-//W3C//DTD HTML 3.2//E
	N">\n<HTML>\n<HEAD>\n<TITLE></TITLE>\n</HEAD>\n<BODY>\n<h3>Royal Gooses vs.
	 Misfires</h3>Plus d'info : <a href="https://www.golnetwork.com/game/v/8895
	7/">#36</a>\n\n</BODY>\n</HTML>
STATUS:CONFIRMED
CLASS:PUBLIC
URL:https://www.golnetwork.com/game/v/88957/
X-MICROSOFT-CDO-BUSYSTATUS:BUSY
X-MICROSOFT-CDO-IMPORTANCE:1
END:VEVENT
BEGIN:VEVENT
UID:g93lf@games.golnetwork.com
LOCATION:Jesse Ketchum 2
GEO:45.10662;-94.578209
CREATED:20160526T190941Z
DTSTART:20160705T230000Z
DTEND:20160706T000000Z
DTSTAMP:20260423T081654Z
SUMMARY:UnbelievaBALL vs. Royal Gooses
DESCRIPTION:Royal Gooses vs. UnbelievaBALLPlus d'info : #34
X-ALT-DESC;FMTTYPE=text/html:<!DOCTYPE HTML PUBLIC "-//W3C//DTD HTML 3.2//E
	N">\n<HTML>\n<HEAD>\n<TITLE></TITLE>\n</HEAD>\n<BODY>\n<h3>Royal Gooses vs.
	 UnbelievaBALL</h3>Plus d'info : <a href="https://www.golnetwork.com/game/v
	/88959/">#34</a>\n\n</BODY>\n</HTML>
STATUS:CONFIRMED
CLASS:PUBLIC
URL:https://www.golnetwork.com/game/v/88959/
X-MICROSOFT-CDO-BUSYSTATUS:BUSY
X-MICROSOFT-CDO-IMPORTANCE:1
END:VEVENT
BEGIN:VEVENT
UID:g93ko@games.golnetwork.com
LOCATION:Jesse Ketchum 1
GEO:45.10662;-94.578209
CREATED:20160526T190941Z
DTSTART:20160628T220000Z
DTEND:20160628T230000Z
DTSTAMP:20260423T081654Z
SUMMARY:Royal Gooses vs. Entuitive FC
DESCRIPTION:Entuitive FC vs. Royal GoosesPlus d'info : #19
X-ALT-DESC;FMTTYPE=text/html:<!DOCTYPE HTML PUBLIC "-//W3C//DTD HTML 3.2//E
	N">\n<HTML>\n<HEAD>\n<TITLE></TITLE>\n</HEAD>\n<BODY>\n<h3>Entuitive FC vs.
	 Royal Gooses</h3>Plus d'info : <a href="https://www.golnetwork.com/game/v/
	88950/">#19</a>\n\n</BODY>\n</HTML>
STATUS:CONFIRMED
CLASS:PUBLIC
URL:https://www.golnetwork.com/game/v/88950/
X-MICROSOFT-CDO-BUSYSTATUS:BUSY
X-MICROSOFT-CDO-IMPORTANCE:1
END:VEVENT
BEGIN:VEVENT
UID:g93kc@games.golnetwork.com
LOCATION:Jesse Ketchum 2
GEO:45.10662;-94.578209
CREATED:20160526T190941Z
DTSTART:20160622T000000Z
DTEND:20160622T010000Z
DTSTAMP:20260423T081654Z
SUMMARY:Royal Gooses vs. Return to the Ravens
DESCRIPTION:Return to the Ravens vs. Royal GoosesPlus d'info : #12
X-ALT-DESC;FMTTYPE=text/html:<!DOCTYPE HTML PUBLIC "-//W3C//DTD HTML 3.2//E
	N">\n<HTML>\n<HEAD>\n<TITLE></TITLE>\n</HEAD>\n<BODY>\n<h3>Return to the Ra
	vens vs. Royal Gooses</h3>Plus d'info : <a href="https://www.golnetwork.com
	/game/v/88944/">#12</a>\n\n</BODY>\n</HTML>
STATUS:CONFIRMED
CLASS:PUBLIC
URL:https://www.golnetwork.com/game/v/88944/
X-MICROSOFT-CDO-BUSYSTATUS:BUSY
X-MICROSOFT-CDO-IMPORTANCE:1
END:VEVENT
END:VCALENDAR
