BEGIN:VCALENDAR
PRODID:-//gdesolutions.com//MV Framework 1.0.0.1607 Calendar//EN
VERSION:2.0
METHOD:PUBLISH
CALSCALE:GREGORIAN
BEGIN:VEVENT
UID:g8flk@games.golnetwork.com
LOCATION:East York CI
GEO:45.10662;-94.578209
CREATED:20160126T155545Z
DTSTART:20160407T233000Z
DTEND:20160408T003000Z
DTSTAMP:20260421T052309Z
SUMMARY:Squirtle Squad vs. Team Melli 
DESCRIPTION:Team Melli  vs. Squirtle SquadPlus d'info : #174
X-ALT-DESC;FMTTYPE=text/html:<!DOCTYPE HTML PUBLIC "-//W3C//DTD HTML 3.2//E
	N">\n<HTML>\n<HEAD>\n<TITLE></TITLE>\n</HEAD>\n<BODY>\n<h3>Team Melli  vs. 
	Squirtle Squad</h3>Plus d'info : <a href="https://www.golnetwork.com/game/v
	/83494/">#174</a>\n\n</BODY>\n</HTML>
STATUS:CONFIRMED
CLASS:PUBLIC
URL:https://www.golnetwork.com/game/v/83494/
X-MICROSOFT-CDO-BUSYSTATUS:BUSY
X-MICROSOFT-CDO-IMPORTANCE:1
END:VEVENT
BEGIN:VEVENT
UID:g8fli@games.golnetwork.com
LOCATION:East York CI
GEO:45.10662;-94.578209
CREATED:20160126T155543Z
DTSTART:20160325T003000Z
DTEND:20160325T013000Z
DTSTAMP:20260421T052309Z
SUMMARY:XTSC Ballers vs. Squirtle Squad
DESCRIPTION:Squirtle Squad vs. XTSC BallersPlus d'info : #160
X-ALT-DESC;FMTTYPE=text/html:<!DOCTYPE HTML PUBLIC "-//W3C//DTD HTML 3.2//E
	N">\n<HTML>\n<HEAD>\n<TITLE></TITLE>\n</HEAD>\n<BODY>\n<h3>Squirtle Squad v
	s. XTSC Ballers</h3>Plus d'info : <a href="https://www.golnetwork.com/game/
	v/83493/">#160</a>\n\n</BODY>\n</HTML>
STATUS:CONFIRMED
CLASS:PUBLIC
URL:https://www.golnetwork.com/game/v/83493/
X-MICROSOFT-CDO-BUSYSTATUS:BUSY
X-MICROSOFT-CDO-IMPORTANCE:1
END:VEVENT
BEGIN:VEVENT
UID:g8eqa@games.golnetwork.com
LOCATION:East York CI
GEO:45.10662;-94.578209
CREATED:20160120T210051Z
DTSTART:20160311T003000Z
DTEND:20160311T013000Z
DTSTAMP:20260421T052309Z
SUMMARY:Squirtle Squad vs. Team Melli 
DESCRIPTION:Team Melli  vs. Squirtle SquadPlus d'info : #139
X-ALT-DESC;FMTTYPE=text/html:<!DOCTYPE HTML PUBLIC "-//W3C//DTD HTML 3.2//E
	N">\n<HTML>\n<HEAD>\n<TITLE></TITLE>\n</HEAD>\n<BODY>\n<h3>Team Melli  vs. 
	Squirtle Squad</h3>Plus d'info : <a href="https://www.golnetwork.com/game/v
	/83192/">#139</a>\n\n</BODY>\n</HTML>
STATUS:CONFIRMED
CLASS:PUBLIC
URL:https://www.golnetwork.com/game/v/83192/
X-MICROSOFT-CDO-BUSYSTATUS:BUSY
X-MICROSOFT-CDO-IMPORTANCE:1
END:VEVENT
BEGIN:VEVENT
UID:g8fle@games.golnetwork.com
LOCATION:East York CI
GEO:45.10662;-94.578209
CREATED:20160126T155536Z
DTSTART:20160303T233000Z
DTEND:20160304T003000Z
DTSTAMP:20260421T052309Z
SUMMARY:Squirtle Squad vs. XTSC Ballers
DESCRIPTION:XTSC Ballers vs. Squirtle SquadPlus d'info : #117
X-ALT-DESC;FMTTYPE=text/html:<!DOCTYPE HTML PUBLIC "-//W3C//DTD HTML 3.2//E
	N">\n<HTML>\n<HEAD>\n<TITLE></TITLE>\n</HEAD>\n<BODY>\n<h3>XTSC Ballers vs.
	 Squirtle Squad</h3>Plus d'info : <a href="https://www.golnetwork.com/game/
	v/83491/">#117</a>\n\n</BODY>\n</HTML>
STATUS:CONFIRMED
CLASS:PUBLIC
URL:https://www.golnetwork.com/game/v/83491/
X-MICROSOFT-CDO-BUSYSTATUS:BUSY
X-MICROSOFT-CDO-IMPORTANCE:1
END:VEVENT
BEGIN:VEVENT
UID:g8flc@games.golnetwork.com
LOCATION:East York CI
GEO:45.10662;-94.578209
CREATED:20160126T155533Z
DTSTART:20160226T003000Z
DTEND:20160226T013000Z
DTSTAMP:20260421T052309Z
SUMMARY:Samba All-Stars vs. Squirtle Squad
DESCRIPTION:Squirtle Squad vs. Samba All-StarsPlus d'info : #96
X-ALT-DESC;FMTTYPE=text/html:<!DOCTYPE HTML PUBLIC "-//W3C//DTD HTML 3.2//E
	N">\n<HTML>\n<HEAD>\n<TITLE></TITLE>\n</HEAD>\n<BODY>\n<h3>Squirtle Squad v
	s. Samba All-Stars</h3>Plus d'info : <a href="https://www.golnetwork.com/ga
	me/v/83490/">#96</a>\n\n</BODY>\n</HTML>
STATUS:CONFIRMED
CLASS:PUBLIC
URL:https://www.golnetwork.com/game/v/83490/
X-MICROSOFT-CDO-BUSYSTATUS:BUSY
X-MICROSOFT-CDO-IMPORTANCE:1
END:VEVENT
BEGIN:VEVENT
UID:g8eq2@games.golnetwork.com
LOCATION:East York CI
GEO:45.10662;-94.578209
CREATED:20160120T210051Z
DTSTART:20160225T233000Z
DTEND:20160226T003000Z
DTSTAMP:20260421T052309Z
SUMMARY:Team Melli  vs. Squirtle Squad
DESCRIPTION:Squirtle Squad vs. Team Melli Plus d'info : #95
X-ALT-DESC;FMTTYPE=text/html:<!DOCTYPE HTML PUBLIC "-//W3C//DTD HTML 3.2//E
	N">\n<HTML>\n<HEAD>\n<TITLE></TITLE>\n</HEAD>\n<BODY>\n<h3>Squirtle Squad v
	s. Team Melli </h3>Plus d'info : <a href="https://www.golnetwork.com/game/v
	/83188/">#95</a>\n\n</BODY>\n</HTML>
STATUS:CONFIRMED
CLASS:PUBLIC
URL:https://www.golnetwork.com/game/v/83188/
X-MICROSOFT-CDO-BUSYSTATUS:BUSY
X-MICROSOFT-CDO-IMPORTANCE:1
END:VEVENT
BEGIN:VEVENT
UID:g8epn@games.golnetwork.com
LOCATION:East York CI
GEO:45.10662;-94.578209
CREATED:20160120T210051Z
DTSTART:20160219T013000Z
DTEND:20160219T023000Z
DTSTAMP:20260421T052309Z
SUMMARY:Squirtle Squad vs. Brick Squad
DESCRIPTION:Brick Squad vs. Squirtle SquadPlus d'info : #76
X-ALT-DESC;FMTTYPE=text/html:<!DOCTYPE HTML PUBLIC "-//W3C//DTD HTML 3.2//E
	N">\n<HTML>\n<HEAD>\n<TITLE></TITLE>\n</HEAD>\n<BODY>\n<h3>Brick Squad vs. 
	Squirtle Squad</h3>Plus d'info : <a href="https://www.golnetwork.com/game/v
	/83185/">#76</a>\n\n</BODY>\n</HTML>
STATUS:CONFIRMED
CLASS:PUBLIC
URL:https://www.golnetwork.com/game/v/83185/
X-MICROSOFT-CDO-BUSYSTATUS:BUSY
X-MICROSOFT-CDO-IMPORTANCE:1
END:VEVENT
BEGIN:VEVENT
UID:g8epd@games.golnetwork.com
LOCATION:East York CI
GEO:45.10662;-94.578209
CREATED:20160120T210050Z
DTSTART:20160212T013000Z
DTEND:20160212T023000Z
DTSTAMP:20260421T052309Z
SUMMARY:XTSC Ballers vs. Squirtle Squad
DESCRIPTION:Squirtle Squad vs. XTSC BallersPlus d'info : #69
X-ALT-DESC;FMTTYPE=text/html:<!DOCTYPE HTML PUBLIC "-//W3C//DTD HTML 3.2//E
	N">\n<HTML>\n<HEAD>\n<TITLE></TITLE>\n</HEAD>\n<BODY>\n<h3>Squirtle Squad v
	s. XTSC Ballers</h3>Plus d'info : <a href="https://www.golnetwork.com/game/
	v/83180/">#69</a>\n\n</BODY>\n</HTML>
STATUS:CONFIRMED
CLASS:PUBLIC
URL:https://www.golnetwork.com/game/v/83180/
X-MICROSOFT-CDO-BUSYSTATUS:BUSY
X-MICROSOFT-CDO-IMPORTANCE:1
END:VEVENT
BEGIN:VEVENT
UID:g8eq0@games.golnetwork.com
LOCATION:East York CI
GEO:45.10662;-94.578209
CREATED:20160120T210051Z
DTSTART:20160205T013000Z
DTEND:20160205T023000Z
DTSTAMP:20260421T052309Z
SUMMARY:Samba All-Stars vs. Squirtle Squad
DESCRIPTION:Squirtle Squad vs. Samba All-StarsPlus d'info : #47
X-ALT-DESC;FMTTYPE=text/html:<!DOCTYPE HTML PUBLIC "-//W3C//DTD HTML 3.2//E
	N">\n<HTML>\n<HEAD>\n<TITLE></TITLE>\n</HEAD>\n<BODY>\n<h3>Squirtle Squad v
	s. Samba All-Stars</h3>Plus d'info : <a href="https://www.golnetwork.com/ga
	me/v/83187/">#47</a>\n\n</BODY>\n</HTML>
STATUS:CONFIRMED
CLASS:PUBLIC
URL:https://www.golnetwork.com/game/v/83187/
X-MICROSOFT-CDO-BUSYSTATUS:BUSY
X-MICROSOFT-CDO-IMPORTANCE:1
END:VEVENT
BEGIN:VEVENT
UID:g8epj@games.golnetwork.com
LOCATION:East York CI
GEO:45.10662;-94.578209
CREATED:20160120T210051Z
DTSTART:20160128T233000Z
DTEND:20160129T003000Z
DTSTAMP:20260421T052309Z
SUMMARY:Brick Squad vs. Squirtle Squad
DESCRIPTION:Squirtle Squad vs. Brick SquadPlus d'info : #23
X-ALT-DESC;FMTTYPE=text/html:<!DOCTYPE HTML PUBLIC "-//W3C//DTD HTML 3.2//E
	N">\n<HTML>\n<HEAD>\n<TITLE></TITLE>\n</HEAD>\n<BODY>\n<h3>Squirtle Squad v
	s. Brick Squad</h3>Plus d'info : <a href="https://www.golnetwork.com/game/v
	/83183/">#23</a>\n\n</BODY>\n</HTML>
STATUS:CONFIRMED
CLASS:PUBLIC
URL:https://www.golnetwork.com/game/v/83183/
X-MICROSOFT-CDO-BUSYSTATUS:BUSY
X-MICROSOFT-CDO-IMPORTANCE:1
END:VEVENT
END:VCALENDAR
