BEGIN:VCALENDAR
PRODID:-//gdesolutions.com//MV Framework 1.0.0.1607 Calendar//EN
VERSION:2.0
METHOD:PUBLISH
CALSCALE:GREGORIAN
BEGIN:VEVENT
UID:g9cbe@games.golnetwork.com
LOCATION:Jesse Ketchum 2
GEO:45.10662;-94.578209
CREATED:20160909T134938Z
DTSTART:20161002T220000Z
DTEND:20161002T230000Z
DTSTAMP:20260426T004041Z
SUMMARY:Squirtle Squad vs. Zed Score
DESCRIPTION:Zed Score vs. Squirtle SquadPlus d'info : #306
X-ALT-DESC;FMTTYPE=text/html:<!DOCTYPE HTML PUBLIC "-//W3C//DTD HTML 3.2//E
	N">\n<HTML>\n<HEAD>\n<TITLE></TITLE>\n</HEAD>\n<BODY>\n<h3>Zed Score vs. Sq
	uirtle Squad</h3>Plus d'info : <a href="https://www.golnetwork.com/game/v/9
	2104/">#306</a>\n\n</BODY>\n</HTML>
STATUS:CONFIRMED
CLASS:PUBLIC
URL:https://www.golnetwork.com/game/v/92104/
X-MICROSOFT-CDO-BUSYSTATUS:BUSY
X-MICROSOFT-CDO-IMPORTANCE:1
END:VEVENT
BEGIN:VEVENT
UID:g9843@games.golnetwork.com
LOCATION:Jesse Ketchum 1
GEO:45.10662;-94.578209
CREATED:20160714T154241Z
DTSTART:20160918T221500Z
DTEND:20160918T231500Z
DTSTAMP:20260426T004041Z
SUMMARY:Queens Park Strangers vs. Squirtle Squad
DESCRIPTION:Squirtle Squad vs. Queens Park StrangersPlus d'info : #298
X-ALT-DESC;FMTTYPE=text/html:<!DOCTYPE HTML PUBLIC "-//W3C//DTD HTML 3.2//E
	N">\n<HTML>\n<HEAD>\n<TITLE></TITLE>\n</HEAD>\n<BODY>\n<h3>Squirtle Squad v
	s. Queens Park Strangers</h3>Plus d'info : <a href="https://www.golnetwork.
	com/game/v/90546/">#298</a>\n\n</BODY>\n</HTML>
STATUS:CONFIRMED
CLASS:PUBLIC
URL:https://www.golnetwork.com/game/v/90546/
X-MICROSOFT-CDO-BUSYSTATUS:BUSY
X-MICROSOFT-CDO-IMPORTANCE:1
END:VEVENT
BEGIN:VEVENT
UID:g97j7@games.golnetwork.com
LOCATION:Jesse Ketchum 2
GEO:45.10662;-94.578209
CREATED:20160711T142107Z
DTSTART:20160821T221500Z
DTEND:20160821T231500Z
DTSTAMP:20260426T004041Z
SUMMARY:Biers on Piers FC vs. Squirtle Squad
DESCRIPTION:Squirtle Squad vs. Biers on Piers FCPlus d'info : #244
X-ALT-DESC;FMTTYPE=text/html:<!DOCTYPE HTML PUBLIC "-//W3C//DTD HTML 3.2//E
	N">\n<HTML>\n<HEAD>\n<TITLE></TITLE>\n</HEAD>\n<BODY>\n<h3>Squirtle Squad v
	s. Biers on Piers FC</h3>Plus d'info : <a href="https://www.golnetwork.com/
	game/v/90386/">#244</a>\n\n</BODY>\n</HTML>
STATUS:CONFIRMED
CLASS:PUBLIC
URL:https://www.golnetwork.com/game/v/90386/
X-MICROSOFT-CDO-BUSYSTATUS:BUSY
X-MICROSOFT-CDO-IMPORTANCE:1
END:VEVENT
BEGIN:VEVENT
UID:g97iq@games.golnetwork.com
LOCATION:Jesse Ketchum 1
GEO:45.10662;-94.578209
CREATED:20160711T142002Z
DTSTART:20160814T233000Z
DTEND:20160815T003000Z
DTSTAMP:20260426T004041Z
SUMMARY: EventMobi City Bandits vs. Squirtle Squad
DESCRIPTION:Squirtle Squad vs.  EventMobi City BanditsPlus d'info : #216
X-ALT-DESC;FMTTYPE=text/html:<!DOCTYPE HTML PUBLIC "-//W3C//DTD HTML 3.2//E
	N">\n<HTML>\n<HEAD>\n<TITLE></TITLE>\n</HEAD>\n<BODY>\n<h3>Squirtle Squad v
	s.  EventMobi City Bandits</h3>Plus d'info : <a href="https://www.golnetwor
	k.com/game/v/90382/">#216</a>\n\n</BODY>\n</HTML>
STATUS:CONFIRMED
CLASS:PUBLIC
URL:https://www.golnetwork.com/game/v/90382/
X-MICROSOFT-CDO-BUSYSTATUS:BUSY
X-MICROSOFT-CDO-IMPORTANCE:1
END:VEVENT
BEGIN:VEVENT
UID:g97ig@games.golnetwork.com
LOCATION:Jesse Ketchum 2
GEO:45.10662;-94.578209
CREATED:20160711T141817Z
DTSTART:20160807T213000Z
DTEND:20160807T223000Z
DTSTAMP:20260426T004041Z
SUMMARY:Squirtle Squad vs. Zed Score
DESCRIPTION:Zed Score vs. Squirtle SquadPlus d'info : #175
X-ALT-DESC;FMTTYPE=text/html:<!DOCTYPE HTML PUBLIC "-//W3C//DTD HTML 3.2//E
	N">\n<HTML>\n<HEAD>\n<TITLE></TITLE>\n</HEAD>\n<BODY>\n<h3>Zed Score vs. Sq
	uirtle Squad</h3>Plus d'info : <a href="https://www.golnetwork.com/game/v/9
	0377/">#175</a>\n\n</BODY>\n</HTML>
STATUS:CONFIRMED
CLASS:PUBLIC
URL:https://www.golnetwork.com/game/v/90377/
X-MICROSOFT-CDO-BUSYSTATUS:BUSY
X-MICROSOFT-CDO-IMPORTANCE:1
END:VEVENT
BEGIN:VEVENT
UID:g983i@games.golnetwork.com
LOCATION:Jesse Ketchum 2
GEO:45.10662;-94.578209
CREATED:20160714T150704Z
DTSTART:20160725T000000Z
DTEND:20160725T010000Z
DTSTAMP:20260426T004041Z
SUMMARY:Squirtle Squad vs. The Foot Faults 
DESCRIPTION:The Foot Faults  vs. Squirtle SquadPlus d'info : #111
X-ALT-DESC;FMTTYPE=text/html:<!DOCTYPE HTML PUBLIC "-//W3C//DTD HTML 3.2//E
	N">\n<HTML>\n<HEAD>\n<TITLE></TITLE>\n</HEAD>\n<BODY>\n<h3>The Foot Faults 
	 vs. Squirtle Squad</h3>Plus d'info : <a href="https://www.golnetwork.com/g
	ame/v/90540/">#111</a>\n\n</BODY>\n</HTML>
STATUS:CONFIRMED
CLASS:PUBLIC
URL:https://www.golnetwork.com/game/v/90540/
X-MICROSOFT-CDO-BUSYSTATUS:BUSY
X-MICROSOFT-CDO-IMPORTANCE:1
END:VEVENT
BEGIN:VEVENT
UID:g97ia@games.golnetwork.com
LOCATION:Jesse Ketchum 2
GEO:45.10662;-94.578209
CREATED:20160711T141725Z
DTSTART:20160724T230000Z
DTEND:20160725T000000Z
DTSTAMP:20260426T004041Z
SUMMARY:Squirtle Squad vs. XTSC Titans
DESCRIPTION:XTSC Titans vs. Squirtle SquadPlus d'info : #109
X-ALT-DESC;FMTTYPE=text/html:<!DOCTYPE HTML PUBLIC "-//W3C//DTD HTML 3.2//E
	N">\n<HTML>\n<HEAD>\n<TITLE></TITLE>\n</HEAD>\n<BODY>\n<h3>XTSC Titans vs. 
	Squirtle Squad</h3>Plus d'info : <a href="https://www.golnetwork.com/game/v
	/90374/">#109</a>\n\n</BODY>\n</HTML>
STATUS:CONFIRMED
CLASS:PUBLIC
URL:https://www.golnetwork.com/game/v/90374/
X-MICROSOFT-CDO-BUSYSTATUS:BUSY
X-MICROSOFT-CDO-IMPORTANCE:1
END:VEVENT
BEGIN:VEVENT
UID:g97i0@games.golnetwork.com
LOCATION:Jesse Ketchum 2
GEO:45.10662;-94.578209
CREATED:20160711T141609Z
DTSTART:20160717T220000Z
DTEND:20160717T230000Z
DTSTAMP:20260426T004041Z
SUMMARY:Hangover 96 vs. Squirtle Squad
DESCRIPTION:Squirtle Squad vs. Hangover 96Plus d'info : #67
X-ALT-DESC;FMTTYPE=text/html:<!DOCTYPE HTML PUBLIC "-//W3C//DTD HTML 3.2//E
	N">\n<HTML>\n<HEAD>\n<TITLE></TITLE>\n</HEAD>\n<BODY>\n<h3>Squirtle Squad v
	s. Hangover 96</h3>Plus d'info : <a href="https://www.golnetwork.com/game/v
	/90369/">#67</a>\n\n</BODY>\n</HTML>
STATUS:CONFIRMED
CLASS:PUBLIC
URL:https://www.golnetwork.com/game/v/90369/
X-MICROSOFT-CDO-BUSYSTATUS:BUSY
X-MICROSOFT-CDO-IMPORTANCE:1
END:VEVENT
END:VCALENDAR
