BEGIN:VCALENDAR
PRODID:-//gdesolutions.com//MV Framework 1.0.0.1607 Calendar//EN
VERSION:2.0
METHOD:PUBLISH
CALSCALE:GREGORIAN
BEGIN:VEVENT
UID:g78le@games.golnetwork.com
LOCATION:Forbes Field
GEO:45.10662;-94.578209
CREATED:20150622T183257Z
DTSTART:20150627T180000Z
DTEND:20150627T184400Z
DTSTAMP:20260421T010638Z
SUMMARY:Last Bite of French Toast vs. Vodka Juniors
DESCRIPTION:Vodka Juniors vs. Last Bite of French ToastPlus d'info : #58
X-ALT-DESC;FMTTYPE=text/html:<!DOCTYPE HTML PUBLIC "-//W3C//DTD HTML 3.2//E
	N">\n<HTML>\n<HEAD>\n<TITLE></TITLE>\n</HEAD>\n<BODY>\n<h3>Vodka Juniors vs
	. Last Bite of French Toast</h3>Plus d'info : <a href="https://www.golnetwo
	rk.com/game/v/71098/">#58</a>\n\n</BODY>\n</HTML>
STATUS:CONFIRMED
CLASS:PUBLIC
URL:https://www.golnetwork.com/game/v/71098/
X-MICROSOFT-CDO-BUSYSTATUS:BUSY
X-MICROSOFT-CDO-IMPORTANCE:1
END:VEVENT
END:VCALENDAR
