BEGIN:VCALENDAR
PRODID:-//gdesolutions.com//MV Framework 1.0.0.1607 Calendar//EN
VERSION:2.0
METHOD:PUBLISH
CALSCALE:GREGORIAN
BEGIN:VEVENT
UID:g79l3@games.golnetwork.com
LOCATION:Cherry Beach East 1
CREATED:20150702T183231Z
DTSTART:20150909T020000Z
DTEND:20150909T030000Z
DTSTAMP:20260422T075524Z
SUMMARY:Cisco FC vs. Molson FC
DESCRIPTION:Molson FC vs. Cisco FCPlus d'info : #389
X-ALT-DESC;FMTTYPE=text/html:<!DOCTYPE HTML PUBLIC "-//W3C//DTD HTML 3.2//E
	N">\n<HTML>\n<HEAD>\n<TITLE></TITLE>\n</HEAD>\n<BODY>\n<h3>Molson FC vs. Ci
	sco FC</h3>Plus d'info : <a href="https://www.golnetwork.com/game/v/71457/"
	>#389</a>\n\n</BODY>\n</HTML>
STATUS:CONFIRMED
CLASS:PUBLIC
URL:https://www.golnetwork.com/game/v/71457/
X-MICROSOFT-CDO-BUSYSTATUS:BUSY
X-MICROSOFT-CDO-IMPORTANCE:1
END:VEVENT
BEGIN:VEVENT
UID:g79kk@games.golnetwork.com
LOCATION:Cherry Beach East 1
CREATED:20150702T183231Z
DTSTART:20150902T020000Z
DTEND:20150902T030000Z
DTSTAMP:20260422T075524Z
SUMMARY:Molson FC vs. Lakeshore FC
DESCRIPTION:Lakeshore FC vs. Molson FCPlus d'info : #371
X-ALT-DESC;FMTTYPE=text/html:<!DOCTYPE HTML PUBLIC "-//W3C//DTD HTML 3.2//E
	N">\n<HTML>\n<HEAD>\n<TITLE></TITLE>\n</HEAD>\n<BODY>\n<h3>Lakeshore FC vs.
	 Molson FC</h3>Plus d'info : <a href="https://www.golnetwork.com/game/v/714
	52/">#371</a>\n\n</BODY>\n</HTML>
STATUS:CONFIRMED
CLASS:PUBLIC
URL:https://www.golnetwork.com/game/v/71452/
X-MICROSOFT-CDO-BUSYSTATUS:BUSY
X-MICROSOFT-CDO-IMPORTANCE:1
END:VEVENT
BEGIN:VEVENT
UID:g79k8@games.golnetwork.com
LOCATION:Cherry Beach East 3
CREATED:20150702T183231Z
DTSTART:20150826T010000Z
DTEND:20150826T020000Z
DTSTAMP:20260422T075524Z
SUMMARY:One Team One Dream vs. Molson FC
DESCRIPTION:Molson FC vs. One Team One DreamPlus d'info : #320
X-ALT-DESC;FMTTYPE=text/html:<!DOCTYPE HTML PUBLIC "-//W3C//DTD HTML 3.2//E
	N">\n<HTML>\n<HEAD>\n<TITLE></TITLE>\n</HEAD>\n<BODY>\n<h3>Molson FC vs. On
	e Team One Dream</h3>Plus d'info : <a href="https://www.golnetwork.com/game
	/v/71446/">#320</a>\n\n</BODY>\n</HTML>
STATUS:CONFIRMED
CLASS:PUBLIC
URL:https://www.golnetwork.com/game/v/71446/
X-MICROSOFT-CDO-BUSYSTATUS:BUSY
X-MICROSOFT-CDO-IMPORTANCE:1
END:VEVENT
BEGIN:VEVENT
UID:g79jn@games.golnetwork.com
LOCATION:Cherry Beach East 1
CREATED:20150702T183231Z
DTSTART:20150819T030000Z
DTEND:20150819T040000Z
DTSTAMP:20260422T075524Z
SUMMARY:Molson FC vs. Lakeshore FC
DESCRIPTION:Lakeshore FC vs. Molson FCPlus d'info : #276
X-ALT-DESC;FMTTYPE=text/html:<!DOCTYPE HTML PUBLIC "-//W3C//DTD HTML 3.2//E
	N">\n<HTML>\n<HEAD>\n<TITLE></TITLE>\n</HEAD>\n<BODY>\n<h3>Lakeshore FC vs.
	 Molson FC</h3>Plus d'info : <a href="https://www.golnetwork.com/game/v/714
	40/">#276</a>\n\n</BODY>\n</HTML>
STATUS:CONFIRMED
CLASS:PUBLIC
URL:https://www.golnetwork.com/game/v/71440/
X-MICROSOFT-CDO-BUSYSTATUS:BUSY
X-MICROSOFT-CDO-IMPORTANCE:1
END:VEVENT
BEGIN:VEVENT
UID:g79jf@games.golnetwork.com
LOCATION:Cherry Beach East 3
CREATED:20150702T183231Z
DTSTART:20150812T010000Z
DTEND:20150812T020000Z
DTSTAMP:20260422T075524Z
SUMMARY:Molson FC vs. ID FC
DESCRIPTION:ID FC vs. Molson FCPlus d'info : #218
X-ALT-DESC;FMTTYPE=text/html:<!DOCTYPE HTML PUBLIC "-//W3C//DTD HTML 3.2//E
	N">\n<HTML>\n<HEAD>\n<TITLE></TITLE>\n</HEAD>\n<BODY>\n<h3>ID FC vs. Molson
	 FC</h3>Plus d'info : <a href="https://www.golnetwork.com/game/v/71436/">#2
	18</a>\n\n</BODY>\n</HTML>
STATUS:CONFIRMED
CLASS:PUBLIC
URL:https://www.golnetwork.com/game/v/71436/
X-MICROSOFT-CDO-BUSYSTATUS:BUSY
X-MICROSOFT-CDO-IMPORTANCE:1
END:VEVENT
BEGIN:VEVENT
UID:g79j7@games.golnetwork.com
LOCATION:Cherry Beach East 1
CREATED:20150702T183231Z
DTSTART:20150805T020000Z
DTEND:20150805T030000Z
DTSTAMP:20260422T075524Z
SUMMARY:Molson FC vs. XTSC Power
DESCRIPTION:XTSC Power vs. Molson FCPlus d'info : #165
X-ALT-DESC;FMTTYPE=text/html:<!DOCTYPE HTML PUBLIC "-//W3C//DTD HTML 3.2//E
	N">\n<HTML>\n<HEAD>\n<TITLE></TITLE>\n</HEAD>\n<BODY>\n<h3>XTSC Power vs. M
	olson FC</h3>Plus d'info : <a href="https://www.golnetwork.com/game/v/71432
	/">#165</a>\n\n</BODY>\n</HTML>
STATUS:CONFIRMED
CLASS:PUBLIC
URL:https://www.golnetwork.com/game/v/71432/
X-MICROSOFT-CDO-BUSYSTATUS:BUSY
X-MICROSOFT-CDO-IMPORTANCE:1
END:VEVENT
BEGIN:VEVENT
UID:g79iq@games.golnetwork.com
LOCATION:Cherry Beach East 1
CREATED:20150702T183231Z
DTSTART:20150729T030000Z
DTEND:20150729T040000Z
DTSTAMP:20260422T075524Z
SUMMARY:Molson FC vs. The Hooligans
DESCRIPTION:The Hooligans vs. Molson FCPlus d'info : #142
X-ALT-DESC;FMTTYPE=text/html:<!DOCTYPE HTML PUBLIC "-//W3C//DTD HTML 3.2//E
	N">\n<HTML>\n<HEAD>\n<TITLE></TITLE>\n</HEAD>\n<BODY>\n<h3>The Hooligans vs
	. Molson FC</h3>Plus d'info : <a href="https://www.golnetwork.com/game/v/71
	428/">#142</a>\n\n</BODY>\n</HTML>
STATUS:CONFIRMED
CLASS:PUBLIC
URL:https://www.golnetwork.com/game/v/71428/
X-MICROSOFT-CDO-BUSYSTATUS:BUSY
X-MICROSOFT-CDO-IMPORTANCE:1
END:VEVENT
BEGIN:VEVENT
UID:g79ii@games.golnetwork.com
LOCATION:Cherry Beach East 3
CREATED:20150702T183231Z
DTSTART:20150722T010000Z
DTEND:20150722T020000Z
DTSTAMP:20260422T075524Z
SUMMARY:Molson FC vs. Ball so Hard
DESCRIPTION:Ball so Hard vs. Molson FCPlus d'info : #95
X-ALT-DESC;FMTTYPE=text/html:<!DOCTYPE HTML PUBLIC "-//W3C//DTD HTML 3.2//E
	N">\n<HTML>\n<HEAD>\n<TITLE></TITLE>\n</HEAD>\n<BODY>\n<h3>Ball so Hard vs.
	 Molson FC</h3>Plus d'info : <a href="https://www.golnetwork.com/game/v/714
	24/">#95</a>\n\n</BODY>\n</HTML>
STATUS:CONFIRMED
CLASS:PUBLIC
URL:https://www.golnetwork.com/game/v/71424/
X-MICROSOFT-CDO-BUSYSTATUS:BUSY
X-MICROSOFT-CDO-IMPORTANCE:1
END:VEVENT
BEGIN:VEVENT
UID:g79i8@games.golnetwork.com
LOCATION:Cherry Beach East 3
CREATED:20150702T183230Z
DTSTART:20150715T030000Z
DTEND:20150715T040000Z
DTSTAMP:20260422T075524Z
SUMMARY:Gringos vs. Molson FC
DESCRIPTION:Molson FC vs. GringosPlus d'info : #51
X-ALT-DESC;FMTTYPE=text/html:<!DOCTYPE HTML PUBLIC "-//W3C//DTD HTML 3.2//E
	N">\n<HTML>\n<HEAD>\n<TITLE></TITLE>\n</HEAD>\n<BODY>\n<h3>Molson FC vs. Gr
	ingos</h3>Plus d'info : <a href="https://www.golnetwork.com/game/v/71419/">
	#51</a>\n\n</BODY>\n</HTML>
STATUS:CONFIRMED
CLASS:PUBLIC
URL:https://www.golnetwork.com/game/v/71419/
X-MICROSOFT-CDO-BUSYSTATUS:BUSY
X-MICROSOFT-CDO-IMPORTANCE:1
END:VEVENT
END:VCALENDAR
