BEGIN:VCALENDAR
PRODID:-//gdesolutions.com//MV Framework 1.0.0.1607 Calendar//EN
VERSION:2.0
METHOD:PUBLISH
CALSCALE:GREGORIAN
BEGIN:VEVENT
UID:g9a7q@games.golnetwork.com
LOCATION:Jesse Ketchum 2
GEO:45.10662;-94.578209
CREATED:20160809T131412Z
DTSTART:20160919T221500Z
DTEND:20160919T231500Z
DTSTAMP:20260421T052741Z
SUMMARY:NPOS FC vs. Les foufounes
DESCRIPTION:Les foufounes vs. NPOS FCPlus d'info : #30
X-ALT-DESC;FMTTYPE=text/html:<!DOCTYPE HTML PUBLIC "-//W3C//DTD HTML 3.2//E
	N">\n<HTML>\n<HEAD>\n<TITLE></TITLE>\n</HEAD>\n<BODY>\n<h3>Les foufounes vs
	. NPOS FC</h3>Plus d'info : <a href="https://www.golnetwork.com/game/v/9132
	7/">#30</a>\n\n</BODY>\n</HTML>
STATUS:CONFIRMED
CLASS:PUBLIC
URL:https://www.golnetwork.com/game/v/91327/
X-MICROSOFT-CDO-BUSYSTATUS:BUSY
X-MICROSOFT-CDO-IMPORTANCE:1
END:VEVENT
BEGIN:VEVENT
UID:g9a7m@games.golnetwork.com
LOCATION:Jesse Ketchum 2
GEO:45.10662;-94.578209
CREATED:20160809T131348Z
DTSTART:20160912T223000Z
DTEND:20160912T233000Z
DTSTAMP:20260421T052741Z
SUMMARY:White Noise vs. NPOS FC
DESCRIPTION:NPOS FC vs. White NoisePlus d'info : #26
X-ALT-DESC;FMTTYPE=text/html:<!DOCTYPE HTML PUBLIC "-//W3C//DTD HTML 3.2//E
	N">\n<HTML>\n<HEAD>\n<TITLE></TITLE>\n</HEAD>\n<BODY>\n<h3>NPOS FC vs. Whit
	e Noise</h3>Plus d'info : <a href="https://www.golnetwork.com/game/v/91325/
	">#26</a>\n\n</BODY>\n</HTML>
STATUS:CONFIRMED
CLASS:PUBLIC
URL:https://www.golnetwork.com/game/v/91325/
X-MICROSOFT-CDO-BUSYSTATUS:BUSY
X-MICROSOFT-CDO-IMPORTANCE:1
END:VEVENT
BEGIN:VEVENT
UID:g9a7a@games.golnetwork.com
LOCATION:Jesse Ketchum 1
GEO:45.10662;-94.578209
CREATED:20160809T131240Z
DTSTART:20160905T223000Z
DTEND:20160905T233000Z
DTSTAMP:20260421T052741Z
SUMMARY:The Ball Kickers vs. NPOS FC
DESCRIPTION:NPOS FC vs. The Ball KickersPlus d'info : #21
X-ALT-DESC;FMTTYPE=text/html:<!DOCTYPE HTML PUBLIC "-//W3C//DTD HTML 3.2//E
	N">\n<HTML>\n<HEAD>\n<TITLE></TITLE>\n</HEAD>\n<BODY>\n<h3>NPOS FC vs. The 
	Ball Kickers</h3>Plus d'info : <a href="https://www.golnetwork.com/game/v/9
	1319/">#21</a>\n\n</BODY>\n</HTML>
STATUS:CONFIRMED
CLASS:PUBLIC
URL:https://www.golnetwork.com/game/v/91319/
X-MICROSOFT-CDO-BUSYSTATUS:BUSY
X-MICROSOFT-CDO-IMPORTANCE:1
END:VEVENT
BEGIN:VEVENT
UID:g9a7c@games.golnetwork.com
LOCATION:Jesse Ketchum 2
GEO:45.10662;-94.578209
CREATED:20160809T131256Z
DTSTART:20160829T230000Z
DTEND:20160830T000000Z
DTSTAMP:20260421T052741Z
SUMMARY:NPOS FC vs. Xtreme Tighty Whities
DESCRIPTION:Xtreme Tighty Whities vs. NPOS FCPlus d'info : #16
X-ALT-DESC;FMTTYPE=text/html:<!DOCTYPE HTML PUBLIC "-//W3C//DTD HTML 3.2//E
	N">\n<HTML>\n<HEAD>\n<TITLE></TITLE>\n</HEAD>\n<BODY>\n<h3>Xtreme Tighty Wh
	ities vs. NPOS FC</h3>Plus d'info : <a href="https://www.golnetwork.com/gam
	e/v/91320/">#16</a>\n\n</BODY>\n</HTML>
STATUS:CONFIRMED
CLASS:PUBLIC
URL:https://www.golnetwork.com/game/v/91320/
X-MICROSOFT-CDO-BUSYSTATUS:BUSY
X-MICROSOFT-CDO-IMPORTANCE:1
END:VEVENT
BEGIN:VEVENT
UID:g9a74@games.golnetwork.com
LOCATION:Jesse Ketchum 2
GEO:45.10662;-94.578209
CREATED:20160809T131215Z
DTSTART:20160822T231500Z
DTEND:20160823T001500Z
DTSTAMP:20260421T052741Z
SUMMARY:ForensKicks FC vs. NPOS FC
DESCRIPTION:NPOS FC vs. ForensKicks FCPlus d'info : #8
X-ALT-DESC;FMTTYPE=text/html:<!DOCTYPE HTML PUBLIC "-//W3C//DTD HTML 3.2//E
	N">\n<HTML>\n<HEAD>\n<TITLE></TITLE>\n</HEAD>\n<BODY>\n<h3>NPOS FC vs. Fore
	nsKicks FC</h3>Plus d'info : <a href="https://www.golnetwork.com/game/v/913
	16/">#8</a>\n\n</BODY>\n</HTML>
STATUS:CONFIRMED
CLASS:PUBLIC
URL:https://www.golnetwork.com/game/v/91316/
X-MICROSOFT-CDO-BUSYSTATUS:BUSY
X-MICROSOFT-CDO-IMPORTANCE:1
END:VEVENT
BEGIN:VEVENT
UID:g9a70@games.golnetwork.com
LOCATION:Jesse Ketchum 2
GEO:45.10662;-94.578209
CREATED:20160809T131152Z
DTSTART:20160822T221500Z
DTEND:20160822T231500Z
DTSTAMP:20260421T052741Z
SUMMARY:Les foufounes vs. NPOS FC
DESCRIPTION:NPOS FC vs. Les foufounesPlus d'info : #6
X-ALT-DESC;FMTTYPE=text/html:<!DOCTYPE HTML PUBLIC "-//W3C//DTD HTML 3.2//E
	N">\n<HTML>\n<HEAD>\n<TITLE></TITLE>\n</HEAD>\n<BODY>\n<h3>NPOS FC vs. Les 
	foufounes</h3>Plus d'info : <a href="https://www.golnetwork.com/game/v/9131
	4/">#6</a>\n\n</BODY>\n</HTML>
STATUS:CONFIRMED
CLASS:PUBLIC
URL:https://www.golnetwork.com/game/v/91314/
X-MICROSOFT-CDO-BUSYSTATUS:BUSY
X-MICROSOFT-CDO-IMPORTANCE:1
END:VEVENT
END:VCALENDAR
