BEGIN:VCALENDAR
PRODID:-//gdesolutions.com//MV Framework 1.0.0.1607 Calendar//EN
VERSION:2.0
METHOD:PUBLISH
CALSCALE:GREGORIAN
BEGIN:VEVENT
UID:g8134@games.golnetwork.com
LOCATION:Bialik - Court #1
GEO:45.4792109;-73.6584172
CREATED:20151008T194630Z
DTSTART:20160302T234500Z
DTEND:20160303T004500Z
DTSTAMP:20260421T202924Z
SUMMARY:KOVAC vs. CHAIM
DESCRIPTION:CHAIM vs. KOVACPlus d'info : #92
X-ALT-DESC;FMTTYPE=text/html:<!DOCTYPE HTML PUBLIC "-//W3C//DTD HTML 3.2//E
	N">\n<HTML>\n<HEAD>\n<TITLE></TITLE>\n</HEAD>\n<BODY>\n<h3>CHAIM vs. KOVAC<
	/h3>Plus d'info : <a href="https://www.golnetwork.com/game/v/78140/">#92</a
	>\n\n</BODY>\n</HTML>
STATUS:CONFIRMED
CLASS:PUBLIC
URL:https://www.golnetwork.com/game/v/78140/
X-MICROSOFT-CDO-BUSYSTATUS:BUSY
X-MICROSOFT-CDO-IMPORTANCE:1
END:VEVENT
BEGIN:VEVENT
UID:g815e@games.golnetwork.com
LOCATION:Trafalgar
GEO:45.4987672;-73.5845067
CREATED:20151008T194631Z
DTSTART:20160224T003000Z
DTEND:20160224T013000Z
DTSTAMP:20260421T202924Z
SUMMARY:SHEIN vs. CHAIM
DESCRIPTION:CHAIM vs. SHEINPlus d'info : #85
X-ALT-DESC;FMTTYPE=text/html:<!DOCTYPE HTML PUBLIC "-//W3C//DTD HTML 3.2//E
	N">\n<HTML>\n<HEAD>\n<TITLE></TITLE>\n</HEAD>\n<BODY>\n<h3>CHAIM vs. SHEIN<
	/h3>Plus d'info : <a href="https://www.golnetwork.com/game/v/78172/">#85</a
	>\n\n</BODY>\n</HTML>
STATUS:CONFIRMED
CLASS:PUBLIC
URL:https://www.golnetwork.com/game/v/78172/
X-MICROSOFT-CDO-BUSYSTATUS:BUSY
X-MICROSOFT-CDO-IMPORTANCE:1
END:VEVENT
BEGIN:VEVENT
UID:g8150@games.golnetwork.com
LOCATION:Bialik - Court #1
GEO:45.4792109;-73.6584172
CREATED:20151008T194631Z
DTSTART:20160218T014500Z
DTEND:20160218T024500Z
DTSTAMP:20260421T202924Z
SUMMARY:SHEIN vs. CHAIM
DESCRIPTION:CHAIM vs. SHEINPlus d'info : #83
X-ALT-DESC;FMTTYPE=text/html:<!DOCTYPE HTML PUBLIC "-//W3C//DTD HTML 3.2//E
	N">\n<HTML>\n<HEAD>\n<TITLE></TITLE>\n</HEAD>\n<BODY>\n<h3>CHAIM vs. SHEIN<
	/h3>Plus d'info : <a href="https://www.golnetwork.com/game/v/78165/">#83</a
	>\n\n</BODY>\n</HTML>
STATUS:CONFIRMED
CLASS:PUBLIC
URL:https://www.golnetwork.com/game/v/78165/
X-MICROSOFT-CDO-BUSYSTATUS:BUSY
X-MICROSOFT-CDO-IMPORTANCE:1
END:VEVENT
BEGIN:VEVENT
UID:g814b@games.golnetwork.com
LOCATION:Trafalgar
GEO:45.4987672;-73.5845067
CREATED:20151008T194631Z
DTSTART:20160211T013000Z
DTEND:20160211T023000Z
DTSTAMP:20260421T202924Z
SUMMARY:WILDCATS vs. CHAIM
DESCRIPTION:CHAIM vs. WILDCATSPlus d'info : #75
X-ALT-DESC;FMTTYPE=text/html:<!DOCTYPE HTML PUBLIC "-//W3C//DTD HTML 3.2//E
	N">\n<HTML>\n<HEAD>\n<TITLE></TITLE>\n</HEAD>\n<BODY>\n<h3>CHAIM vs. WILDCA
	TS</h3>Plus d'info : <a href="https://www.golnetwork.com/game/v/78157/">#75
	</a>\n\n</BODY>\n</HTML>
STATUS:CONFIRMED
CLASS:PUBLIC
URL:https://www.golnetwork.com/game/v/78157/
X-MICROSOFT-CDO-BUSYSTATUS:BUSY
X-MICROSOFT-CDO-IMPORTANCE:1
END:VEVENT
BEGIN:VEVENT
UID:g813o@games.golnetwork.com
LOCATION:Bialik - Court #1
GEO:45.4792109;-73.6584172
CREATED:20151008T194631Z
DTSTART:20160204T014500Z
DTEND:20160204T024500Z
DTSTAMP:20260421T202924Z
SUMMARY:CHAIM vs. KOVAC
DESCRIPTION:KOVAC vs. CHAIMPlus d'info : #71
X-ALT-DESC;FMTTYPE=text/html:<!DOCTYPE HTML PUBLIC "-//W3C//DTD HTML 3.2//E
	N">\n<HTML>\n<HEAD>\n<TITLE></TITLE>\n</HEAD>\n<BODY>\n<h3>KOVAC vs. CHAIM<
	/h3>Plus d'info : <a href="https://www.golnetwork.com/game/v/78150/">#71</a
	>\n\n</BODY>\n</HTML>
STATUS:CONFIRMED
CLASS:PUBLIC
URL:https://www.golnetwork.com/game/v/78150/
X-MICROSOFT-CDO-BUSYSTATUS:BUSY
X-MICROSOFT-CDO-IMPORTANCE:1
END:VEVENT
BEGIN:VEVENT
UID:g813c@games.golnetwork.com
LOCATION:Bialik - Court #1
GEO:45.4792109;-73.6584172
CREATED:20151008T194630Z
DTSTART:20160128T014500Z
DTEND:20160128T024500Z
DTSTAMP:20260421T202924Z
SUMMARY:COLA vs. CHAIM
DESCRIPTION:CHAIM vs. COLAPlus d'info : #66
X-ALT-DESC;FMTTYPE=text/html:<!DOCTYPE HTML PUBLIC "-//W3C//DTD HTML 3.2//E
	N">\n<HTML>\n<HEAD>\n<TITLE></TITLE>\n</HEAD>\n<BODY>\n<h3>CHAIM vs. COLA</
	h3>Plus d'info : <a href="https://www.golnetwork.com/game/v/78144/">#66</a>
	\n\n</BODY>\n</HTML>
STATUS:CONFIRMED
CLASS:PUBLIC
URL:https://www.golnetwork.com/game/v/78144/
X-MICROSOFT-CDO-BUSYSTATUS:BUSY
X-MICROSOFT-CDO-IMPORTANCE:1
END:VEVENT
BEGIN:VEVENT
UID:g812j@games.golnetwork.com
LOCATION:Bialik - Court #1
GEO:45.4792109;-73.6584172
CREATED:20151008T194630Z
DTSTART:20160114T014500Z
DTEND:20160114T024500Z
DTSTAMP:20260421T202924Z
SUMMARY:EPSTEIN vs. CHAIM
DESCRIPTION:CHAIM vs. EPSTEINPlus d'info : #59
X-ALT-DESC;FMTTYPE=text/html:<!DOCTYPE HTML PUBLIC "-//W3C//DTD HTML 3.2//E
	N">\n<HTML>\n<HEAD>\n<TITLE></TITLE>\n</HEAD>\n<BODY>\n<h3>CHAIM vs. EPSTEI
	N</h3>Plus d'info : <a href="https://www.golnetwork.com/game/v/78134/">#59<
	/a>\n\n</BODY>\n</HTML>
STATUS:CONFIRMED
CLASS:PUBLIC
URL:https://www.golnetwork.com/game/v/78134/
X-MICROSOFT-CDO-BUSYSTATUS:BUSY
X-MICROSOFT-CDO-IMPORTANCE:1
END:VEVENT
BEGIN:VEVENT
UID:g812d@games.golnetwork.com
LOCATION:Bialik - Court #1
GEO:45.4792109;-73.6584172
CREATED:20151008T194630Z
DTSTART:20151217T014500Z
DTEND:20151217T024500Z
DTSTAMP:20260421T202924Z
SUMMARY:CHAIM vs. SEGEV
DESCRIPTION:SEGEV vs. CHAIMPlus d'info : #53
X-ALT-DESC;FMTTYPE=text/html:<!DOCTYPE HTML PUBLIC "-//W3C//DTD HTML 3.2//E
	N">\n<HTML>\n<HEAD>\n<TITLE></TITLE>\n</HEAD>\n<BODY>\n<h3>SEGEV vs. CHAIM<
	/h3>Plus d'info : <a href="https://www.golnetwork.com/game/v/78131/">#53</a
	>\n\n</BODY>\n</HTML>
STATUS:CONFIRMED
CLASS:PUBLIC
URL:https://www.golnetwork.com/game/v/78131/
X-MICROSOFT-CDO-BUSYSTATUS:BUSY
X-MICROSOFT-CDO-IMPORTANCE:1
END:VEVENT
BEGIN:VEVENT
UID:g811i@games.golnetwork.com
LOCATION:Trafalgar
GEO:45.4987672;-73.5845067
CREATED:20151008T194630Z
DTSTART:20151210T013000Z
DTEND:20151210T023000Z
DTSTAMP:20260421T202924Z
SUMMARY:CHAIM vs. ROTHSTEIN
DESCRIPTION:ROTHSTEIN vs. CHAIMPlus d'info : #46
X-ALT-DESC;FMTTYPE=text/html:<!DOCTYPE HTML PUBLIC "-//W3C//DTD HTML 3.2//E
	N">\n<HTML>\n<HEAD>\n<TITLE></TITLE>\n</HEAD>\n<BODY>\n<h3>ROTHSTEIN vs. CH
	AIM</h3>Plus d'info : <a href="https://www.golnetwork.com/game/v/78120/">#4
	6</a>\n\n</BODY>\n</HTML>
STATUS:CONFIRMED
CLASS:PUBLIC
URL:https://www.golnetwork.com/game/v/78120/
X-MICROSOFT-CDO-BUSYSTATUS:BUSY
X-MICROSOFT-CDO-IMPORTANCE:1
END:VEVENT
BEGIN:VEVENT
UID:g8118@games.golnetwork.com
LOCATION:Bialik - Court #1
GEO:45.4792109;-73.6584172
CREATED:20151008T194630Z
DTSTART:20151203T014500Z
DTEND:20151203T024500Z
DTSTAMP:20260421T202924Z
SUMMARY:CHAIM vs. BERALL
DESCRIPTION:BERALL vs. CHAIMPlus d'info : #42
X-ALT-DESC;FMTTYPE=text/html:<!DOCTYPE HTML PUBLIC "-//W3C//DTD HTML 3.2//E
	N">\n<HTML>\n<HEAD>\n<TITLE></TITLE>\n</HEAD>\n<BODY>\n<h3>BERALL vs. CHAIM
	</h3>Plus d'info : <a href="https://www.golnetwork.com/game/v/78115/">#42</
	a>\n\n</BODY>\n</HTML>
STATUS:CONFIRMED
CLASS:PUBLIC
URL:https://www.golnetwork.com/game/v/78115/
X-MICROSOFT-CDO-BUSYSTATUS:BUSY
X-MICROSOFT-CDO-IMPORTANCE:1
END:VEVENT
BEGIN:VEVENT
UID:g810p@games.golnetwork.com
LOCATION:Trafalgar
GEO:45.4987672;-73.5845067
CREATED:20151008T194630Z
DTSTART:20151126T013000Z
DTEND:20151126T023000Z
DTSTAMP:20260421T202924Z
SUMMARY:CHAIM vs. SEGEV
DESCRIPTION:SEGEV vs. CHAIMPlus d'info : #32
X-ALT-DESC;FMTTYPE=text/html:<!DOCTYPE HTML PUBLIC "-//W3C//DTD HTML 3.2//E
	N">\n<HTML>\n<HEAD>\n<TITLE></TITLE>\n</HEAD>\n<BODY>\n<h3>SEGEV vs. CHAIM<
	/h3>Plus d'info : <a href="https://www.golnetwork.com/game/v/78110/">#32</a
	>\n\n</BODY>\n</HTML>
STATUS:CONFIRMED
CLASS:PUBLIC
URL:https://www.golnetwork.com/game/v/78110/
X-MICROSOFT-CDO-BUSYSTATUS:BUSY
X-MICROSOFT-CDO-IMPORTANCE:1
END:VEVENT
BEGIN:VEVENT
UID:g810f@games.golnetwork.com
LOCATION:Hebrew Academy - Court # 1
CREATED:20151008T194630Z
DTSTART:20151119T023000Z
DTEND:20151119T033000Z
DTSTAMP:20260421T202924Z
SUMMARY:CHAIM vs. NEUBARTH
DESCRIPTION:NEUBARTH vs. CHAIMPlus d'info : #30
X-ALT-DESC;FMTTYPE=text/html:<!DOCTYPE HTML PUBLIC "-//W3C//DTD HTML 3.2//E
	N">\n<HTML>\n<HEAD>\n<TITLE></TITLE>\n</HEAD>\n<BODY>\n<h3>NEUBARTH vs. CHA
	IM</h3>Plus d'info : <a href="https://www.golnetwork.com/game/v/78105/">#30
	</a>\n\n</BODY>\n</HTML>
STATUS:CONFIRMED
CLASS:PUBLIC
URL:https://www.golnetwork.com/game/v/78105/
X-MICROSOFT-CDO-BUSYSTATUS:BUSY
X-MICROSOFT-CDO-IMPORTANCE:1
END:VEVENT
BEGIN:VEVENT
UID:g80qq@games.golnetwork.com
LOCATION:Bialik - Court #1
GEO:45.4792109;-73.6584172
CREATED:20151008T194630Z
DTSTART:20151112T004500Z
DTEND:20151112T014500Z
DTSTAMP:20260421T202924Z
SUMMARY:CHAIM vs. SHADOWITZ
DESCRIPTION:SHADOWITZ vs. CHAIMPlus d'info : #21
X-ALT-DESC;FMTTYPE=text/html:<!DOCTYPE HTML PUBLIC "-//W3C//DTD HTML 3.2//E
	N">\n<HTML>\n<HEAD>\n<TITLE></TITLE>\n</HEAD>\n<BODY>\n<h3>SHADOWITZ vs. CH
	AIM</h3>Plus d'info : <a href="https://www.golnetwork.com/game/v/78097/">#2
	1</a>\n\n</BODY>\n</HTML>
STATUS:CONFIRMED
CLASS:PUBLIC
URL:https://www.golnetwork.com/game/v/78097/
X-MICROSOFT-CDO-BUSYSTATUS:BUSY
X-MICROSOFT-CDO-IMPORTANCE:1
END:VEVENT
BEGIN:VEVENT
UID:g80qm@games.golnetwork.com
LOCATION:Hebrew Academy - Court # 1
CREATED:20151008T194630Z
DTSTART:20151105T023000Z
DTEND:20151105T033000Z
DTSTAMP:20260421T202924Z
SUMMARY:CHAIM vs. EPSTEIN
DESCRIPTION:EPSTEIN vs. CHAIMPlus d'info : #18
X-ALT-DESC;FMTTYPE=text/html:<!DOCTYPE HTML PUBLIC "-//W3C//DTD HTML 3.2//E
	N">\n<HTML>\n<HEAD>\n<TITLE></TITLE>\n</HEAD>\n<BODY>\n<h3>EPSTEIN vs. CHAI
	M</h3>Plus d'info : <a href="https://www.golnetwork.com/game/v/78095/">#18<
	/a>\n\n</BODY>\n</HTML>
STATUS:CONFIRMED
CLASS:PUBLIC
URL:https://www.golnetwork.com/game/v/78095/
X-MICROSOFT-CDO-BUSYSTATUS:BUSY
X-MICROSOFT-CDO-IMPORTANCE:1
END:VEVENT
BEGIN:VEVENT
UID:g80qa@games.golnetwork.com
LOCATION:Hebrew Academy - Court # 1
CREATED:20151008T194630Z
DTSTART:20151029T003000Z
DTEND:20151029T013000Z
DTSTAMP:20260421T202924Z
SUMMARY:NEUBARTH vs. CHAIM
DESCRIPTION:CHAIM vs. NEUBARTHPlus d'info : #9
X-ALT-DESC;FMTTYPE=text/html:<!DOCTYPE HTML PUBLIC "-//W3C//DTD HTML 3.2//E
	N">\n<HTML>\n<HEAD>\n<TITLE></TITLE>\n</HEAD>\n<BODY>\n<h3>CHAIM vs. NEUBAR
	TH</h3>Plus d'info : <a href="https://www.golnetwork.com/game/v/78089/">#9<
	/a>\n\n</BODY>\n</HTML>
STATUS:CONFIRMED
CLASS:PUBLIC
URL:https://www.golnetwork.com/game/v/78089/
X-MICROSOFT-CDO-BUSYSTATUS:BUSY
X-MICROSOFT-CDO-IMPORTANCE:1
END:VEVENT
BEGIN:VEVENT
UID:g80pn@games.golnetwork.com
LOCATION:Hebrew Academy - Court # 1
CREATED:20151008T194629Z
DTSTART:20151022T013000Z
DTEND:20151022T023000Z
DTSTAMP:20260421T202924Z
SUMMARY:BERALL vs. CHAIM
DESCRIPTION:CHAIM vs. BERALLPlus d'info : #6
X-ALT-DESC;FMTTYPE=text/html:<!DOCTYPE HTML PUBLIC "-//W3C//DTD HTML 3.2//E
	N">\n<HTML>\n<HEAD>\n<TITLE></TITLE>\n</HEAD>\n<BODY>\n<h3>CHAIM vs. BERALL
	</h3>Plus d'info : <a href="https://www.golnetwork.com/game/v/78082/">#6</a
	>\n\n</BODY>\n</HTML>
STATUS:CONFIRMED
CLASS:PUBLIC
URL:https://www.golnetwork.com/game/v/78082/
X-MICROSOFT-CDO-BUSYSTATUS:BUSY
X-MICROSOFT-CDO-IMPORTANCE:1
END:VEVENT
END:VCALENDAR
