BEGIN:VCALENDAR
PRODID:-//gdesolutions.com//MV Framework 1.0.0.1607 Calendar//EN
VERSION:2.0
METHOD:PUBLISH
CALSCALE:GREGORIAN
BEGIN:VEVENT
UID:g8130@games.golnetwork.com
LOCATION:Bialik - Court #1
GEO:45.4792109;-73.6584172
CREATED:20151008T194630Z
DTSTART:20160303T014500Z
DTEND:20160303T024500Z
DTSTAMP:20260422T210751Z
SUMMARY:EPSTEIN vs. SEGEV
DESCRIPTION:SEGEV vs. EPSTEINPlus d'info : #96
X-ALT-DESC;FMTTYPE=text/html:<!DOCTYPE HTML PUBLIC "-//W3C//DTD HTML 3.2//E
	N">\n<HTML>\n<HEAD>\n<TITLE></TITLE>\n</HEAD>\n<BODY>\n<h3>SEGEV vs. EPSTEI
	N</h3>Plus d'info : <a href="https://www.golnetwork.com/game/v/78138/">#96<
	/a>\n\n</BODY>\n</HTML>
STATUS:CONFIRMED
CLASS:PUBLIC
URL:https://www.golnetwork.com/game/v/78138/
X-MICROSOFT-CDO-BUSYSTATUS:BUSY
X-MICROSOFT-CDO-IMPORTANCE:1
END:VEVENT
BEGIN:VEVENT
UID:g815g@games.golnetwork.com
LOCATION:Marianopolis #1
GEO:45.4807868;-73.610845
CREATED:20151008T194631Z
DTSTART:20160225T011500Z
DTEND:20160225T021500Z
DTSTAMP:20260422T210751Z
SUMMARY:ROTHSTEIN vs. SEGEV
DESCRIPTION:SEGEV vs. ROTHSTEINPlus d'info : #88
X-ALT-DESC;FMTTYPE=text/html:<!DOCTYPE HTML PUBLIC "-//W3C//DTD HTML 3.2//E
	N">\n<HTML>\n<HEAD>\n<TITLE></TITLE>\n</HEAD>\n<BODY>\n<h3>SEGEV vs. ROTHST
	EIN</h3>Plus d'info : <a href="https://www.golnetwork.com/game/v/78173/">#8
	8</a>\n\n</BODY>\n</HTML>
STATUS:CONFIRMED
CLASS:PUBLIC
URL:https://www.golnetwork.com/game/v/78173/
X-MICROSOFT-CDO-BUSYSTATUS:BUSY
X-MICROSOFT-CDO-IMPORTANCE:1
END:VEVENT
BEGIN:VEVENT
UID:g814p@games.golnetwork.com
LOCATION:Bialik - Court #1
GEO:45.4792109;-73.6584172
CREATED:20151008T194631Z
DTSTART:20160218T004500Z
DTEND:20160218T014500Z
DTSTAMP:20260422T210751Z
SUMMARY:BERALL vs. SEGEV
DESCRIPTION:SEGEV vs. BERALLPlus d'info : #80
X-ALT-DESC;FMTTYPE=text/html:<!DOCTYPE HTML PUBLIC "-//W3C//DTD HTML 3.2//E
	N">\n<HTML>\n<HEAD>\n<TITLE></TITLE>\n</HEAD>\n<BODY>\n<h3>SEGEV vs. BERALL
	</h3>Plus d'info : <a href="https://www.golnetwork.com/game/v/78164/">#80</
	a>\n\n</BODY>\n</HTML>
STATUS:CONFIRMED
CLASS:PUBLIC
URL:https://www.golnetwork.com/game/v/78164/
X-MICROSOFT-CDO-BUSYSTATUS:BUSY
X-MICROSOFT-CDO-IMPORTANCE:1
END:VEVENT
BEGIN:VEVENT
UID:g814d@games.golnetwork.com
LOCATION:Bialik - Court #1
GEO:45.4792109;-73.6584172
CREATED:20151008T194631Z
DTSTART:20160211T004500Z
DTEND:20160211T014500Z
DTSTAMP:20260422T210751Z
SUMMARY:SHEIN vs. SEGEV
DESCRIPTION:SEGEV vs. SHEINPlus d'info : #74
X-ALT-DESC;FMTTYPE=text/html:<!DOCTYPE HTML PUBLIC "-//W3C//DTD HTML 3.2//E
	N">\n<HTML>\n<HEAD>\n<TITLE></TITLE>\n</HEAD>\n<BODY>\n<h3>SEGEV vs. SHEIN<
	/h3>Plus d'info : <a href="https://www.golnetwork.com/game/v/78158/">#74</a
	>\n\n</BODY>\n</HTML>
STATUS:CONFIRMED
CLASS:PUBLIC
URL:https://www.golnetwork.com/game/v/78158/
X-MICROSOFT-CDO-BUSYSTATUS:BUSY
X-MICROSOFT-CDO-IMPORTANCE:1
END:VEVENT
BEGIN:VEVENT
UID:g8145@games.golnetwork.com
LOCATION:Bialik - Court #1
GEO:45.4792109;-73.6584172
CREATED:20151008T194631Z
DTSTART:20160203T234500Z
DTEND:20160204T004500Z
DTSTAMP:20260422T210751Z
SUMMARY:BERALL vs. SEGEV
DESCRIPTION:SEGEV vs. BERALLPlus d'info : #67
X-ALT-DESC;FMTTYPE=text/html:<!DOCTYPE HTML PUBLIC "-//W3C//DTD HTML 3.2//E
	N">\n<HTML>\n<HEAD>\n<TITLE></TITLE>\n</HEAD>\n<BODY>\n<h3>SEGEV vs. BERALL
	</h3>Plus d'info : <a href="https://www.golnetwork.com/game/v/78154/">#67</
	a>\n\n</BODY>\n</HTML>
STATUS:CONFIRMED
CLASS:PUBLIC
URL:https://www.golnetwork.com/game/v/78154/
X-MICROSOFT-CDO-BUSYSTATUS:BUSY
X-MICROSOFT-CDO-IMPORTANCE:1
END:VEVENT
BEGIN:VEVENT
UID:g813i@games.golnetwork.com
LOCATION:Bialik - Court #1
GEO:45.4792109;-73.6584172
CREATED:20151008T194630Z
DTSTART:20160128T004500Z
DTEND:20160128T014500Z
DTSTAMP:20260422T210751Z
SUMMARY:WILDCATS vs. SEGEV
DESCRIPTION:SEGEV vs. WILDCATSPlus d'info : #62
X-ALT-DESC;FMTTYPE=text/html:<!DOCTYPE HTML PUBLIC "-//W3C//DTD HTML 3.2//E
	N">\n<HTML>\n<HEAD>\n<TITLE></TITLE>\n</HEAD>\n<BODY>\n<h3>SEGEV vs. WILDCA
	TS</h3>Plus d'info : <a href="https://www.golnetwork.com/game/v/78147/">#62
	</a>\n\n</BODY>\n</HTML>
STATUS:CONFIRMED
CLASS:PUBLIC
URL:https://www.golnetwork.com/game/v/78147/
X-MICROSOFT-CDO-BUSYSTATUS:BUSY
X-MICROSOFT-CDO-IMPORTANCE:1
END:VEVENT
BEGIN:VEVENT
UID:g812l@games.golnetwork.com
LOCATION:Bialik - Court #1
GEO:45.4792109;-73.6584172
CREATED:20151008T194630Z
DTSTART:20160113T234500Z
DTEND:20160114T004500Z
DTSTAMP:20260422T210751Z
SUMMARY:SEGEV vs. NEUBARTH
DESCRIPTION:NEUBARTH vs. SEGEVPlus d'info : #56
X-ALT-DESC;FMTTYPE=text/html:<!DOCTYPE HTML PUBLIC "-//W3C//DTD HTML 3.2//E
	N">\n<HTML>\n<HEAD>\n<TITLE></TITLE>\n</HEAD>\n<BODY>\n<h3>NEUBARTH vs. SEG
	EV</h3>Plus d'info : <a href="https://www.golnetwork.com/game/v/78135/">#56
	</a>\n\n</BODY>\n</HTML>
STATUS:CONFIRMED
CLASS:PUBLIC
URL:https://www.golnetwork.com/game/v/78135/
X-MICROSOFT-CDO-BUSYSTATUS:BUSY
X-MICROSOFT-CDO-IMPORTANCE:1
END:VEVENT
BEGIN:VEVENT
UID:g812d@games.golnetwork.com
LOCATION:Bialik - Court #1
GEO:45.4792109;-73.6584172
CREATED:20151008T194630Z
DTSTART:20151217T014500Z
DTEND:20151217T024500Z
DTSTAMP:20260422T210751Z
SUMMARY:CHAIM vs. SEGEV
DESCRIPTION:SEGEV vs. CHAIMPlus d'info : #53
X-ALT-DESC;FMTTYPE=text/html:<!DOCTYPE HTML PUBLIC "-//W3C//DTD HTML 3.2//E
	N">\n<HTML>\n<HEAD>\n<TITLE></TITLE>\n</HEAD>\n<BODY>\n<h3>SEGEV vs. CHAIM<
	/h3>Plus d'info : <a href="https://www.golnetwork.com/game/v/78131/">#53</a
	>\n\n</BODY>\n</HTML>
STATUS:CONFIRMED
CLASS:PUBLIC
URL:https://www.golnetwork.com/game/v/78131/
X-MICROSOFT-CDO-BUSYSTATUS:BUSY
X-MICROSOFT-CDO-IMPORTANCE:1
END:VEVENT
BEGIN:VEVENT
UID:g811q@games.golnetwork.com
LOCATION:Bialik - Court #1
GEO:45.4792109;-73.6584172
CREATED:20151008T194630Z
DTSTART:20151209T234500Z
DTEND:20151210T004500Z
DTSTAMP:20260422T210751Z
SUMMARY:COLA vs. SEGEV
DESCRIPTION:SEGEV vs. COLAPlus d'info : #43
X-ALT-DESC;FMTTYPE=text/html:<!DOCTYPE HTML PUBLIC "-//W3C//DTD HTML 3.2//E
	N">\n<HTML>\n<HEAD>\n<TITLE></TITLE>\n</HEAD>\n<BODY>\n<h3>SEGEV vs. COLA</
	h3>Plus d'info : <a href="https://www.golnetwork.com/game/v/78124/">#43</a>
	\n\n</BODY>\n</HTML>
STATUS:CONFIRMED
CLASS:PUBLIC
URL:https://www.golnetwork.com/game/v/78124/
X-MICROSOFT-CDO-BUSYSTATUS:BUSY
X-MICROSOFT-CDO-IMPORTANCE:1
END:VEVENT
BEGIN:VEVENT
UID:g8116@games.golnetwork.com
LOCATION:Bialik - Court #1
GEO:45.4792109;-73.6584172
CREATED:20151008T194630Z
DTSTART:20151203T014500Z
DTEND:20151203T024500Z
DTSTAMP:20260422T210751Z
SUMMARY:NEUBARTH vs. SEGEV
DESCRIPTION:SEGEV vs. NEUBARTHPlus d'info : #41
X-ALT-DESC;FMTTYPE=text/html:<!DOCTYPE HTML PUBLIC "-//W3C//DTD HTML 3.2//E
	N">\n<HTML>\n<HEAD>\n<TITLE></TITLE>\n</HEAD>\n<BODY>\n<h3>SEGEV vs. NEUBAR
	TH</h3>Plus d'info : <a href="https://www.golnetwork.com/game/v/78114/">#41
	</a>\n\n</BODY>\n</HTML>
STATUS:CONFIRMED
CLASS:PUBLIC
URL:https://www.golnetwork.com/game/v/78114/
X-MICROSOFT-CDO-BUSYSTATUS:BUSY
X-MICROSOFT-CDO-IMPORTANCE:1
END:VEVENT
BEGIN:VEVENT
UID:g810p@games.golnetwork.com
LOCATION:Trafalgar
GEO:45.4987672;-73.5845067
CREATED:20151008T194630Z
DTSTART:20151126T013000Z
DTEND:20151126T023000Z
DTSTAMP:20260422T210751Z
SUMMARY:CHAIM vs. SEGEV
DESCRIPTION:SEGEV vs. CHAIMPlus d'info : #32
X-ALT-DESC;FMTTYPE=text/html:<!DOCTYPE HTML PUBLIC "-//W3C//DTD HTML 3.2//E
	N">\n<HTML>\n<HEAD>\n<TITLE></TITLE>\n</HEAD>\n<BODY>\n<h3>SEGEV vs. CHAIM<
	/h3>Plus d'info : <a href="https://www.golnetwork.com/game/v/78110/">#32</a
	>\n\n</BODY>\n</HTML>
STATUS:CONFIRMED
CLASS:PUBLIC
URL:https://www.golnetwork.com/game/v/78110/
X-MICROSOFT-CDO-BUSYSTATUS:BUSY
X-MICROSOFT-CDO-IMPORTANCE:1
END:VEVENT
BEGIN:VEVENT
UID:g810b@games.golnetwork.com
LOCATION:Marianopolis #1
GEO:45.4807868;-73.610845
CREATED:20151008T194630Z
DTSTART:20151119T011500Z
DTEND:20151119T021500Z
DTSTAMP:20260422T210751Z
SUMMARY:WILDCATS vs. SEGEV
DESCRIPTION:SEGEV vs. WILDCATSPlus d'info : #25
X-ALT-DESC;FMTTYPE=text/html:<!DOCTYPE HTML PUBLIC "-//W3C//DTD HTML 3.2//E
	N">\n<HTML>\n<HEAD>\n<TITLE></TITLE>\n</HEAD>\n<BODY>\n<h3>SEGEV vs. WILDCA
	TS</h3>Plus d'info : <a href="https://www.golnetwork.com/game/v/78103/">#25
	</a>\n\n</BODY>\n</HTML>
STATUS:CONFIRMED
CLASS:PUBLIC
URL:https://www.golnetwork.com/game/v/78103/
X-MICROSOFT-CDO-BUSYSTATUS:BUSY
X-MICROSOFT-CDO-IMPORTANCE:1
END:VEVENT
BEGIN:VEVENT
UID:g80qo@games.golnetwork.com
LOCATION:Bialik - Court #1
GEO:45.4792109;-73.6584172
CREATED:20151008T194630Z
DTSTART:20151111T234500Z
DTEND:20151112T004500Z
DTSTAMP:20260422T210751Z
SUMMARY:SEGEV vs. HAKAK
DESCRIPTION:HAKAK vs. SEGEVPlus d'info : #19
X-ALT-DESC;FMTTYPE=text/html:<!DOCTYPE HTML PUBLIC "-//W3C//DTD HTML 3.2//E
	N">\n<HTML>\n<HEAD>\n<TITLE></TITLE>\n</HEAD>\n<BODY>\n<h3>HAKAK vs. SEGEV<
	/h3>Plus d'info : <a href="https://www.golnetwork.com/game/v/78096/">#19</a
	>\n\n</BODY>\n</HTML>
STATUS:CONFIRMED
CLASS:PUBLIC
URL:https://www.golnetwork.com/game/v/78096/
X-MICROSOFT-CDO-BUSYSTATUS:BUSY
X-MICROSOFT-CDO-IMPORTANCE:1
END:VEVENT
BEGIN:VEVENT
UID:g80qe@games.golnetwork.com
LOCATION:Bialik - Court #1
GEO:45.4792109;-73.6584172
CREATED:20151008T194630Z
DTSTART:20151105T004500Z
DTEND:20151105T014500Z
DTSTAMP:20260422T210751Z
SUMMARY:SEGEV vs. KOVAC
DESCRIPTION:KOVAC vs. SEGEVPlus d'info : #14
X-ALT-DESC;FMTTYPE=text/html:<!DOCTYPE HTML PUBLIC "-//W3C//DTD HTML 3.2//E
	N">\n<HTML>\n<HEAD>\n<TITLE></TITLE>\n</HEAD>\n<BODY>\n<h3>KOVAC vs. SEGEV<
	/h3>Plus d'info : <a href="https://www.golnetwork.com/game/v/78091/">#14</a
	>\n\n</BODY>\n</HTML>
STATUS:CONFIRMED
CLASS:PUBLIC
URL:https://www.golnetwork.com/game/v/78091/
X-MICROSOFT-CDO-BUSYSTATUS:BUSY
X-MICROSOFT-CDO-IMPORTANCE:1
END:VEVENT
BEGIN:VEVENT
UID:g80q4@games.golnetwork.com
LOCATION:Trafalgar
GEO:45.4987672;-73.5845067
CREATED:20151008T194629Z
DTSTART:20151029T003000Z
DTEND:20151029T013000Z
DTSTAMP:20260422T210751Z
SUMMARY:SEGEV vs. SHEIN
DESCRIPTION:SHEIN vs. SEGEVPlus d'info : #8
X-ALT-DESC;FMTTYPE=text/html:<!DOCTYPE HTML PUBLIC "-//W3C//DTD HTML 3.2//E
	N">\n<HTML>\n<HEAD>\n<TITLE></TITLE>\n</HEAD>\n<BODY>\n<h3>SHEIN vs. SEGEV<
	/h3>Plus d'info : <a href="https://www.golnetwork.com/game/v/78086/">#8</a>
	\n\n</BODY>\n</HTML>
STATUS:CONFIRMED
CLASS:PUBLIC
URL:https://www.golnetwork.com/game/v/78086/
X-MICROSOFT-CDO-BUSYSTATUS:BUSY
X-MICROSOFT-CDO-IMPORTANCE:1
END:VEVENT
BEGIN:VEVENT
UID:g80pl@games.golnetwork.com
LOCATION:Bialik - Court #1
GEO:45.4792109;-73.6584172
CREATED:20151008T194629Z
DTSTART:20151021T224500Z
DTEND:20151021T234500Z
DTSTAMP:20260422T210751Z
SUMMARY:SEGEV vs. EPSTEIN
DESCRIPTION:EPSTEIN vs. SEGEVPlus d'info : #1
X-ALT-DESC;FMTTYPE=text/html:<!DOCTYPE HTML PUBLIC "-//W3C//DTD HTML 3.2//E
	N">\n<HTML>\n<HEAD>\n<TITLE></TITLE>\n</HEAD>\n<BODY>\n<h3>EPSTEIN vs. SEGE
	V</h3>Plus d'info : <a href="https://www.golnetwork.com/game/v/78081/">#1</
	a>\n\n</BODY>\n</HTML>
STATUS:CONFIRMED
CLASS:PUBLIC
URL:https://www.golnetwork.com/game/v/78081/
X-MICROSOFT-CDO-BUSYSTATUS:BUSY
X-MICROSOFT-CDO-IMPORTANCE:1
END:VEVENT
END:VCALENDAR
