BEGIN:VCALENDAR
PRODID:-//gdesolutions.com//MV Framework 1.0.0.1607 Calendar//EN
VERSION:2.0
METHOD:PUBLISH
CALSCALE:GREGORIAN
BEGIN:VEVENT
UID:g7oef@games.golnetwork.com
LOCATION:Central Technical School
GEO:43.6637272;-79.4087613
CREATED:20151007T131954Z
DTSTART:20151209T013000Z
DTEND:20151209T023000Z
DTSTAMP:20260425T041852Z
SUMMARY:Just Messi vs. Team United
DESCRIPTION:Team United vs. Just MessiPlus d'info : #150
X-ALT-DESC;FMTTYPE=text/html:<!DOCTYPE HTML PUBLIC "-//W3C//DTD HTML 3.2//E
	N">\n<HTML>\n<HEAD>\n<TITLE></TITLE>\n</HEAD>\n<BODY>\n<h3>Team United vs. 
	Just Messi</h3>Plus d'info : <a href="https://www.golnetwork.com/game/v/768
	36/">#150</a>\n\n</BODY>\n</HTML>
STATUS:CONFIRMED
CLASS:PUBLIC
URL:https://www.golnetwork.com/game/v/76836/
X-MICROSOFT-CDO-BUSYSTATUS:BUSY
X-MICROSOFT-CDO-IMPORTANCE:1
END:VEVENT
BEGIN:VEVENT
UID:g7oed@games.golnetwork.com
LOCATION:Central Technical School
GEO:43.6637272;-79.4087613
CREATED:20151007T131954Z
DTSTART:20151202T013000Z
DTEND:20151202T023000Z
DTSTAMP:20260425T041852Z
SUMMARY:Just Messi vs. Midnight Marauders
DESCRIPTION:Midnight Marauders vs. Just MessiPlus d'info : #132
X-ALT-DESC;FMTTYPE=text/html:<!DOCTYPE HTML PUBLIC "-//W3C//DTD HTML 3.2//E
	N">\n<HTML>\n<HEAD>\n<TITLE></TITLE>\n</HEAD>\n<BODY>\n<h3>Midnight Maraude
	rs vs. Just Messi</h3>Plus d'info : <a href="https://www.golnetwork.com/gam
	e/v/76835/">#132</a>\n\n</BODY>\n</HTML>
STATUS:CONFIRMED
CLASS:PUBLIC
URL:https://www.golnetwork.com/game/v/76835/
X-MICROSOFT-CDO-BUSYSTATUS:BUSY
X-MICROSOFT-CDO-IMPORTANCE:1
END:VEVENT
END:VCALENDAR
