BEGIN:VCALENDAR
PRODID:-//gdesolutions.com//MV Framework 1.0.0.1607 Calendar//EN
VERSION:2.0
METHOD:PUBLISH
CALSCALE:GREGORIAN
BEGIN:VEVENT
UID:g81a1@games.golnetwork.com
LOCATION:East York CI
GEO:45.10662;-94.578209
CREATED:20151010T161242Z
DTSTART:20160108T013000Z
DTEND:20160108T023000Z
DTSTAMP:20260421T052454Z
SUMMARY:XTSC Smells Like Team Spirit vs. Samba All-Stars
DESCRIPTION:Samba All-Stars vs. XTSC Smells Like Team SpiritPlus d'info : #
	170
X-ALT-DESC;FMTTYPE=text/html:<!DOCTYPE HTML PUBLIC "-//W3C//DTD HTML 3.2//E
	N">\n<HTML>\n<HEAD>\n<TITLE></TITLE>\n</HEAD>\n<BODY>\n<h3>Samba All-Stars 
	vs. XTSC Smells Like Team Spirit</h3>Plus d'info : <a href="https://www.gol
	network.com/game/v/78233/">#170</a>\n\n</BODY>\n</HTML>
STATUS:CONFIRMED
CLASS:PUBLIC
URL:https://www.golnetwork.com/game/v/78233/
X-MICROSOFT-CDO-BUSYSTATUS:BUSY
X-MICROSOFT-CDO-IMPORTANCE:1
END:VEVENT
END:VCALENDAR
