BEGIN:VCALENDAR
PRODID:-//gdesolutions.com//MV Framework 1.0.0.1607 Calendar//EN
VERSION:2.0
METHOD:PUBLISH
CALSCALE:GREGORIAN
BEGIN:VEVENT
UID:g99ll@games.golnetwork.com
LOCATION:Central Tech - Field 2
GEO:43.6637272;-79.4087613
CREATED:20160804T155946Z
DTSTART:20161020T020000Z
DTEND:20161020T025500Z
DTSTAMP:20260425T144819Z
SUMMARY:The Cornballers vs. The Slums of Anarchy
DESCRIPTION:The Slums of Anarchy vs. The CornballersPlus d'info : #699
X-ALT-DESC;FMTTYPE=text/html:<!DOCTYPE HTML PUBLIC "-//W3C//DTD HTML 3.2//E
	N">\n<HTML>\n<HEAD>\n<TITLE></TITLE>\n</HEAD>\n<BODY>\n<h3>The Slums of Ana
	rchy vs. The Cornballers</h3>Plus d'info : <a href="https://www.golnetwork.
	com/game/v/91149/">#699</a>\n\n</BODY>\n</HTML>
STATUS:CONFIRMED
CLASS:PUBLIC
URL:https://www.golnetwork.com/game/v/91149/
X-MICROSOFT-CDO-BUSYSTATUS:BUSY
X-MICROSOFT-CDO-IMPORTANCE:1
END:VEVENT
BEGIN:VEVENT
UID:g9ca9@games.golnetwork.com
LOCATION:Central Tech - Field 2
GEO:43.6637272;-79.4087613
CREATED:20160908T141539Z
DTSTART:20161006T010000Z
DTEND:20161006T020000Z
DTSTAMP:20260425T144819Z
SUMMARY:Workplace Won vs. The Slums of Anarchy
DESCRIPTION:The Slums of Anarchy vs. Workplace WonPlus d'info : R#403
X-ALT-DESC;FMTTYPE=text/html:<!DOCTYPE HTML PUBLIC "-//W3C//DTD HTML 3.2//E
	N">\n<HTML>\n<HEAD>\n<TITLE></TITLE>\n</HEAD>\n<BODY>\n<h3>The Slums of Ana
	rchy vs. Workplace Won</h3>Plus d'info : <a href="https://www.golnetwork.co
	m/game/v/92088/">R#403</a>\n\n</BODY>\n</HTML>
STATUS:CONFIRMED
CLASS:PUBLIC
URL:https://www.golnetwork.com/game/v/92088/
X-MICROSOFT-CDO-BUSYSTATUS:BUSY
X-MICROSOFT-CDO-IMPORTANCE:1
END:VEVENT
BEGIN:VEVENT
UID:g98dg@games.golnetwork.com
LOCATION:Central Tech - Field 2
GEO:43.6637272;-79.4087613
CREATED:20160721T172153Z
DTSTART:20160929T020000Z
DTEND:20160929T030000Z
DTSTAMP:20260425T144819Z
SUMMARY:The Slums of Anarchy vs. The Cornballers
DESCRIPTION:The Cornballers vs. The Slums of AnarchyPlus d'info : #599
X-ALT-DESC;FMTTYPE=text/html:<!DOCTYPE HTML PUBLIC "-//W3C//DTD HTML 3.2//E
	N">\n<HTML>\n<HEAD>\n<TITLE></TITLE>\n</HEAD>\n<BODY>\n<h3>The Cornballers 
	vs. The Slums of Anarchy</h3>Plus d'info : <a href="https://www.golnetwork.
	com/game/v/90674/">#599</a>\n\n</BODY>\n</HTML>
STATUS:CONFIRMED
CLASS:PUBLIC
URL:https://www.golnetwork.com/game/v/90674/
X-MICROSOFT-CDO-BUSYSTATUS:BUSY
X-MICROSOFT-CDO-IMPORTANCE:1
END:VEVENT
BEGIN:VEVENT
UID:g98de@games.golnetwork.com
LOCATION:Central Tech - Field 2
GEO:43.6637272;-79.4087613
CREATED:20160721T172153Z
DTSTART:20160922T020000Z
DTEND:20160922T030000Z
DTSTAMP:20260425T144819Z
SUMMARY:XTSC Wild Cats vs. The Slums of Anarchy
DESCRIPTION:The Slums of Anarchy vs. XTSC Wild CatsPlus d'info : #542
X-ALT-DESC;FMTTYPE=text/html:<!DOCTYPE HTML PUBLIC "-//W3C//DTD HTML 3.2//E
	N">\n<HTML>\n<HEAD>\n<TITLE></TITLE>\n</HEAD>\n<BODY>\n<h3>The Slums of Ana
	rchy vs. XTSC Wild Cats</h3>Plus d'info : <a href="https://www.golnetwork.c
	om/game/v/90673/">#542</a>\n\n</BODY>\n</HTML>
STATUS:CONFIRMED
CLASS:PUBLIC
URL:https://www.golnetwork.com/game/v/90673/
X-MICROSOFT-CDO-BUSYSTATUS:BUSY
X-MICROSOFT-CDO-IMPORTANCE:1
END:VEVENT
BEGIN:VEVENT
UID:g98ej@games.golnetwork.com
LOCATION:Central Tech - Field 2
GEO:43.6637272;-79.4087613
CREATED:20160721T172154Z
DTSTART:20160915T020000Z
DTEND:20160915T030000Z
DTSTAMP:20260425T144819Z
SUMMARY:Central Tech dropouts vs. The Slums of Anarchy
DESCRIPTION:The Slums of Anarchy vs. Central Tech dropoutsPlus d'info : #47
	5
X-ALT-DESC;FMTTYPE=text/html:<!DOCTYPE HTML PUBLIC "-//W3C//DTD HTML 3.2//E
	N">\n<HTML>\n<HEAD>\n<TITLE></TITLE>\n</HEAD>\n<BODY>\n<h3>The Slums of Ana
	rchy vs. Central Tech dropouts</h3>Plus d'info : <a href="https://www.golne
	twork.com/game/v/90689/">#475</a>\n\n</BODY>\n</HTML>
STATUS:CONFIRMED
CLASS:PUBLIC
URL:https://www.golnetwork.com/game/v/90689/
X-MICROSOFT-CDO-BUSYSTATUS:BUSY
X-MICROSOFT-CDO-IMPORTANCE:1
END:VEVENT
BEGIN:VEVENT
UID:g98ed@games.golnetwork.com
LOCATION:Central Tech - Field 2
GEO:43.6637272;-79.4087613
CREATED:20160721T172154Z
DTSTART:20160908T010000Z
DTEND:20160908T020000Z
DTSTAMP:20260425T144819Z
SUMMARY:Workplace Won vs. The Slums of Anarchy
DESCRIPTION:The Slums of Anarchy vs. Workplace WonPlus d'info : #401
X-ALT-DESC;FMTTYPE=text/html:<!DOCTYPE HTML PUBLIC "-//W3C//DTD HTML 3.2//E
	N">\n<HTML>\n<HEAD>\n<TITLE></TITLE>\n</HEAD>\n<BODY>\n<h3>The Slums of Ana
	rchy vs. Workplace Won</h3>Plus d'info : <a href="https://www.golnetwork.co
	m/game/v/90686/">#401</a>\n\n</BODY>\n</HTML>
STATUS:RESCHEDULED
CLASS:PUBLIC
URL:https://www.golnetwork.com/game/v/90686/
X-MICROSOFT-CDO-BUSYSTATUS:BUSY
X-MICROSOFT-CDO-IMPORTANCE:1
END:VEVENT
BEGIN:VEVENT
UID:g98e7@games.golnetwork.com
LOCATION:Central Tech - Field 2
GEO:43.6637272;-79.4087613
CREATED:20160721T172154Z
DTSTART:20160901T010000Z
DTEND:20160901T020000Z
DTSTAMP:20260425T144819Z
SUMMARY:workworkworkworkwork vs. The Slums of Anarchy
DESCRIPTION:The Slums of Anarchy vs. workworkworkworkworkPlus d'info : #354
X-ALT-DESC;FMTTYPE=text/html:<!DOCTYPE HTML PUBLIC "-//W3C//DTD HTML 3.2//E
	N">\n<HTML>\n<HEAD>\n<TITLE></TITLE>\n</HEAD>\n<BODY>\n<h3>The Slums of Ana
	rchy vs. workworkworkworkwork</h3>Plus d'info : <a href="https://www.golnet
	work.com/game/v/90683/">#354</a>\n\n</BODY>\n</HTML>
STATUS:CONFIRMED
CLASS:PUBLIC
URL:https://www.golnetwork.com/game/v/90683/
X-MICROSOFT-CDO-BUSYSTATUS:BUSY
X-MICROSOFT-CDO-IMPORTANCE:1
END:VEVENT
BEGIN:VEVENT
UID:g98e3@games.golnetwork.com
LOCATION:Central Tech - Field 2
GEO:43.6637272;-79.4087613
CREATED:20160721T172154Z
DTSTART:20160824T223000Z
DTEND:20160824T233000Z
DTSTAMP:20260425T144819Z
SUMMARY:The Slums of Anarchy vs. The Cornballers
DESCRIPTION:The Cornballers vs. The Slums of AnarchyPlus d'info : #274
X-ALT-DESC;FMTTYPE=text/html:<!DOCTYPE HTML PUBLIC "-//W3C//DTD HTML 3.2//E
	N">\n<HTML>\n<HEAD>\n<TITLE></TITLE>\n</HEAD>\n<BODY>\n<h3>The Cornballers 
	vs. The Slums of Anarchy</h3>Plus d'info : <a href="https://www.golnetwork.
	com/game/v/90681/">#274</a>\n\n</BODY>\n</HTML>
STATUS:CONFIRMED
CLASS:PUBLIC
URL:https://www.golnetwork.com/game/v/90681/
X-MICROSOFT-CDO-BUSYSTATUS:BUSY
X-MICROSOFT-CDO-IMPORTANCE:1
END:VEVENT
BEGIN:VEVENT
UID:g98dq@games.golnetwork.com
LOCATION:Central Tech - Field 2
GEO:43.6637272;-79.4087613
CREATED:20160721T172154Z
DTSTART:20160817T233000Z
DTEND:20160818T003000Z
DTSTAMP:20260425T144819Z
SUMMARY:The Slums of Anarchy vs. XTSC Wild Cats
DESCRIPTION:XTSC Wild Cats vs. The Slums of AnarchyPlus d'info : #202
X-ALT-DESC;FMTTYPE=text/html:<!DOCTYPE HTML PUBLIC "-//W3C//DTD HTML 3.2//E
	N">\n<HTML>\n<HEAD>\n<TITLE></TITLE>\n</HEAD>\n<BODY>\n<h3>XTSC Wild Cats v
	s. The Slums of Anarchy</h3>Plus d'info : <a href="https://www.golnetwork.c
	om/game/v/90679/">#202</a>\n\n</BODY>\n</HTML>
STATUS:CONFIRMED
CLASS:PUBLIC
URL:https://www.golnetwork.com/game/v/90679/
X-MICROSOFT-CDO-BUSYSTATUS:BUSY
X-MICROSOFT-CDO-IMPORTANCE:1
END:VEVENT
END:VCALENDAR
