BEGIN:VCALENDAR
PRODID:-//gdesolutions.com//MV Framework 1.0.0.1607 Calendar//EN
VERSION:2.0
METHOD:PUBLISH
CALSCALE:GREGORIAN
BEGIN:VEVENT
UID:g987o@games.golnetwork.com
LOCATION:Central Tech - Field 3
CREATED:20160721T154506Z
DTSTART:20160921T000000Z
DTEND:20160921T010000Z
DTSTAMP:20260419T160923Z
SUMMARY:XTSC Nutmeggers vs. Tuesday Team
DESCRIPTION:Tuesday Team vs. XTSC NutmeggersPlus d'info : #534
X-ALT-DESC;FMTTYPE=text/html:<!DOCTYPE HTML PUBLIC "-//W3C//DTD HTML 3.2//E
	N">\n<HTML>\n<HEAD>\n<TITLE></TITLE>\n</HEAD>\n<BODY>\n<h3>Tuesday Team vs.
	 XTSC Nutmeggers</h3>Plus d'info : <a href="https://www.golnetwork.com/game
	/v/90597/">#534</a>\n\n</BODY>\n</HTML>
STATUS:CONFIRMED
CLASS:PUBLIC
URL:https://www.golnetwork.com/game/v/90597/
X-MICROSOFT-CDO-BUSYSTATUS:BUSY
X-MICROSOFT-CDO-IMPORTANCE:1
END:VEVENT
BEGIN:VEVENT
UID:g987e@games.golnetwork.com
LOCATION:Central Tech - Field 3
CREATED:20160721T154506Z
DTSTART:20160913T220000Z
DTEND:20160913T230000Z
DTSTAMP:20260419T160923Z
SUMMARY:Tuesday Team vs. Gravy Train
DESCRIPTION:Gravy Train vs. Tuesday TeamPlus d'info : #456
X-ALT-DESC;FMTTYPE=text/html:<!DOCTYPE HTML PUBLIC "-//W3C//DTD HTML 3.2//E
	N">\n<HTML>\n<HEAD>\n<TITLE></TITLE>\n</HEAD>\n<BODY>\n<h3>Gravy Train vs. 
	Tuesday Team</h3>Plus d'info : <a href="https://www.golnetwork.com/game/v/9
	0592/">#456</a>\n\n</BODY>\n</HTML>
STATUS:CONFIRMED
CLASS:PUBLIC
URL:https://www.golnetwork.com/game/v/90592/
X-MICROSOFT-CDO-BUSYSTATUS:BUSY
X-MICROSOFT-CDO-IMPORTANCE:1
END:VEVENT
BEGIN:VEVENT
UID:g989a@games.golnetwork.com
LOCATION:Central Tech - Field 3
CREATED:20160721T154507Z
DTSTART:20160906T230000Z
DTEND:20160907T000000Z
DTSTAMP:20260419T160923Z
SUMMARY:Footie Fetish vs. Tuesday Team
DESCRIPTION:Tuesday Team vs. Footie FetishPlus d'info : #386
X-ALT-DESC;FMTTYPE=text/html:<!DOCTYPE HTML PUBLIC "-//W3C//DTD HTML 3.2//E
	N">\n<HTML>\n<HEAD>\n<TITLE></TITLE>\n</HEAD>\n<BODY>\n<h3>Tuesday Team vs.
	 Footie Fetish</h3>Plus d'info : <a href="https://www.golnetwork.com/game/v
	/90617/">#386</a>\n\n</BODY>\n</HTML>
STATUS:CONFIRMED
CLASS:PUBLIC
URL:https://www.golnetwork.com/game/v/90617/
X-MICROSOFT-CDO-BUSYSTATUS:BUSY
X-MICROSOFT-CDO-IMPORTANCE:1
END:VEVENT
BEGIN:VEVENT
UID:g9890@games.golnetwork.com
LOCATION:Central Tech - Field 3
CREATED:20160721T154507Z
DTSTART:20160831T010000Z
DTEND:20160831T020000Z
DTSTAMP:20260419T160923Z
SUMMARY:Tuesday Team vs. Drinkalots FC
DESCRIPTION:Drinkalots FC vs. Tuesday TeamPlus d'info : #345
X-ALT-DESC;FMTTYPE=text/html:<!DOCTYPE HTML PUBLIC "-//W3C//DTD HTML 3.2//E
	N">\n<HTML>\n<HEAD>\n<TITLE></TITLE>\n</HEAD>\n<BODY>\n<h3>Drinkalots FC vs
	. Tuesday Team</h3>Plus d'info : <a href="https://www.golnetwork.com/game/v
	/90612/">#345</a>\n\n</BODY>\n</HTML>
STATUS:CONFIRMED
CLASS:PUBLIC
URL:https://www.golnetwork.com/game/v/90612/
X-MICROSOFT-CDO-BUSYSTATUS:BUSY
X-MICROSOFT-CDO-IMPORTANCE:1
END:VEVENT
BEGIN:VEVENT
UID:g988h@games.golnetwork.com
LOCATION:Central Tech - Field 2
GEO:43.6637272;-79.4087613
CREATED:20160721T154507Z
DTSTART:20160823T220000Z
DTEND:20160823T230000Z
DTSTAMP:20260419T160923Z
SUMMARY:Friendship United FC vs. Tuesday Team
DESCRIPTION:Tuesday Team vs. Friendship United FCPlus d'info : #259
X-ALT-DESC;FMTTYPE=text/html:<!DOCTYPE HTML PUBLIC "-//W3C//DTD HTML 3.2//E
	N">\n<HTML>\n<HEAD>\n<TITLE></TITLE>\n</HEAD>\n<BODY>\n<h3>Tuesday Team vs.
	 Friendship United FC</h3>Plus d'info : <a href="https://www.golnetwork.com
	/game/v/90607/">#259</a>\n\n</BODY>\n</HTML>
STATUS:CONFIRMED
CLASS:PUBLIC
URL:https://www.golnetwork.com/game/v/90607/
X-MICROSOFT-CDO-BUSYSTATUS:BUSY
X-MICROSOFT-CDO-IMPORTANCE:1
END:VEVENT
BEGIN:VEVENT
UID:g9887@games.golnetwork.com
LOCATION:Central Tech - Field 3
CREATED:20160721T154507Z
DTSTART:20160816T225500Z
DTEND:20160816T235500Z
DTSTAMP:20260419T160923Z
SUMMARY:Tuesday Team vs.  Inter Yamum EDS
DESCRIPTION: Inter Yamum EDS vs. Tuesday TeamPlus d'info : #187
X-ALT-DESC;FMTTYPE=text/html:<!DOCTYPE HTML PUBLIC "-//W3C//DTD HTML 3.2//E
	N">\n<HTML>\n<HEAD>\n<TITLE></TITLE>\n</HEAD>\n<BODY>\n<h3> Inter Yamum EDS
	 vs. Tuesday Team</h3>Plus d'info : <a href="https://www.golnetwork.com/gam
	e/v/90602/">#187</a>\n\n</BODY>\n</HTML>
STATUS:CONFIRMED
CLASS:PUBLIC
URL:https://www.golnetwork.com/game/v/90602/
X-MICROSOFT-CDO-BUSYSTATUS:BUSY
X-MICROSOFT-CDO-IMPORTANCE:1
END:VEVENT
END:VCALENDAR
