BEGIN:VCALENDAR
PRODID:-//gdesolutions.com//MV Framework 1.0.0.1607 Calendar//EN
VERSION:2.0
METHOD:PUBLISH
CALSCALE:GREGORIAN
BEGIN:VEVENT
UID:gc0g4@games.golnetwork.com
LOCATION:Jesse Ketchum Public School
GEO:43.6730545;-79.3911034
CREATED:20171128T155409Z
DTSTART:20180213T003000Z
DTEND:20180213T013000Z
DTSTAMP:20260420T183620Z
SUMMARY:About to Get Messi vs. ITRG
DESCRIPTION:ITRG vs. About to Get MessiPlus d'info : #26
X-ALT-DESC;FMTTYPE=text/html:<!DOCTYPE HTML PUBLIC "-//W3C//DTD HTML 3.2//E
	N">\n<HTML>\n<HEAD>\n<TITLE></TITLE>\n</HEAD>\n<BODY>\n<h3>ITRG vs. About t
	o Get Messi</h3>Plus d'info : <a href="https://www.golnetwork.com/game/v/11
	7317/">#26</a>\n\n</BODY>\n</HTML>
STATUS:CONFIRMED
CLASS:PUBLIC
URL:https://www.golnetwork.com/game/v/117317/
X-MICROSOFT-CDO-BUSYSTATUS:BUSY
X-MICROSOFT-CDO-IMPORTANCE:1
END:VEVENT
BEGIN:VEVENT
UID:gc0g0@games.golnetwork.com
LOCATION:Jesse Ketchum Public School
GEO:43.6730545;-79.3911034
CREATED:20171128T155409Z
DTSTART:20180206T003000Z
DTEND:20180206T013000Z
DTSTAMP:20260420T183620Z
SUMMARY:Just for Kicks vs. ITRG
DESCRIPTION:ITRG vs. Just for KicksPlus d'info : #23
X-ALT-DESC;FMTTYPE=text/html:<!DOCTYPE HTML PUBLIC "-//W3C//DTD HTML 3.2//E
	N">\n<HTML>\n<HEAD>\n<TITLE></TITLE>\n</HEAD>\n<BODY>\n<h3>ITRG vs. Just fo
	r Kicks</h3>Plus d'info : <a href="https://www.golnetwork.com/game/v/117315
	/">#23</a>\n\n</BODY>\n</HTML>
STATUS:CONFIRMED
CLASS:PUBLIC
URL:https://www.golnetwork.com/game/v/117315/
X-MICROSOFT-CDO-BUSYSTATUS:BUSY
X-MICROSOFT-CDO-IMPORTANCE:1
END:VEVENT
END:VCALENDAR
