BEGIN:VCALENDAR
PRODID:-//gdesolutions.com//MV Framework 1.0.0.1607 Calendar//EN
VERSION:2.0
METHOD:PUBLISH
CALSCALE:GREGORIAN
BEGIN:VEVENT
UID:gc0fh@games.golnetwork.com
LOCATION:Jesse Ketchum Public School
GEO:43.6730545;-79.3911034
CREATED:20171128T155245Z
DTSTART:20180130T003000Z
DTEND:20180130T013000Z
DTSTAMP:20260425T215145Z
SUMMARY:ITRG vs. White Noise
DESCRIPTION:White Noise vs. ITRGPlus d'info : #20
X-ALT-DESC;FMTTYPE=text/html:<!DOCTYPE HTML PUBLIC "-//W3C//DTD HTML 3.2//E
	N">\n<HTML>\n<HEAD>\n<TITLE></TITLE>\n</HEAD>\n<BODY>\n<h3>White Noise vs. 
	ITRG</h3>Plus d'info : <a href="https://www.golnetwork.com/game/v/117310/">
	#20</a>\n\n</BODY>\n</HTML>
STATUS:CONFIRMED
CLASS:PUBLIC
URL:https://www.golnetwork.com/game/v/117310/
X-MICROSOFT-CDO-BUSYSTATUS:BUSY
X-MICROSOFT-CDO-IMPORTANCE:1
END:VEVENT
BEGIN:VEVENT
UID:gc0f9@games.golnetwork.com
LOCATION:Jesse Ketchum Public School
GEO:43.6730545;-79.3911034
CREATED:20171128T155206Z
DTSTART:20180122T233000Z
DTEND:20180123T003000Z
DTSTAMP:20260425T215145Z
SUMMARY:About to Get Messi vs. ITRG
DESCRIPTION:ITRG vs. About to Get MessiPlus d'info : #16
X-ALT-DESC;FMTTYPE=text/html:<!DOCTYPE HTML PUBLIC "-//W3C//DTD HTML 3.2//E
	N">\n<HTML>\n<HEAD>\n<TITLE></TITLE>\n</HEAD>\n<BODY>\n<h3>ITRG vs. About t
	o Get Messi</h3>Plus d'info : <a href="https://www.golnetwork.com/game/v/11
	7306/">#16</a>\n\n</BODY>\n</HTML>
STATUS:CONFIRMED
CLASS:PUBLIC
URL:https://www.golnetwork.com/game/v/117306/
X-MICROSOFT-CDO-BUSYSTATUS:BUSY
X-MICROSOFT-CDO-IMPORTANCE:1
END:VEVENT
BEGIN:VEVENT
UID:gc0f5@games.golnetwork.com
LOCATION:Jesse Ketchum Public School
GEO:43.6730545;-79.3911034
CREATED:20171128T155145Z
DTSTART:20180116T003000Z
DTEND:20180116T013000Z
DTSTAMP:20260425T215145Z
SUMMARY:XTSC Fun Squad vs. ITRG
DESCRIPTION:ITRG vs. XTSC Fun SquadPlus d'info : #14
X-ALT-DESC;FMTTYPE=text/html:<!DOCTYPE HTML PUBLIC "-//W3C//DTD HTML 3.2//E
	N">\n<HTML>\n<HEAD>\n<TITLE></TITLE>\n</HEAD>\n<BODY>\n<h3>ITRG vs. XTSC Fu
	n Squad</h3>Plus d'info : <a href="https://www.golnetwork.com/game/v/117304
	/">#14</a>\n\n</BODY>\n</HTML>
STATUS:CONFIRMED
CLASS:PUBLIC
URL:https://www.golnetwork.com/game/v/117304/
X-MICROSOFT-CDO-BUSYSTATUS:BUSY
X-MICROSOFT-CDO-IMPORTANCE:1
END:VEVENT
BEGIN:VEVENT
UID:gc0f1@games.golnetwork.com
LOCATION:Jesse Ketchum Public School
GEO:43.6730545;-79.3911034
CREATED:20171128T155126Z
DTSTART:20180109T013000Z
DTEND:20180109T023000Z
DTSTAMP:20260425T215145Z
SUMMARY:Just for Kicks vs. ITRG
DESCRIPTION:ITRG vs. Just for KicksPlus d'info : #12
X-ALT-DESC;FMTTYPE=text/html:<!DOCTYPE HTML PUBLIC "-//W3C//DTD HTML 3.2//E
	N">\n<HTML>\n<HEAD>\n<TITLE></TITLE>\n</HEAD>\n<BODY>\n<h3>ITRG vs. Just fo
	r Kicks</h3>Plus d'info : <a href="https://www.golnetwork.com/game/v/117302
	/">#12</a>\n\n</BODY>\n</HTML>
STATUS:CONFIRMED
CLASS:PUBLIC
URL:https://www.golnetwork.com/game/v/117302/
X-MICROSOFT-CDO-BUSYSTATUS:BUSY
X-MICROSOFT-CDO-IMPORTANCE:1
END:VEVENT
BEGIN:VEVENT
UID:gc0em@games.golnetwork.com
LOCATION:Jesse Ketchum Public School
GEO:43.6730545;-79.3911034
CREATED:20171128T155054Z
DTSTART:20171219T013000Z
DTEND:20171219T023000Z
DTSTAMP:20260425T215145Z
SUMMARY:ITRG vs. Seal Madrid
DESCRIPTION:Seal Madrid vs. ITRGPlus d'info : #9
X-ALT-DESC;FMTTYPE=text/html:<!DOCTYPE HTML PUBLIC "-//W3C//DTD HTML 3.2//E
	N">\n<HTML>\n<HEAD>\n<TITLE></TITLE>\n</HEAD>\n<BODY>\n<h3>Seal Madrid vs. 
	ITRG</h3>Plus d'info : <a href="https://www.golnetwork.com/game/v/117299/">
	#9</a>\n\n</BODY>\n</HTML>
STATUS:CONFIRMED
CLASS:PUBLIC
URL:https://www.golnetwork.com/game/v/117299/
X-MICROSOFT-CDO-BUSYSTATUS:BUSY
X-MICROSOFT-CDO-IMPORTANCE:1
END:VEVENT
BEGIN:VEVENT
UID:gc0ee@games.golnetwork.com
LOCATION:Jesse Ketchum Public School
GEO:43.6730545;-79.3911034
CREATED:20171128T155015Z
DTSTART:20171212T003000Z
DTEND:20171212T013000Z
DTSTAMP:20260425T215145Z
SUMMARY:ITRG vs. White Noise
DESCRIPTION:White Noise vs. ITRGPlus d'info : #5
X-ALT-DESC;FMTTYPE=text/html:<!DOCTYPE HTML PUBLIC "-//W3C//DTD HTML 3.2//E
	N">\n<HTML>\n<HEAD>\n<TITLE></TITLE>\n</HEAD>\n<BODY>\n<h3>White Noise vs. 
	ITRG</h3>Plus d'info : <a href="https://www.golnetwork.com/game/v/117295/">
	#5</a>\n\n</BODY>\n</HTML>
STATUS:CONFIRMED
CLASS:PUBLIC
URL:https://www.golnetwork.com/game/v/117295/
X-MICROSOFT-CDO-BUSYSTATUS:BUSY
X-MICROSOFT-CDO-IMPORTANCE:1
END:VEVENT
BEGIN:VEVENT
UID:gc0dd@games.golnetwork.com
LOCATION:Jesse Ketchum Public School
GEO:43.6730545;-79.3911034
CREATED:20171127T152649Z
DTSTART:20171204T233000Z
DTEND:20171205T003000Z
DTSTAMP:20260425T215145Z
SUMMARY:ITRG vs. About to Get Messi
DESCRIPTION:About to Get Messi vs. ITRGPlus d'info : #1
X-ALT-DESC;FMTTYPE=text/html:<!DOCTYPE HTML PUBLIC "-//W3C//DTD HTML 3.2//E
	N">\n<HTML>\n<HEAD>\n<TITLE></TITLE>\n</HEAD>\n<BODY>\n<h3>About to Get Mes
	si vs. ITRG</h3>Plus d'info : <a href="https://www.golnetwork.com/game/v/11
	7281/">#1</a>\n\n</BODY>\n</HTML>
STATUS:CONFIRMED
CLASS:PUBLIC
URL:https://www.golnetwork.com/game/v/117281/
X-MICROSOFT-CDO-BUSYSTATUS:BUSY
X-MICROSOFT-CDO-IMPORTANCE:1
END:VEVENT
END:VCALENDAR
