BEGIN:VCALENDAR
PRODID:-//gdesolutions.com//MV Framework 1.0.0.1607 Calendar//EN
VERSION:2.0
METHOD:PUBLISH
CALSCALE:GREGORIAN
BEGIN:VEVENT
UID:g8eaa@games.golnetwork.com
LOCATION:Align Healthcare Field (Newmarket SoccerCentre)
GEO:44.0379318;-79.4421489
CREATED:20160118T050106Z
DTSTART:20160427T010000Z
DTEND:20160427T015500Z
DTSTAMP:20260423T034230Z
SUMMARY:ABCDE FC vs. Aeros
DESCRIPTION:Aeros vs. ABCDE FCPlus d'info : #88
X-ALT-DESC;FMTTYPE=text/html:<!DOCTYPE HTML PUBLIC "-//W3C//DTD HTML 3.2//E
	N">\n<HTML>\n<HEAD>\n<TITLE></TITLE>\n</HEAD>\n<BODY>\n<h3>Aeros vs. ABCDE 
	FC</h3>Plus d'info : <a href="https://www.golnetwork.com/game/v/82976/">#88
	</a>\n\n</BODY>\n</HTML>
STATUS:CONFIRMED
CLASS:PUBLIC
URL:https://www.golnetwork.com/game/v/82976/
X-MICROSOFT-CDO-BUSYSTATUS:BUSY
X-MICROSOFT-CDO-IMPORTANCE:1
END:VEVENT
BEGIN:VEVENT
UID:g8e3b@games.golnetwork.com
LOCATION:Align Healthcare Field (Newmarket SoccerCentre)
GEO:44.0379318;-79.4421489
CREATED:20160115T021312Z
DTSTART:20160406T010000Z
DTEND:20160406T015500Z
DTSTAMP:20260423T034230Z
SUMMARY:ABCDE FC vs. SS Balls
DESCRIPTION:SS Balls vs. ABCDE FCPlus d'info : #70
X-ALT-DESC;FMTTYPE=text/html:<!DOCTYPE HTML PUBLIC "-//W3C//DTD HTML 3.2//E
	N">\n<HTML>\n<HEAD>\n<TITLE></TITLE>\n</HEAD>\n<BODY>\n<h3>SS Balls vs. ABC
	DE FC</h3>Plus d'info : <a href="https://www.golnetwork.com/game/v/82882/">
	#70</a>\n\n</BODY>\n</HTML>
STATUS:CONFIRMED
CLASS:PUBLIC
URL:https://www.golnetwork.com/game/v/82882/
X-MICROSOFT-CDO-BUSYSTATUS:BUSY
X-MICROSOFT-CDO-IMPORTANCE:1
END:VEVENT
BEGIN:VEVENT
UID:g8e33@games.golnetwork.com
LOCATION:Align Healthcare Field (Newmarket SoccerCentre)
GEO:44.0379318;-79.4421489
CREATED:20160115T021312Z
DTSTART:20160330T010000Z
DTEND:20160330T015500Z
DTSTAMP:20260423T034230Z
SUMMARY:Aeros vs. ABCDE FC
DESCRIPTION:ABCDE FC vs. AerosPlus d'info : #64
X-ALT-DESC;FMTTYPE=text/html:<!DOCTYPE HTML PUBLIC "-//W3C//DTD HTML 3.2//E
	N">\n<HTML>\n<HEAD>\n<TITLE></TITLE>\n</HEAD>\n<BODY>\n<h3>ABCDE FC vs. Aer
	os</h3>Plus d'info : <a href="https://www.golnetwork.com/game/v/82878/">#64
	</a>\n\n</BODY>\n</HTML>
STATUS:CONFIRMED
CLASS:PUBLIC
URL:https://www.golnetwork.com/game/v/82878/
X-MICROSOFT-CDO-BUSYSTATUS:BUSY
X-MICROSOFT-CDO-IMPORTANCE:1
END:VEVENT
BEGIN:VEVENT
UID:g8e2k@games.golnetwork.com
LOCATION:Soccer Nation Field (Newmarket SoccerCentre)
GEO:44.0379318;-79.4421489
CREATED:20160115T021312Z
DTSTART:20160323T000000Z
DTEND:20160323T005500Z
DTSTAMP:20260423T034230Z
SUMMARY:Bayside Tigers vs. ABCDE FC
DESCRIPTION:ABCDE FC vs. Bayside TigersPlus d'info : #55
X-ALT-DESC;FMTTYPE=text/html:<!DOCTYPE HTML PUBLIC "-//W3C//DTD HTML 3.2//E
	N">\n<HTML>\n<HEAD>\n<TITLE></TITLE>\n</HEAD>\n<BODY>\n<h3>ABCDE FC vs. Bay
	side Tigers</h3>Plus d'info : <a href="https://www.golnetwork.com/game/v/82
	873/">#55</a>\n\n</BODY>\n</HTML>
STATUS:CONFIRMED
CLASS:PUBLIC
URL:https://www.golnetwork.com/game/v/82873/
X-MICROSOFT-CDO-BUSYSTATUS:BUSY
X-MICROSOFT-CDO-IMPORTANCE:1
END:VEVENT
BEGIN:VEVENT
UID:g8e2a@games.golnetwork.com
LOCATION:Align Healthcare Field (Newmarket SoccerCentre)
GEO:44.0379318;-79.4421489
CREATED:20160115T021312Z
DTSTART:20160316T000000Z
DTEND:20160316T005500Z
DTSTAMP:20260423T034230Z
SUMMARY:S.F.C. vs. ABCDE FC
DESCRIPTION:ABCDE FC vs. S.F.C.Plus d'info : #50
X-ALT-DESC;FMTTYPE=text/html:<!DOCTYPE HTML PUBLIC "-//W3C//DTD HTML 3.2//E
	N">\n<HTML>\n<HEAD>\n<TITLE></TITLE>\n</HEAD>\n<BODY>\n<h3>ABCDE FC vs. S.F
	.C.</h3>Plus d'info : <a href="https://www.golnetwork.com/game/v/82868/">#5
	0</a>\n\n</BODY>\n</HTML>
STATUS:CONFIRMED
CLASS:PUBLIC
URL:https://www.golnetwork.com/game/v/82868/
X-MICROSOFT-CDO-BUSYSTATUS:BUSY
X-MICROSOFT-CDO-IMPORTANCE:1
END:VEVENT
BEGIN:VEVENT
UID:g8e20@games.golnetwork.com
LOCATION:Align Healthcare Field (Newmarket SoccerCentre)
GEO:44.0379318;-79.4421489
CREATED:20160115T021312Z
DTSTART:20160309T020000Z
DTEND:20160309T025500Z
DTSTAMP:20260423T034230Z
SUMMARY:ABCDE FC vs. Valor FC
DESCRIPTION:Valor FC vs. ABCDE FCPlus d'info : #46
X-ALT-DESC;FMTTYPE=text/html:<!DOCTYPE HTML PUBLIC "-//W3C//DTD HTML 3.2//E
	N">\n<HTML>\n<HEAD>\n<TITLE></TITLE>\n</HEAD>\n<BODY>\n<h3>Valor FC vs. ABC
	DE FC</h3>Plus d'info : <a href="https://www.golnetwork.com/game/v/82863/">
	#46</a>\n\n</BODY>\n</HTML>
STATUS:CONFIRMED
CLASS:PUBLIC
URL:https://www.golnetwork.com/game/v/82863/
X-MICROSOFT-CDO-BUSYSTATUS:BUSY
X-MICROSOFT-CDO-IMPORTANCE:1
END:VEVENT
BEGIN:VEVENT
UID:g8e1l@games.golnetwork.com
LOCATION:Align Healthcare Field (Newmarket SoccerCentre)
GEO:44.0379318;-79.4421489
CREATED:20160115T021312Z
DTSTART:20160302T010000Z
DTEND:20160302T015500Z
DTSTAMP:20260423T034230Z
SUMMARY:ABCDE FC vs. Ball Busters
DESCRIPTION:Ball Busters vs. ABCDE FCPlus d'info : #38
X-ALT-DESC;FMTTYPE=text/html:<!DOCTYPE HTML PUBLIC "-//W3C//DTD HTML 3.2//E
	N">\n<HTML>\n<HEAD>\n<TITLE></TITLE>\n</HEAD>\n<BODY>\n<h3>Ball Busters vs.
	 ABCDE FC</h3>Plus d'info : <a href="https://www.golnetwork.com/game/v/8286
	0/">#38</a>\n\n</BODY>\n</HTML>
STATUS:CONFIRMED
CLASS:PUBLIC
URL:https://www.golnetwork.com/game/v/82860/
X-MICROSOFT-CDO-BUSYSTATUS:BUSY
X-MICROSOFT-CDO-IMPORTANCE:1
END:VEVENT
BEGIN:VEVENT
UID:g8e1f@games.golnetwork.com
LOCATION:Soccer Nation Field (Newmarket SoccerCentre)
GEO:44.0379318;-79.4421489
CREATED:20160115T021312Z
DTSTART:20160224T030000Z
DTEND:20160224T035500Z
DTSTAMP:20260423T034230Z
SUMMARY:ABCDE FC vs. BFC
DESCRIPTION:BFC vs. ABCDE FCPlus d'info : #35
X-ALT-DESC;FMTTYPE=text/html:<!DOCTYPE HTML PUBLIC "-//W3C//DTD HTML 3.2//E
	N">\n<HTML>\n<HEAD>\n<TITLE></TITLE>\n</HEAD>\n<BODY>\n<h3>BFC vs. ABCDE FC
	</h3>Plus d'info : <a href="https://www.golnetwork.com/game/v/82857/">#35</
	a>\n\n</BODY>\n</HTML>
STATUS:CONFIRMED
CLASS:PUBLIC
URL:https://www.golnetwork.com/game/v/82857/
X-MICROSOFT-CDO-BUSYSTATUS:BUSY
X-MICROSOFT-CDO-IMPORTANCE:1
END:VEVENT
BEGIN:VEVENT
UID:g8e19@games.golnetwork.com
LOCATION:Align Healthcare Field (Newmarket SoccerCentre)
GEO:44.0379318;-79.4421489
CREATED:20160115T021312Z
DTSTART:20160217T020000Z
DTEND:20160217T025500Z
DTSTAMP:20260423T034230Z
SUMMARY:ABCDE FC vs. SS Balls
DESCRIPTION:SS Balls vs. ABCDE FCPlus d'info : #28
X-ALT-DESC;FMTTYPE=text/html:<!DOCTYPE HTML PUBLIC "-//W3C//DTD HTML 3.2//E
	N">\n<HTML>\n<HEAD>\n<TITLE></TITLE>\n</HEAD>\n<BODY>\n<h3>SS Balls vs. ABC
	DE FC</h3>Plus d'info : <a href="https://www.golnetwork.com/game/v/82854/">
	#28</a>\n\n</BODY>\n</HTML>
STATUS:CONFIRMED
CLASS:PUBLIC
URL:https://www.golnetwork.com/game/v/82854/
X-MICROSOFT-CDO-BUSYSTATUS:BUSY
X-MICROSOFT-CDO-IMPORTANCE:1
END:VEVENT
BEGIN:VEVENT
UID:g8e11@games.golnetwork.com
LOCATION:Align Healthcare Field (Newmarket SoccerCentre)
GEO:44.0379318;-79.4421489
CREATED:20160115T021312Z
DTSTART:20160210T020000Z
DTEND:20160210T025500Z
DTSTAMP:20260423T034230Z
SUMMARY:Aeros vs. ABCDE FC
DESCRIPTION:ABCDE FC vs. AerosPlus d'info : #22
X-ALT-DESC;FMTTYPE=text/html:<!DOCTYPE HTML PUBLIC "-//W3C//DTD HTML 3.2//E
	N">\n<HTML>\n<HEAD>\n<TITLE></TITLE>\n</HEAD>\n<BODY>\n<h3>ABCDE FC vs. Aer
	os</h3>Plus d'info : <a href="https://www.golnetwork.com/game/v/82850/">#22
	</a>\n\n</BODY>\n</HTML>
STATUS:CONFIRMED
CLASS:PUBLIC
URL:https://www.golnetwork.com/game/v/82850/
X-MICROSOFT-CDO-BUSYSTATUS:BUSY
X-MICROSOFT-CDO-IMPORTANCE:1
END:VEVENT
BEGIN:VEVENT
UID:g8e0i@games.golnetwork.com
LOCATION:Soccer Nation Field (Newmarket SoccerCentre)
GEO:44.0379318;-79.4421489
CREATED:20160115T021312Z
DTSTART:20160203T030000Z
DTEND:20160203T035500Z
DTSTAMP:20260423T034230Z
SUMMARY:Bayside Tigers vs. ABCDE FC
DESCRIPTION:ABCDE FC vs. Bayside TigersPlus d'info : #17
X-ALT-DESC;FMTTYPE=text/html:<!DOCTYPE HTML PUBLIC "-//W3C//DTD HTML 3.2//E
	N">\n<HTML>\n<HEAD>\n<TITLE></TITLE>\n</HEAD>\n<BODY>\n<h3>ABCDE FC vs. Bay
	side Tigers</h3>Plus d'info : <a href="https://www.golnetwork.com/game/v/82
	845/">#17</a>\n\n</BODY>\n</HTML>
STATUS:CONFIRMED
CLASS:PUBLIC
URL:https://www.golnetwork.com/game/v/82845/
X-MICROSOFT-CDO-BUSYSTATUS:BUSY
X-MICROSOFT-CDO-IMPORTANCE:1
END:VEVENT
BEGIN:VEVENT
UID:g8e08@games.golnetwork.com
LOCATION:Align Healthcare Field (Newmarket SoccerCentre)
GEO:44.0379318;-79.4421489
CREATED:20160115T021311Z
DTSTART:20160127T030000Z
DTEND:20160127T035500Z
DTSTAMP:20260423T034230Z
SUMMARY:S.F.C. vs. ABCDE FC
DESCRIPTION:ABCDE FC vs. S.F.C.Plus d'info : #12
X-ALT-DESC;FMTTYPE=text/html:<!DOCTYPE HTML PUBLIC "-//W3C//DTD HTML 3.2//E
	N">\n<HTML>\n<HEAD>\n<TITLE></TITLE>\n</HEAD>\n<BODY>\n<h3>ABCDE FC vs. S.F
	.C.</h3>Plus d'info : <a href="https://www.golnetwork.com/game/v/82840/">#1
	2</a>\n\n</BODY>\n</HTML>
STATUS:CONFIRMED
CLASS:PUBLIC
URL:https://www.golnetwork.com/game/v/82840/
X-MICROSOFT-CDO-BUSYSTATUS:BUSY
X-MICROSOFT-CDO-IMPORTANCE:1
END:VEVENT
BEGIN:VEVENT
UID:g8dqp@games.golnetwork.com
LOCATION:Align Healthcare Field (Newmarket SoccerCentre)
GEO:44.0379318;-79.4421489
CREATED:20160115T021311Z
DTSTART:20160120T020000Z
DTEND:20160120T025500Z
DTSTAMP:20260423T034230Z
SUMMARY:Valor FC vs. ABCDE FC
DESCRIPTION:ABCDE FC vs. Valor FCPlus d'info : #4
X-ALT-DESC;FMTTYPE=text/html:<!DOCTYPE HTML PUBLIC "-//W3C//DTD HTML 3.2//E
	N">\n<HTML>\n<HEAD>\n<TITLE></TITLE>\n</HEAD>\n<BODY>\n<h3>ABCDE FC vs. Val
	or FC</h3>Plus d'info : <a href="https://www.golnetwork.com/game/v/82835/">
	#4</a>\n\n</BODY>\n</HTML>
STATUS:CONFIRMED
CLASS:PUBLIC
URL:https://www.golnetwork.com/game/v/82835/
X-MICROSOFT-CDO-BUSYSTATUS:BUSY
X-MICROSOFT-CDO-IMPORTANCE:1
END:VEVENT
END:VCALENDAR
