BEGIN:VCALENDAR
PRODID:-//gdesolutions.com//MV Framework 1.0.0.1607 Calendar//EN
VERSION:2.0
METHOD:PUBLISH
CALSCALE:GREGORIAN
BEGIN:VEVENT
UID:g8aqo@games.golnetwork.com
LOCATION:Central Technical School
GEO:43.6637272;-79.4087613
CREATED:20160107T170835Z
DTSTART:20160405T220000Z
DTEND:20160405T230000Z
DTSTAMP:20260421T052408Z
SUMMARY:XTSC Kickers vs. Northlanders FC
DESCRIPTION:Northlanders FC vs. XTSC KickersPlus d'info : #67
X-ALT-DESC;FMTTYPE=text/html:<!DOCTYPE HTML PUBLIC "-//W3C//DTD HTML 3.2//E
	N">\n<HTML>\n<HEAD>\n<TITLE></TITLE>\n</HEAD>\n<BODY>\n<h3>Northlanders FC 
	vs. XTSC Kickers</h3>Plus d'info : <a href="https://www.golnetwork.com/game
	/v/81741/">#67</a>\n\n</BODY>\n</HTML>
STATUS:CONFIRMED
CLASS:PUBLIC
URL:https://www.golnetwork.com/game/v/81741/
X-MICROSOFT-CDO-BUSYSTATUS:BUSY
X-MICROSOFT-CDO-IMPORTANCE:1
END:VEVENT
BEGIN:VEVENT
UID:g8aqk@games.golnetwork.com
LOCATION:Central Technical School
GEO:43.6637272;-79.4087613
CREATED:20160107T170835Z
DTSTART:20160329T220000Z
DTEND:20160329T230000Z
DTSTAMP:20260421T052408Z
SUMMARY:XTSC Kickers vs. NPOS FC
DESCRIPTION:NPOS FC vs. XTSC KickersPlus d'info : #63
X-ALT-DESC;FMTTYPE=text/html:<!DOCTYPE HTML PUBLIC "-//W3C//DTD HTML 3.2//E
	N">\n<HTML>\n<HEAD>\n<TITLE></TITLE>\n</HEAD>\n<BODY>\n<h3>NPOS FC vs. XTSC
	 Kickers</h3>Plus d'info : <a href="https://www.golnetwork.com/game/v/81739
	/">#63</a>\n\n</BODY>\n</HTML>
STATUS:CONFIRMED
CLASS:PUBLIC
URL:https://www.golnetwork.com/game/v/81739/
X-MICROSOFT-CDO-BUSYSTATUS:BUSY
X-MICROSOFT-CDO-IMPORTANCE:1
END:VEVENT
BEGIN:VEVENT
UID:g8aqg@games.golnetwork.com
LOCATION:Central Technical School
GEO:43.6637272;-79.4087613
CREATED:20160107T170835Z
DTSTART:20160309T010000Z
DTEND:20160309T020000Z
DTSTAMP:20260421T052408Z
SUMMARY:Az FC vs. XTSC Kickers
DESCRIPTION:XTSC Kickers vs. Az FCPlus d'info : #61
X-ALT-DESC;FMTTYPE=text/html:<!DOCTYPE HTML PUBLIC "-//W3C//DTD HTML 3.2//E
	N">\n<HTML>\n<HEAD>\n<TITLE></TITLE>\n</HEAD>\n<BODY>\n<h3>XTSC Kickers vs.
	 Az FC</h3>Plus d'info : <a href="https://www.golnetwork.com/game/v/81737/"
	>#61</a>\n\n</BODY>\n</HTML>
STATUS:CONFIRMED
CLASS:PUBLIC
URL:https://www.golnetwork.com/game/v/81737/
X-MICROSOFT-CDO-BUSYSTATUS:BUSY
X-MICROSOFT-CDO-IMPORTANCE:1
END:VEVENT
BEGIN:VEVENT
UID:g8aq4@games.golnetwork.com
LOCATION:Central Technical School
GEO:43.6637272;-79.4087613
CREATED:20160107T170835Z
DTSTART:20160302T020000Z
DTEND:20160302T030000Z
DTSTAMP:20260421T052408Z
SUMMARY:Unbelievaball vs. XTSC Kickers
DESCRIPTION:XTSC Kickers vs. UnbelievaballPlus d'info : #55
X-ALT-DESC;FMTTYPE=text/html:<!DOCTYPE HTML PUBLIC "-//W3C//DTD HTML 3.2//E
	N">\n<HTML>\n<HEAD>\n<TITLE></TITLE>\n</HEAD>\n<BODY>\n<h3>XTSC Kickers vs.
	 Unbelievaball</h3>Plus d'info : <a href="https://www.golnetwork.com/game/v
	/81731/">#55</a>\n\n</BODY>\n</HTML>
STATUS:CONFIRMED
CLASS:PUBLIC
URL:https://www.golnetwork.com/game/v/81731/
X-MICROSOFT-CDO-BUSYSTATUS:BUSY
X-MICROSOFT-CDO-IMPORTANCE:1
END:VEVENT
BEGIN:VEVENT
UID:g8app@games.golnetwork.com
LOCATION:Central Technical School
GEO:43.6637272;-79.4087613
CREATED:20160107T170835Z
DTSTART:20160224T010000Z
DTEND:20160224T020000Z
DTSTAMP:20260421T052408Z
SUMMARY:XTSC Kickers vs.  Real Sports FC
DESCRIPTION: Real Sports FC vs. XTSC KickersPlus d'info : #47
X-ALT-DESC;FMTTYPE=text/html:<!DOCTYPE HTML PUBLIC "-//W3C//DTD HTML 3.2//E
	N">\n<HTML>\n<HEAD>\n<TITLE></TITLE>\n</HEAD>\n<BODY>\n<h3> Real Sports FC 
	vs. XTSC Kickers</h3>Plus d'info : <a href="https://www.golnetwork.com/game
	/v/81728/">#47</a>\n\n</BODY>\n</HTML>
STATUS:CONFIRMED
CLASS:PUBLIC
URL:https://www.golnetwork.com/game/v/81728/
X-MICROSOFT-CDO-BUSYSTATUS:BUSY
X-MICROSOFT-CDO-IMPORTANCE:1
END:VEVENT
BEGIN:VEVENT
UID:g8apj@games.golnetwork.com
LOCATION:Central Technical School
GEO:43.6637272;-79.4087613
CREATED:20160107T170835Z
DTSTART:20160216T230000Z
DTEND:20160217T000000Z
DTSTAMP:20260421T052408Z
SUMMARY:XTSC Kickers vs. NPOS FC
DESCRIPTION:NPOS FC vs. XTSC KickersPlus d'info : #38
X-ALT-DESC;FMTTYPE=text/html:<!DOCTYPE HTML PUBLIC "-//W3C//DTD HTML 3.2//E
	N">\n<HTML>\n<HEAD>\n<TITLE></TITLE>\n</HEAD>\n<BODY>\n<h3>NPOS FC vs. XTSC
	 Kickers</h3>Plus d'info : <a href="https://www.golnetwork.com/game/v/81725
	/">#38</a>\n\n</BODY>\n</HTML>
STATUS:CONFIRMED
CLASS:PUBLIC
URL:https://www.golnetwork.com/game/v/81725/
X-MICROSOFT-CDO-BUSYSTATUS:BUSY
X-MICROSOFT-CDO-IMPORTANCE:1
END:VEVENT
BEGIN:VEVENT
UID:g8apd@games.golnetwork.com
LOCATION:Central Technical School
GEO:43.6637272;-79.4087613
CREATED:20160107T170835Z
DTSTART:20160209T230000Z
DTEND:20160210T000000Z
DTSTAMP:20260421T052408Z
SUMMARY:XTSC Kickers vs. Az FC
DESCRIPTION:Az FC vs. XTSC KickersPlus d'info : #34
X-ALT-DESC;FMTTYPE=text/html:<!DOCTYPE HTML PUBLIC "-//W3C//DTD HTML 3.2//E
	N">\n<HTML>\n<HEAD>\n<TITLE></TITLE>\n</HEAD>\n<BODY>\n<h3>Az FC vs. XTSC K
	ickers</h3>Plus d'info : <a href="https://www.golnetwork.com/game/v/81722/"
	>#34</a>\n\n</BODY>\n</HTML>
STATUS:CONFIRMED
CLASS:PUBLIC
URL:https://www.golnetwork.com/game/v/81722/
X-MICROSOFT-CDO-BUSYSTATUS:BUSY
X-MICROSOFT-CDO-IMPORTANCE:1
END:VEVENT
BEGIN:VEVENT
UID:g8ap5@games.golnetwork.com
LOCATION:Central Technical School
GEO:43.6637272;-79.4087613
CREATED:20160107T170835Z
DTSTART:20160203T020000Z
DTEND:20160203T030000Z
DTSTAMP:20260421T052408Z
SUMMARY:Northlanders FC vs. XTSC Kickers
DESCRIPTION:XTSC Kickers vs. Northlanders FCPlus d'info : #30
X-ALT-DESC;FMTTYPE=text/html:<!DOCTYPE HTML PUBLIC "-//W3C//DTD HTML 3.2//E
	N">\n<HTML>\n<HEAD>\n<TITLE></TITLE>\n</HEAD>\n<BODY>\n<h3>XTSC Kickers vs.
	 Northlanders FC</h3>Plus d'info : <a href="https://www.golnetwork.com/game
	/v/81718/">#30</a>\n\n</BODY>\n</HTML>
STATUS:CONFIRMED
CLASS:PUBLIC
URL:https://www.golnetwork.com/game/v/81718/
X-MICROSOFT-CDO-BUSYSTATUS:BUSY
X-MICROSOFT-CDO-IMPORTANCE:1
END:VEVENT
BEGIN:VEVENT
UID:g8aom@games.golnetwork.com
LOCATION:Central Technical School
GEO:43.6637272;-79.4087613
CREATED:20160107T170835Z
DTSTART:20160127T010000Z
DTEND:20160127T020000Z
DTSTAMP:20260421T052408Z
SUMMARY:Team United vs. XTSC Kickers
DESCRIPTION:XTSC Kickers vs. Team UnitedPlus d'info : #22
X-ALT-DESC;FMTTYPE=text/html:<!DOCTYPE HTML PUBLIC "-//W3C//DTD HTML 3.2//E
	N">\n<HTML>\n<HEAD>\n<TITLE></TITLE>\n</HEAD>\n<BODY>\n<h3>XTSC Kickers vs.
	 Team United</h3>Plus d'info : <a href="https://www.golnetwork.com/game/v/8
	1713/">#22</a>\n\n</BODY>\n</HTML>
STATUS:CONFIRMED
CLASS:PUBLIC
URL:https://www.golnetwork.com/game/v/81713/
X-MICROSOFT-CDO-BUSYSTATUS:BUSY
X-MICROSOFT-CDO-IMPORTANCE:1
END:VEVENT
BEGIN:VEVENT
UID:g8aoc@games.golnetwork.com
LOCATION:Central Technical School
GEO:43.6637272;-79.4087613
CREATED:20160107T170835Z
DTSTART:20160120T000000Z
DTEND:20160120T010000Z
DTSTAMP:20260421T052408Z
SUMMARY:My Drinking Team Has A Soccer Problem vs. XTSC Kickers
DESCRIPTION:XTSC Kickers vs. My Drinking Team Has A Soccer ProblemPlus d'in
	fo : #14
X-ALT-DESC;FMTTYPE=text/html:<!DOCTYPE HTML PUBLIC "-//W3C//DTD HTML 3.2//E
	N">\n<HTML>\n<HEAD>\n<TITLE></TITLE>\n</HEAD>\n<BODY>\n<h3>XTSC Kickers vs.
	 My Drinking Team Has A Soccer Problem</h3>Plus d'info : <a href="https://w
	ww.golnetwork.com/game/v/81708/">#14</a>\n\n</BODY>\n</HTML>
STATUS:CONFIRMED
CLASS:PUBLIC
URL:https://www.golnetwork.com/game/v/81708/
X-MICROSOFT-CDO-BUSYSTATUS:BUSY
X-MICROSOFT-CDO-IMPORTANCE:1
END:VEVENT
END:VCALENDAR
