BEGIN:VCALENDAR
PRODID:-//gdesolutions.com//MV Framework 1.0.0.1607 Calendar//EN
VERSION:2.0
METHOD:PUBLISH
CALSCALE:GREGORIAN
BEGIN:VEVENT
UID:g8aqe@games.golnetwork.com
LOCATION:Central Technical School
GEO:43.6637272;-79.4087613
CREATED:20160107T170835Z
DTSTART:20160308T230000Z
DTEND:20160309T000000Z
DTSTAMP:20260423T002505Z
SUMMARY: Real Sports FC vs. My Drinking Team Has A Soccer Problem
DESCRIPTION:My Drinking Team Has A Soccer Problem vs.  Real Sports FCPlus d
	'info : #59
X-ALT-DESC;FMTTYPE=text/html:<!DOCTYPE HTML PUBLIC "-//W3C//DTD HTML 3.2//E
	N">\n<HTML>\n<HEAD>\n<TITLE></TITLE>\n</HEAD>\n<BODY>\n<h3>My Drinking Team
	 Has A Soccer Problem vs.  Real Sports FC</h3>Plus d'info : <a href="https:
	//www.golnetwork.com/game/v/81736/">#59</a>\n\n</BODY>\n</HTML>
STATUS:CONFIRMED
CLASS:PUBLIC
URL:https://www.golnetwork.com/game/v/81736/
X-MICROSOFT-CDO-BUSYSTATUS:BUSY
X-MICROSOFT-CDO-IMPORTANCE:1
END:VEVENT
BEGIN:VEVENT
UID:g8aq8@games.golnetwork.com
LOCATION:Central Technical School
GEO:43.6637272;-79.4087613
CREATED:20160107T170835Z
DTSTART:20160302T010000Z
DTEND:20160302T020000Z
DTSTAMP:20260423T002505Z
SUMMARY:My Drinking Team Has A Soccer Problem vs.  Real Sports FC
DESCRIPTION: Real Sports FC vs. My Drinking Team Has A Soccer ProblemPlus d
	'info : #54
X-ALT-DESC;FMTTYPE=text/html:<!DOCTYPE HTML PUBLIC "-//W3C//DTD HTML 3.2//E
	N">\n<HTML>\n<HEAD>\n<TITLE></TITLE>\n</HEAD>\n<BODY>\n<h3> Real Sports FC 
	vs. My Drinking Team Has A Soccer Problem</h3>Plus d'info : <a href="https:
	//www.golnetwork.com/game/v/81733/">#54</a>\n\n</BODY>\n</HTML>
STATUS:CONFIRMED
CLASS:PUBLIC
URL:https://www.golnetwork.com/game/v/81733/
X-MICROSOFT-CDO-BUSYSTATUS:BUSY
X-MICROSOFT-CDO-IMPORTANCE:1
END:VEVENT
BEGIN:VEVENT
UID:g8app@games.golnetwork.com
LOCATION:Central Technical School
GEO:43.6637272;-79.4087613
CREATED:20160107T170835Z
DTSTART:20160224T010000Z
DTEND:20160224T020000Z
DTSTAMP:20260423T002505Z
SUMMARY:XTSC Kickers vs.  Real Sports FC
DESCRIPTION: Real Sports FC vs. XTSC KickersPlus d'info : #47
X-ALT-DESC;FMTTYPE=text/html:<!DOCTYPE HTML PUBLIC "-//W3C//DTD HTML 3.2//E
	N">\n<HTML>\n<HEAD>\n<TITLE></TITLE>\n</HEAD>\n<BODY>\n<h3> Real Sports FC 
	vs. XTSC Kickers</h3>Plus d'info : <a href="https://www.golnetwork.com/game
	/v/81728/">#47</a>\n\n</BODY>\n</HTML>
STATUS:CONFIRMED
CLASS:PUBLIC
URL:https://www.golnetwork.com/game/v/81728/
X-MICROSOFT-CDO-BUSYSTATUS:BUSY
X-MICROSOFT-CDO-IMPORTANCE:1
END:VEVENT
BEGIN:VEVENT
UID:g8apf@games.golnetwork.com
LOCATION:Central Technical School
GEO:43.6637272;-79.4087613
CREATED:20160107T170835Z
DTSTART:20160217T010000Z
DTEND:20160217T020000Z
DTSTAMP:20260423T002505Z
SUMMARY:Unbelievaball vs.  Real Sports FC
DESCRIPTION: Real Sports FC vs. UnbelievaballPlus d'info : #40
X-ALT-DESC;FMTTYPE=text/html:<!DOCTYPE HTML PUBLIC "-//W3C//DTD HTML 3.2//E
	N">\n<HTML>\n<HEAD>\n<TITLE></TITLE>\n</HEAD>\n<BODY>\n<h3> Real Sports FC 
	vs. Unbelievaball</h3>Plus d'info : <a href="https://www.golnetwork.com/gam
	e/v/81723/">#40</a>\n\n</BODY>\n</HTML>
STATUS:CONFIRMED
CLASS:PUBLIC
URL:https://www.golnetwork.com/game/v/81723/
X-MICROSOFT-CDO-BUSYSTATUS:BUSY
X-MICROSOFT-CDO-IMPORTANCE:1
END:VEVENT
BEGIN:VEVENT
UID:g8ap9@games.golnetwork.com
LOCATION:Central Technical School
GEO:43.6637272;-79.4087613
CREATED:20160107T170835Z
DTSTART:20160210T020000Z
DTEND:20160210T030000Z
DTSTAMP:20260423T002505Z
SUMMARY: Real Sports FC vs. NPOS FC
DESCRIPTION:NPOS FC vs.  Real Sports FCPlus d'info : #37
X-ALT-DESC;FMTTYPE=text/html:<!DOCTYPE HTML PUBLIC "-//W3C//DTD HTML 3.2//E
	N">\n<HTML>\n<HEAD>\n<TITLE></TITLE>\n</HEAD>\n<BODY>\n<h3>NPOS FC vs.  Rea
	l Sports FC</h3>Plus d'info : <a href="https://www.golnetwork.com/game/v/81
	720/">#37</a>\n\n</BODY>\n</HTML>
STATUS:CONFIRMED
CLASS:PUBLIC
URL:https://www.golnetwork.com/game/v/81720/
X-MICROSOFT-CDO-BUSYSTATUS:BUSY
X-MICROSOFT-CDO-IMPORTANCE:1
END:VEVENT
BEGIN:VEVENT
UID:g8ap3@games.golnetwork.com
LOCATION:Central Technical School
GEO:43.6637272;-79.4087613
CREATED:20160107T170835Z
DTSTART:20160203T010000Z
DTEND:20160203T020000Z
DTSTAMP:20260423T002505Z
SUMMARY: Real Sports FC vs. Az FC
DESCRIPTION:Az FC vs.  Real Sports FCPlus d'info : #29
X-ALT-DESC;FMTTYPE=text/html:<!DOCTYPE HTML PUBLIC "-//W3C//DTD HTML 3.2//E
	N">\n<HTML>\n<HEAD>\n<TITLE></TITLE>\n</HEAD>\n<BODY>\n<h3>Az FC vs.  Real 
	Sports FC</h3>Plus d'info : <a href="https://www.golnetwork.com/game/v/8171
	7/">#29</a>\n\n</BODY>\n</HTML>
STATUS:CONFIRMED
CLASS:PUBLIC
URL:https://www.golnetwork.com/game/v/81717/
X-MICROSOFT-CDO-BUSYSTATUS:BUSY
X-MICROSOFT-CDO-IMPORTANCE:1
END:VEVENT
BEGIN:VEVENT
UID:g8aoo@games.golnetwork.com
LOCATION:Central Technical School
GEO:43.6637272;-79.4087613
CREATED:20160107T170835Z
DTSTART:20160126T230000Z
DTEND:20160127T000000Z
DTSTAMP:20260423T002505Z
SUMMARY: Real Sports FC vs. Northlanders FC
DESCRIPTION:Northlanders FC vs.  Real Sports FCPlus d'info : #20
X-ALT-DESC;FMTTYPE=text/html:<!DOCTYPE HTML PUBLIC "-//W3C//DTD HTML 3.2//E
	N">\n<HTML>\n<HEAD>\n<TITLE></TITLE>\n</HEAD>\n<BODY>\n<h3>Northlanders FC 
	vs.  Real Sports FC</h3>Plus d'info : <a href="https://www.golnetwork.com/g
	ame/v/81714/">#20</a>\n\n</BODY>\n</HTML>
STATUS:CONFIRMED
CLASS:PUBLIC
URL:https://www.golnetwork.com/game/v/81714/
X-MICROSOFT-CDO-BUSYSTATUS:BUSY
X-MICROSOFT-CDO-IMPORTANCE:1
END:VEVENT
BEGIN:VEVENT
UID:g8aog@games.golnetwork.com
LOCATION:Central Technical School
GEO:43.6637272;-79.4087613
CREATED:20160107T170835Z
DTSTART:20160120T020000Z
DTEND:20160120T030000Z
DTSTAMP:20260423T002505Z
SUMMARY:Team United vs.  Real Sports FC
DESCRIPTION: Real Sports FC vs. Team UnitedPlus d'info : #16
X-ALT-DESC;FMTTYPE=text/html:<!DOCTYPE HTML PUBLIC "-//W3C//DTD HTML 3.2//E
	N">\n<HTML>\n<HEAD>\n<TITLE></TITLE>\n</HEAD>\n<BODY>\n<h3> Real Sports FC 
	vs. Team United</h3>Plus d'info : <a href="https://www.golnetwork.com/game/
	v/81710/">#16</a>\n\n</BODY>\n</HTML>
STATUS:CONFIRMED
CLASS:PUBLIC
URL:https://www.golnetwork.com/game/v/81710/
X-MICROSOFT-CDO-BUSYSTATUS:BUSY
X-MICROSOFT-CDO-IMPORTANCE:1
END:VEVENT
END:VCALENDAR
