BEGIN:VCALENDAR
PRODID:-//gdesolutions.com//MV Framework 1.0.0.1607 Calendar//EN
VERSION:2.0
METHOD:PUBLISH
CALSCALE:GREGORIAN
BEGIN:VEVENT
UID:g90dk@games.golnetwork.com
LOCATION:Annexe Trille Des Bois
GEO:45.4395952;-75.6706817
CREATED:20160504T021442Z
DTSTART:20160505T013000Z
DTEND:20160505T023000Z
DTSTAMP:20260422T031507Z
SUMMARY:Loretta FC vs. Sharktooth Shooters
DESCRIPTION:Sharktooth Shooters vs. Loretta FCPlus d'info : #29
X-ALT-DESC;FMTTYPE=text/html:<!DOCTYPE HTML PUBLIC "-//W3C//DTD HTML 3.2//E
	N">\n<HTML>\n<HEAD>\n<TITLE></TITLE>\n</HEAD>\n<BODY>\n<h3>Sharktooth Shoot
	ers vs. Loretta FC</h3>Plus d'info : <a href="https://www.golnetwork.com/ga
	me/v/87760/">#29</a>\n\n</BODY>\n</HTML>
STATUS:CONFIRMED
CLASS:PUBLIC
URL:https://www.golnetwork.com/game/v/87760/
X-MICROSOFT-CDO-BUSYSTATUS:BUSY
X-MICROSOFT-CDO-IMPORTANCE:1
END:VEVENT
BEGIN:VEVENT
UID:g8h81@games.golnetwork.com
LOCATION:Montfort
GEO:45.440619;-75.6304143
CREATED:20160223T195823Z
DTSTART:20160414T003000Z
DTEND:20160414T013000Z
DTSTAMP:20260422T031507Z
SUMMARY:Loretta FC vs. Individuals 2
DESCRIPTION:Individuals 2 vs. Loretta FCPlus d'info : #18
X-ALT-DESC;FMTTYPE=text/html:<!DOCTYPE HTML PUBLIC "-//W3C//DTD HTML 3.2//E
	N">\n<HTML>\n<HEAD>\n<TITLE></TITLE>\n</HEAD>\n<BODY>\n<h3>Individuals 2 vs
	. Loretta FC</h3>Plus d'info : <a href="https://www.golnetwork.com/game/v/8
	4038/">#18</a>\n\n</BODY>\n</HTML>
STATUS:CONFIRMED
CLASS:PUBLIC
URL:https://www.golnetwork.com/game/v/84038/
X-MICROSOFT-CDO-BUSYSTATUS:BUSY
X-MICROSOFT-CDO-IMPORTANCE:1
END:VEVENT
BEGIN:VEVENT
UID:g8h7k@games.golnetwork.com
LOCATION:Annexe Trille Des Bois
GEO:45.4395952;-75.6706817
CREATED:20160223T195823Z
DTSTART:20160407T003000Z
DTEND:20160407T013000Z
DTSTAMP:20260422T031507Z
SUMMARY:Missile-toe vs. Loretta FC
DESCRIPTION:Loretta FC vs. Missile-toePlus d'info : #14
X-ALT-DESC;FMTTYPE=text/html:<!DOCTYPE HTML PUBLIC "-//W3C//DTD HTML 3.2//E
	N">\n<HTML>\n<HEAD>\n<TITLE></TITLE>\n</HEAD>\n<BODY>\n<h3>Loretta FC vs. M
	issile-toe</h3>Plus d'info : <a href="https://www.golnetwork.com/game/v/840
	34/">#14</a>\n\n</BODY>\n</HTML>
STATUS:CONFIRMED
CLASS:PUBLIC
URL:https://www.golnetwork.com/game/v/84034/
X-MICROSOFT-CDO-BUSYSTATUS:BUSY
X-MICROSOFT-CDO-IMPORTANCE:1
END:VEVENT
BEGIN:VEVENT
UID:g8h7g@games.golnetwork.com
LOCATION:Montfort
GEO:45.440619;-75.6304143
CREATED:20160223T195823Z
DTSTART:20160331T003000Z
DTEND:20160331T013000Z
DTSTAMP:20260422T031507Z
SUMMARY:Jalapeno Hotties vs. Loretta FC
DESCRIPTION:Loretta FC vs. Jalapeno HottiesPlus d'info : #12
X-ALT-DESC;FMTTYPE=text/html:<!DOCTYPE HTML PUBLIC "-//W3C//DTD HTML 3.2//E
	N">\n<HTML>\n<HEAD>\n<TITLE></TITLE>\n</HEAD>\n<BODY>\n<h3>Loretta FC vs. J
	alapeno Hotties</h3>Plus d'info : <a href="https://www.golnetwork.com/game/
	v/84032/">#12</a>\n\n</BODY>\n</HTML>
STATUS:CONFIRMED
CLASS:PUBLIC
URL:https://www.golnetwork.com/game/v/84032/
X-MICROSOFT-CDO-BUSYSTATUS:BUSY
X-MICROSOFT-CDO-IMPORTANCE:1
END:VEVENT
BEGIN:VEVENT
UID:g8h78@games.golnetwork.com
LOCATION:Annexe Trille Des Bois
GEO:45.4395952;-75.6706817
CREATED:20160223T195822Z
DTSTART:20160324T003000Z
DTEND:20160324T013000Z
DTSTAMP:20260422T031507Z
SUMMARY:Loretta FC vs. Sharktooth Shooters
DESCRIPTION:Sharktooth Shooters vs. Loretta FCPlus d'info : #8
X-ALT-DESC;FMTTYPE=text/html:<!DOCTYPE HTML PUBLIC "-//W3C//DTD HTML 3.2//E
	N">\n<HTML>\n<HEAD>\n<TITLE></TITLE>\n</HEAD>\n<BODY>\n<h3>Sharktooth Shoot
	ers vs. Loretta FC</h3>Plus d'info : <a href="https://www.golnetwork.com/ga
	me/v/84028/">#8</a>\n\n</BODY>\n</HTML>
STATUS:CONFIRMED
CLASS:PUBLIC
URL:https://www.golnetwork.com/game/v/84028/
X-MICROSOFT-CDO-BUSYSTATUS:BUSY
X-MICROSOFT-CDO-IMPORTANCE:1
END:VEVENT
BEGIN:VEVENT
UID:g8h72@games.golnetwork.com
LOCATION:Annexe Trille Des Bois
GEO:45.4395952;-75.6706817
CREATED:20160223T195822Z
DTSTART:20160310T023000Z
DTEND:20160310T033000Z
DTSTAMP:20260422T031507Z
SUMMARY:Missile-toe vs. Loretta FC
DESCRIPTION:Loretta FC vs. Missile-toePlus d'info : #5
X-ALT-DESC;FMTTYPE=text/html:<!DOCTYPE HTML PUBLIC "-//W3C//DTD HTML 3.2//E
	N">\n<HTML>\n<HEAD>\n<TITLE></TITLE>\n</HEAD>\n<BODY>\n<h3>Loretta FC vs. M
	issile-toe</h3>Plus d'info : <a href="https://www.golnetwork.com/game/v/840
	25/">#5</a>\n\n</BODY>\n</HTML>
STATUS:CONFIRMED
CLASS:PUBLIC
URL:https://www.golnetwork.com/game/v/84025/
X-MICROSOFT-CDO-BUSYSTATUS:BUSY
X-MICROSOFT-CDO-IMPORTANCE:1
END:VEVENT
BEGIN:VEVENT
UID:g8h70@games.golnetwork.com
LOCATION:Annexe Trille Des Bois
GEO:45.4395952;-75.6706817
CREATED:20160223T195822Z
DTSTART:20160310T013000Z
DTEND:20160310T023000Z
DTSTAMP:20260422T031507Z
SUMMARY:Individuals 2 vs. Loretta FC
DESCRIPTION:Loretta FC vs. Individuals 2Plus d'info : #4
X-ALT-DESC;FMTTYPE=text/html:<!DOCTYPE HTML PUBLIC "-//W3C//DTD HTML 3.2//E
	N">\n<HTML>\n<HEAD>\n<TITLE></TITLE>\n</HEAD>\n<BODY>\n<h3>Loretta FC vs. I
	ndividuals 2</h3>Plus d'info : <a href="https://www.golnetwork.com/game/v/8
	4024/">#4</a>\n\n</BODY>\n</HTML>
STATUS:CONFIRMED
CLASS:PUBLIC
URL:https://www.golnetwork.com/game/v/84024/
X-MICROSOFT-CDO-BUSYSTATUS:BUSY
X-MICROSOFT-CDO-IMPORTANCE:1
END:VEVENT
BEGIN:VEVENT
UID:g8h6n@games.golnetwork.com
LOCATION:Annexe Trille Des Bois
GEO:45.4395952;-75.6706817
CREATED:20160223T195822Z
DTSTART:20160303T013000Z
DTEND:20160303T023000Z
DTSTAMP:20260422T031507Z
SUMMARY:Loretta FC vs. Sharktooth Shooters
DESCRIPTION:Sharktooth Shooters vs. Loretta FCPlus d'info : #2
X-ALT-DESC;FMTTYPE=text/html:<!DOCTYPE HTML PUBLIC "-//W3C//DTD HTML 3.2//E
	N">\n<HTML>\n<HEAD>\n<TITLE></TITLE>\n</HEAD>\n<BODY>\n<h3>Sharktooth Shoot
	ers vs. Loretta FC</h3>Plus d'info : <a href="https://www.golnetwork.com/ga
	me/v/84022/">#2</a>\n\n</BODY>\n</HTML>
STATUS:CONFIRMED
CLASS:PUBLIC
URL:https://www.golnetwork.com/game/v/84022/
X-MICROSOFT-CDO-BUSYSTATUS:BUSY
X-MICROSOFT-CDO-IMPORTANCE:1
END:VEVENT
BEGIN:VEVENT
UID:g8gmo@games.golnetwork.com
LOCATION:Annexe Trille Des Bois
GEO:45.4395952;-75.6706817
CREATED:20160216T073934Z
DTSTART:20160218T013000Z
DTEND:20160218T023000Z
DTSTAMP:20260422T031507Z
SUMMARY:Loretta FC vs. Jalapeno Hotties
DESCRIPTION:Jalapeno Hotties vs. Loretta FCPlus d'info : #3
X-ALT-DESC;FMTTYPE=text/html:<!DOCTYPE HTML PUBLIC "-//W3C//DTD HTML 3.2//E
	N">\n<HTML>\n<HEAD>\n<TITLE></TITLE>\n</HEAD>\n<BODY>\n<h3>Jalapeno Hotties
	 vs. Loretta FC</h3>Plus d'info : <a href="https://www.golnetwork.com/game/
	v/83874/">#3</a>\n\n</BODY>\n</HTML>
STATUS:CONFIRMED
CLASS:PUBLIC
URL:https://www.golnetwork.com/game/v/83874/
X-MICROSOFT-CDO-BUSYSTATUS:BUSY
X-MICROSOFT-CDO-IMPORTANCE:1
END:VEVENT
END:VCALENDAR
