BEGIN:VCALENDAR
PRODID:-//gdesolutions.com//MV Framework 1.0.0.1607 Calendar//EN
VERSION:2.0
METHOD:PUBLISH
CALSCALE:GREGORIAN
BEGIN:VEVENT
UID:g8l9k@games.golnetwork.com
LOCATION:North Toronto - Field 4
GEO:43.7098022;-79.3963055
CREATED:20160406T185353Z
DTSTART:20160620T221500Z
DTEND:20160620T231000Z
DTSTAMP:20260424T075047Z
SUMMARY:Ledbury Park vs. Bahama Mama
DESCRIPTION:Bahama Mama vs. Ledbury ParkPlus d'info : #362
X-ALT-DESC;FMTTYPE=text/html:<!DOCTYPE HTML PUBLIC "-//W3C//DTD HTML 3.2//E
	N">\n<HTML>\n<HEAD>\n<TITLE></TITLE>\n</HEAD>\n<BODY>\n<h3>Bahama Mama vs. 
	Ledbury Park</h3>Plus d'info : <a href="https://www.golnetwork.com/game/v/8
	5519/">#362</a>\n\n</BODY>\n</HTML>
STATUS:CONFIRMED
CLASS:PUBLIC
URL:https://www.golnetwork.com/game/v/85519/
X-MICROSOFT-CDO-BUSYSTATUS:BUSY
X-MICROSOFT-CDO-IMPORTANCE:1
END:VEVENT
BEGIN:VEVENT
UID:g8lan@games.golnetwork.com
LOCATION:North Toronto - Field 4
GEO:43.7098022;-79.3963055
CREATED:20160406T185538Z
DTSTART:20160613T231000Z
DTEND:20160614T001000Z
DTSTAMP:20260424T075047Z
SUMMARY:Bahama Mama vs. Entuitive FC
DESCRIPTION:Entuitive FC vs. Bahama MamaPlus d'info : #303
X-ALT-DESC;FMTTYPE=text/html:<!DOCTYPE HTML PUBLIC "-//W3C//DTD HTML 3.2//E
	N">\n<HTML>\n<HEAD>\n<TITLE></TITLE>\n</HEAD>\n<BODY>\n<h3>Entuitive FC vs.
	 Bahama Mama</h3>Plus d'info : <a href="https://www.golnetwork.com/game/v/8
	5534/">#303</a>\n\n</BODY>\n</HTML>
STATUS:CONFIRMED
CLASS:PUBLIC
URL:https://www.golnetwork.com/game/v/85534/
X-MICROSOFT-CDO-BUSYSTATUS:BUSY
X-MICROSOFT-CDO-IMPORTANCE:1
END:VEVENT
BEGIN:VEVENT
UID:g8l9e@games.golnetwork.com
LOCATION:North Toronto - Field 1
GEO:43.7098022;-79.3963055
CREATED:20160406T185353Z
DTSTART:20160613T221500Z
DTEND:20160613T231000Z
DTSTAMP:20260424T075047Z
SUMMARY:Bahama Mama vs. Ledbury Park
DESCRIPTION:Ledbury Park vs. Bahama MamaPlus d'info : #296
X-ALT-DESC;FMTTYPE=text/html:<!DOCTYPE HTML PUBLIC "-//W3C//DTD HTML 3.2//E
	N">\n<HTML>\n<HEAD>\n<TITLE></TITLE>\n</HEAD>\n<BODY>\n<h3>Ledbury Park vs.
	 Bahama Mama</h3>Plus d'info : <a href="https://www.golnetwork.com/game/v/8
	5516/">#296</a>\n\n</BODY>\n</HTML>
STATUS:CONFIRMED
CLASS:PUBLIC
URL:https://www.golnetwork.com/game/v/85516/
X-MICROSOFT-CDO-BUSYSTATUS:BUSY
X-MICROSOFT-CDO-IMPORTANCE:1
END:VEVENT
BEGIN:VEVENT
UID:g8l9a@games.golnetwork.com
LOCATION:North Toronto - Field 3
GEO:43.7098022;-79.3963055
CREATED:20160406T185353Z
DTSTART:20160607T000500Z
DTEND:20160607T010000Z
DTSTAMP:20260424T075047Z
SUMMARY:Ledbury Park vs. Bahama Mama
DESCRIPTION:Bahama Mama vs. Ledbury ParkPlus d'info : #245
X-ALT-DESC;FMTTYPE=text/html:<!DOCTYPE HTML PUBLIC "-//W3C//DTD HTML 3.2//E
	N">\n<HTML>\n<HEAD>\n<TITLE></TITLE>\n</HEAD>\n<BODY>\n<h3>Bahama Mama vs. 
	Ledbury Park</h3>Plus d'info : <a href="https://www.golnetwork.com/game/v/8
	5514/">#245</a>\n\n</BODY>\n</HTML>
STATUS:CONFIRMED
CLASS:PUBLIC
URL:https://www.golnetwork.com/game/v/85514/
X-MICROSOFT-CDO-BUSYSTATUS:BUSY
X-MICROSOFT-CDO-IMPORTANCE:1
END:VEVENT
BEGIN:VEVENT
UID:g8l9c@games.golnetwork.com
LOCATION:North Toronto - Field 4
GEO:43.7098022;-79.3963055
CREATED:20160406T185353Z
DTSTART:20160606T231000Z
DTEND:20160607T000500Z
DTSTAMP:20260424T075047Z
SUMMARY:Eckler FC vs. Bahama Mama
DESCRIPTION:Bahama Mama vs. Eckler FCPlus d'info : #242
X-ALT-DESC;FMTTYPE=text/html:<!DOCTYPE HTML PUBLIC "-//W3C//DTD HTML 3.2//E
	N">\n<HTML>\n<HEAD>\n<TITLE></TITLE>\n</HEAD>\n<BODY>\n<h3>Bahama Mama vs. 
	Eckler FC</h3>Plus d'info : <a href="https://www.golnetwork.com/game/v/8551
	5/">#242</a>\n\n</BODY>\n</HTML>
STATUS:CONFIRMED
CLASS:PUBLIC
URL:https://www.golnetwork.com/game/v/85515/
X-MICROSOFT-CDO-BUSYSTATUS:BUSY
X-MICROSOFT-CDO-IMPORTANCE:1
END:VEVENT
BEGIN:VEVENT
UID:g8l92@games.golnetwork.com
LOCATION:North Toronto - Field 4
GEO:43.7098022;-79.3963055
CREATED:20160406T185353Z
DTSTART:20160530T221500Z
DTEND:20160530T231000Z
DTSTAMP:20260424T075047Z
SUMMARY:Bahama Mama vs. Entuitive FC
DESCRIPTION:Entuitive FC vs. Bahama MamaPlus d'info : #175
X-ALT-DESC;FMTTYPE=text/html:<!DOCTYPE HTML PUBLIC "-//W3C//DTD HTML 3.2//E
	N">\n<HTML>\n<HEAD>\n<TITLE></TITLE>\n</HEAD>\n<BODY>\n<h3>Entuitive FC vs.
	 Bahama Mama</h3>Plus d'info : <a href="https://www.golnetwork.com/game/v/8
	5510/">#175</a>\n\n</BODY>\n</HTML>
STATUS:CONFIRMED
CLASS:PUBLIC
URL:https://www.golnetwork.com/game/v/85510/
X-MICROSOFT-CDO-BUSYSTATUS:BUSY
X-MICROSOFT-CDO-IMPORTANCE:1
END:VEVENT
BEGIN:VEVENT
UID:g8l8n@games.golnetwork.com
LOCATION:North Toronto - Field 4
GEO:43.7098022;-79.3963055
CREATED:20160406T185353Z
DTSTART:20160523T221500Z
DTEND:20160523T231000Z
DTSTAMP:20260424T075047Z
SUMMARY:OTOD vs. Bahama Mama
DESCRIPTION:Bahama Mama vs. OTODPlus d'info : #113
X-ALT-DESC;FMTTYPE=text/html:<!DOCTYPE HTML PUBLIC "-//W3C//DTD HTML 3.2//E
	N">\n<HTML>\n<HEAD>\n<TITLE></TITLE>\n</HEAD>\n<BODY>\n<h3>Bahama Mama vs. 
	OTOD</h3>Plus d'info : <a href="https://www.golnetwork.com/game/v/85507/">#
	113</a>\n\n</BODY>\n</HTML>
STATUS:CONFIRMED
CLASS:PUBLIC
URL:https://www.golnetwork.com/game/v/85507/
X-MICROSOFT-CDO-BUSYSTATUS:BUSY
X-MICROSOFT-CDO-IMPORTANCE:1
END:VEVENT
BEGIN:VEVENT
UID:g8l8l@games.golnetwork.com
LOCATION:North Toronto - Field 4
GEO:43.7098022;-79.3963055
CREATED:20160406T185353Z
DTSTART:20160516T221500Z
DTEND:20160516T231000Z
DTSTAMP:20260424T075047Z
SUMMARY:Bahama Mama vs. Ledbury Park
DESCRIPTION:Ledbury Park vs. Bahama MamaPlus d'info : #78
X-ALT-DESC;FMTTYPE=text/html:<!DOCTYPE HTML PUBLIC "-//W3C//DTD HTML 3.2//E
	N">\n<HTML>\n<HEAD>\n<TITLE></TITLE>\n</HEAD>\n<BODY>\n<h3>Ledbury Park vs.
	 Bahama Mama</h3>Plus d'info : <a href="https://www.golnetwork.com/game/v/8
	5506/">#78</a>\n\n</BODY>\n</HTML>
STATUS:CONFIRMED
CLASS:PUBLIC
URL:https://www.golnetwork.com/game/v/85506/
X-MICROSOFT-CDO-BUSYSTATUS:BUSY
X-MICROSOFT-CDO-IMPORTANCE:1
END:VEVENT
BEGIN:VEVENT
UID:g8l8h@games.golnetwork.com
LOCATION:North Toronto - Field 4
GEO:43.7098022;-79.3963055
CREATED:20160406T185352Z
DTSTART:20160509T233000Z
DTEND:20160510T002500Z
DTSTAMP:20260424T075047Z
SUMMARY:Eckler FC vs. Bahama Mama
DESCRIPTION:Bahama Mama vs. Eckler FCPlus d'info : #48
X-ALT-DESC;FMTTYPE=text/html:<!DOCTYPE HTML PUBLIC "-//W3C//DTD HTML 3.2//E
	N">\n<HTML>\n<HEAD>\n<TITLE></TITLE>\n</HEAD>\n<BODY>\n<h3>Bahama Mama vs. 
	Eckler FC</h3>Plus d'info : <a href="https://www.golnetwork.com/game/v/8550
	4/">#48</a>\n\n</BODY>\n</HTML>
STATUS:CONFIRMED
CLASS:PUBLIC
URL:https://www.golnetwork.com/game/v/85504/
X-MICROSOFT-CDO-BUSYSTATUS:BUSY
X-MICROSOFT-CDO-IMPORTANCE:1
END:VEVENT
BEGIN:VEVENT
UID:g8l89@games.golnetwork.com
LOCATION:North Toronto - Field 4
GEO:43.7098022;-79.3963055
CREATED:20160406T185352Z
DTSTART:20160425T233000Z
DTEND:20160426T002500Z
DTSTAMP:20260424T075047Z
SUMMARY:EFC vs. Bahama Mama
DESCRIPTION:Bahama Mama vs. EFCPlus d'info : #8
X-ALT-DESC;FMTTYPE=text/html:<!DOCTYPE HTML PUBLIC "-//W3C//DTD HTML 3.2//E
	N">\n<HTML>\n<HEAD>\n<TITLE></TITLE>\n</HEAD>\n<BODY>\n<h3>Bahama Mama vs. 
	EFC</h3>Plus d'info : <a href="https://www.golnetwork.com/game/v/85500/">#8
	</a>\n\n</BODY>\n</HTML>
STATUS:CONFIRMED
CLASS:PUBLIC
URL:https://www.golnetwork.com/game/v/85500/
X-MICROSOFT-CDO-BUSYSTATUS:BUSY
X-MICROSOFT-CDO-IMPORTANCE:1
END:VEVENT
END:VCALENDAR
