BEGIN:VCALENDAR
PRODID:-//gdesolutions.com//MV Framework 1.0.0.1607 Calendar//EN
VERSION:2.0
METHOD:PUBLISH
CALSCALE:GREGORIAN
BEGIN:VEVENT
UID:g95ca@games.golnetwork.com
LOCATION:North Toronto - Field 2
GEO:43.7098022;-79.3963055
CREATED:20160621T192051Z
DTSTART:20160815T221500Z
DTEND:20160815T231000Z
DTSTAMP:20260422T022558Z
SUMMARY:Bahama Mama vs. Eckler FC
DESCRIPTION:Eckler FC vs. Bahama MamaPlus d'info : #178
X-ALT-DESC;FMTTYPE=text/html:<!DOCTYPE HTML PUBLIC "-//W3C//DTD HTML 3.2//E
	N">\n<HTML>\n<HEAD>\n<TITLE></TITLE>\n</HEAD>\n<BODY>\n<h3>Eckler FC vs. Ba
	hama Mama</h3>Plus d'info : <a href="https://www.golnetwork.com/game/v/8956
	4/">#178</a>\n\n</BODY>\n</HTML>
STATUS:CONFIRMED
CLASS:PUBLIC
URL:https://www.golnetwork.com/game/v/89564/
X-MICROSOFT-CDO-BUSYSTATUS:BUSY
X-MICROSOFT-CDO-IMPORTANCE:1
END:VEVENT
BEGIN:VEVENT
UID:g95c6@games.golnetwork.com
LOCATION:North Toronto - Field 2
GEO:43.7098022;-79.3963055
CREATED:20160621T191335Z
DTSTART:20160802T000500Z
DTEND:20160802T010000Z
DTSTAMP:20260422T022558Z
SUMMARY:Bahama Mama vs. Spoons and Goons FC
DESCRIPTION:Spoons and Goons FC vs. Bahama MamaPlus d'info : #83
X-ALT-DESC;FMTTYPE=text/html:<!DOCTYPE HTML PUBLIC "-//W3C//DTD HTML 3.2//E
	N">\n<HTML>\n<HEAD>\n<TITLE></TITLE>\n</HEAD>\n<BODY>\n<h3>Spoons and Goons
	 FC vs. Bahama Mama</h3>Plus d'info : <a href="https://www.golnetwork.com/g
	ame/v/89562/">#83</a>\n\n</BODY>\n</HTML>
STATUS:CONFIRMED
CLASS:PUBLIC
URL:https://www.golnetwork.com/game/v/89562/
X-MICROSOFT-CDO-BUSYSTATUS:BUSY
X-MICROSOFT-CDO-IMPORTANCE:1
END:VEVENT
BEGIN:VEVENT
UID:g93oo@games.golnetwork.com
LOCATION:North Toronto - Field 1
GEO:43.7098022;-79.3963055
CREATED:20160526T202437Z
DTSTART:20160725T231000Z
DTEND:20160726T001000Z
DTSTAMP:20260422T022558Z
SUMMARY:I am Batman FC vs. Bahama Mama
DESCRIPTION:Bahama Mama vs. I am Batman FCPlus d'info : #53
X-ALT-DESC;FMTTYPE=text/html:<!DOCTYPE HTML PUBLIC "-//W3C//DTD HTML 3.2//E
	N">\n<HTML>\n<HEAD>\n<TITLE></TITLE>\n</HEAD>\n<BODY>\n<h3>Bahama Mama vs. 
	I am Batman FC</h3>Plus d'info : <a href="https://www.golnetwork.com/game/v
	/89004/">#53</a>\n\n</BODY>\n</HTML>
STATUS:CONFIRMED
CLASS:PUBLIC
URL:https://www.golnetwork.com/game/v/89004/
X-MICROSOFT-CDO-BUSYSTATUS:BUSY
X-MICROSOFT-CDO-IMPORTANCE:1
END:VEVENT
BEGIN:VEVENT
UID:g95bl@games.golnetwork.com
LOCATION:North Toronto - Field 1
GEO:43.7098022;-79.3963055
CREATED:20160621T191131Z
DTSTART:20160719T000500Z
DTEND:20160719T010000Z
DTSTAMP:20260422T022558Z
SUMMARY:Team RSA vs. Bahama Mama
DESCRIPTION:Bahama Mama vs. Team RSAPlus d'info : #32
X-ALT-DESC;FMTTYPE=text/html:<!DOCTYPE HTML PUBLIC "-//W3C//DTD HTML 3.2//E
	N">\n<HTML>\n<HEAD>\n<TITLE></TITLE>\n</HEAD>\n<BODY>\n<h3>Bahama Mama vs. 
	Team RSA</h3>Plus d'info : <a href="https://www.golnetwork.com/game/v/89556
	/">#32</a>\n\n</BODY>\n</HTML>
STATUS:CONFIRMED
CLASS:PUBLIC
URL:https://www.golnetwork.com/game/v/89556/
X-MICROSOFT-CDO-BUSYSTATUS:BUSY
X-MICROSOFT-CDO-IMPORTANCE:1
END:VEVENT
BEGIN:VEVENT
UID:g95bf@games.golnetwork.com
LOCATION:North Toronto - Field 2
GEO:43.7098022;-79.3963055
CREATED:20160621T191031Z
DTSTART:20160711T231000Z
DTEND:20160712T000500Z
DTSTAMP:20260422T022558Z
SUMMARY:Entuitive FC vs. Bahama Mama
DESCRIPTION:Bahama Mama vs. Entuitive FCPlus d'info : #16
X-ALT-DESC;FMTTYPE=text/html:<!DOCTYPE HTML PUBLIC "-//W3C//DTD HTML 3.2//E
	N">\n<HTML>\n<HEAD>\n<TITLE></TITLE>\n</HEAD>\n<BODY>\n<h3>Bahama Mama vs. 
	Entuitive FC</h3>Plus d'info : <a href="https://www.golnetwork.com/game/v/8
	9553/">#16</a>\n\n</BODY>\n</HTML>
STATUS:CONFIRMED
CLASS:PUBLIC
URL:https://www.golnetwork.com/game/v/89553/
X-MICROSOFT-CDO-BUSYSTATUS:BUSY
X-MICROSOFT-CDO-IMPORTANCE:1
END:VEVENT
BEGIN:VEVENT
UID:g93o6@games.golnetwork.com
LOCATION:North Toronto - Field 1
GEO:43.7098022;-79.3963055
CREATED:20160526T202437Z
DTSTART:20160704T221500Z
DTEND:20160704T231500Z
DTSTAMP:20260422T022558Z
SUMMARY:OTOD vs. Bahama Mama
DESCRIPTION:Bahama Mama vs. OTODPlus d'info : #7
X-ALT-DESC;FMTTYPE=text/html:<!DOCTYPE HTML PUBLIC "-//W3C//DTD HTML 3.2//E
	N">\n<HTML>\n<HEAD>\n<TITLE></TITLE>\n</HEAD>\n<BODY>\n<h3>Bahama Mama vs. 
	OTOD</h3>Plus d'info : <a href="https://www.golnetwork.com/game/v/88995/">#
	7</a>\n\n</BODY>\n</HTML>
STATUS:CONFIRMED
CLASS:PUBLIC
URL:https://www.golnetwork.com/game/v/88995/
X-MICROSOFT-CDO-BUSYSTATUS:BUSY
X-MICROSOFT-CDO-IMPORTANCE:1
END:VEVENT
BEGIN:VEVENT
UID:g95b3@games.golnetwork.com
LOCATION:North Toronto - Field 2
GEO:43.7098022;-79.3963055
CREATED:20160621T190808Z
DTSTART:20160627T231000Z
DTEND:20160628T000500Z
DTSTAMP:20260422T022558Z
SUMMARY:Ledbury Park vs. Bahama Mama
DESCRIPTION:Bahama Mama vs. Ledbury ParkPlus d'info : #4
X-ALT-DESC;FMTTYPE=text/html:<!DOCTYPE HTML PUBLIC "-//W3C//DTD HTML 3.2//E
	N">\n<HTML>\n<HEAD>\n<TITLE></TITLE>\n</HEAD>\n<BODY>\n<h3>Bahama Mama vs. 
	Ledbury Park</h3>Plus d'info : <a href="https://www.golnetwork.com/game/v/8
	9547/">#4</a>\n\n</BODY>\n</HTML>
STATUS:CONFIRMED
CLASS:PUBLIC
URL:https://www.golnetwork.com/game/v/89547/
X-MICROSOFT-CDO-BUSYSTATUS:BUSY
X-MICROSOFT-CDO-IMPORTANCE:1
END:VEVENT
END:VCALENDAR
