BEGIN:VCALENDAR
PRODID:-//gdesolutions.com//MV Framework 1.0.0.1607 Calendar//EN
VERSION:2.0
METHOD:PUBLISH
CALSCALE:GREGORIAN
BEGIN:VEVENT
UID:g8n5k@games.golnetwork.com
LOCATION:Lamport Stadium - Field 2
GEO:43.6390028;-79.4232104
CREATED:20160411T164540Z
DTSTART:20160711T000000Z
DTEND:20160711T010000Z
DTSTAMP:20260421T010637Z
SUMMARY:Henderson FC vs. WTFC
DESCRIPTION:WTFC vs. Henderson FCPlus d'info : #474
X-ALT-DESC;FMTTYPE=text/html:<!DOCTYPE HTML PUBLIC "-//W3C//DTD HTML 3.2//E
	N">\n<HTML>\n<HEAD>\n<TITLE></TITLE>\n</HEAD>\n<BODY>\n<h3>WTFC vs. Henders
	on FC</h3>Plus d'info : <a href="https://www.golnetwork.com/game/v/86194/">
	#474</a>\n\n</BODY>\n</HTML>
STATUS:CONFIRMED
CLASS:PUBLIC
URL:https://www.golnetwork.com/game/v/86194/
X-MICROSOFT-CDO-BUSYSTATUS:BUSY
X-MICROSOFT-CDO-IMPORTANCE:1
END:VEVENT
BEGIN:VEVENT
UID:g8n5i@games.golnetwork.com
LOCATION:Lamport Stadium - Field 2
GEO:43.6390028;-79.4232104
CREATED:20160411T164540Z
DTSTART:20160626T220000Z
DTEND:20160626T230000Z
DTSTAMP:20260421T010637Z
SUMMARY:Henderson FC vs. Bradley Bunch
DESCRIPTION:Bradley Bunch vs. Henderson FCPlus d'info : #404
X-ALT-DESC;FMTTYPE=text/html:<!DOCTYPE HTML PUBLIC "-//W3C//DTD HTML 3.2//E
	N">\n<HTML>\n<HEAD>\n<TITLE></TITLE>\n</HEAD>\n<BODY>\n<h3>Bradley Bunch vs
	. Henderson FC</h3>Plus d'info : <a href="https://www.golnetwork.com/game/v
	/86193/">#404</a>\n\n</BODY>\n</HTML>
STATUS:CONFIRMED
CLASS:PUBLIC
URL:https://www.golnetwork.com/game/v/86193/
X-MICROSOFT-CDO-BUSYSTATUS:BUSY
X-MICROSOFT-CDO-IMPORTANCE:1
END:VEVENT
BEGIN:VEVENT
UID:g8n5c@games.golnetwork.com
LOCATION:Lamport Stadium - Field 2
GEO:43.6390028;-79.4232104
CREATED:20160411T164540Z
DTSTART:20160619T220000Z
DTEND:20160619T230000Z
DTSTAMP:20260421T010637Z
SUMMARY:Henderson FC vs. WTFC
DESCRIPTION:WTFC vs. Henderson FCPlus d'info : #343
X-ALT-DESC;FMTTYPE=text/html:<!DOCTYPE HTML PUBLIC "-//W3C//DTD HTML 3.2//E
	N">\n<HTML>\n<HEAD>\n<TITLE></TITLE>\n</HEAD>\n<BODY>\n<h3>WTFC vs. Henders
	on FC</h3>Plus d'info : <a href="https://www.golnetwork.com/game/v/86190/">
	#343</a>\n\n</BODY>\n</HTML>
STATUS:CONFIRMED
CLASS:PUBLIC
URL:https://www.golnetwork.com/game/v/86190/
X-MICROSOFT-CDO-BUSYSTATUS:BUSY
X-MICROSOFT-CDO-IMPORTANCE:1
END:VEVENT
BEGIN:VEVENT
UID:g8n58@games.golnetwork.com
LOCATION:Lamport Stadium - Field 2
GEO:43.6390028;-79.4232104
CREATED:20160411T164540Z
DTSTART:20160613T020000Z
DTEND:20160613T030000Z
DTSTAMP:20260421T010637Z
SUMMARY:Henderson FC vs. Hedgie FC
DESCRIPTION:Hedgie FC vs. Henderson FCPlus d'info : #294
X-ALT-DESC;FMTTYPE=text/html:<!DOCTYPE HTML PUBLIC "-//W3C//DTD HTML 3.2//E
	N">\n<HTML>\n<HEAD>\n<TITLE></TITLE>\n</HEAD>\n<BODY>\n<h3>Hedgie FC vs. He
	nderson FC</h3>Plus d'info : <a href="https://www.golnetwork.com/game/v/861
	88/">#294</a>\n\n</BODY>\n</HTML>
STATUS:CONFIRMED
CLASS:PUBLIC
URL:https://www.golnetwork.com/game/v/86188/
X-MICROSOFT-CDO-BUSYSTATUS:BUSY
X-MICROSOFT-CDO-IMPORTANCE:1
END:VEVENT
BEGIN:VEVENT
UID:g8n52@games.golnetwork.com
LOCATION:Lamport Stadium - Field 2
GEO:43.6390028;-79.4232104
CREATED:20160411T164540Z
DTSTART:20160605T220000Z
DTEND:20160605T230000Z
DTSTAMP:20260421T010637Z
SUMMARY:Bradley Bunch vs. Henderson FC
DESCRIPTION:Henderson FC vs. Bradley BunchPlus d'info : #219
X-ALT-DESC;FMTTYPE=text/html:<!DOCTYPE HTML PUBLIC "-//W3C//DTD HTML 3.2//E
	N">\n<HTML>\n<HEAD>\n<TITLE></TITLE>\n</HEAD>\n<BODY>\n<h3>Henderson FC vs.
	 Bradley Bunch</h3>Plus d'info : <a href="https://www.golnetwork.com/game/v
	/86185/">#219</a>\n\n</BODY>\n</HTML>
STATUS:CONFIRMED
CLASS:PUBLIC
URL:https://www.golnetwork.com/game/v/86185/
X-MICROSOFT-CDO-BUSYSTATUS:BUSY
X-MICROSOFT-CDO-IMPORTANCE:1
END:VEVENT
BEGIN:VEVENT
UID:g8n4n@games.golnetwork.com
LOCATION:Lamport Stadium - Field 2
GEO:43.6390028;-79.4232104
CREATED:20160411T164540Z
DTSTART:20160530T000000Z
DTEND:20160530T010000Z
DTSTAMP:20260421T010637Z
SUMMARY:Magos vs. Henderson FC
DESCRIPTION:Henderson FC vs. MagosPlus d'info : #166
X-ALT-DESC;FMTTYPE=text/html:<!DOCTYPE HTML PUBLIC "-//W3C//DTD HTML 3.2//E
	N">\n<HTML>\n<HEAD>\n<TITLE></TITLE>\n</HEAD>\n<BODY>\n<h3>Henderson FC vs.
	 Magos</h3>Plus d'info : <a href="https://www.golnetwork.com/game/v/86182/"
	>#166</a>\n\n</BODY>\n</HTML>
STATUS:CONFIRMED
CLASS:PUBLIC
URL:https://www.golnetwork.com/game/v/86182/
X-MICROSOFT-CDO-BUSYSTATUS:BUSY
X-MICROSOFT-CDO-IMPORTANCE:1
END:VEVENT
BEGIN:VEVENT
UID:g8n4h@games.golnetwork.com
LOCATION:Lamport Stadium - Field 2
GEO:43.6390028;-79.4232104
CREATED:20160411T164540Z
DTSTART:20160516T000000Z
DTEND:20160516T010000Z
DTSTAMP:20260421T010637Z
SUMMARY:Henderson FC vs. Las Vacas
DESCRIPTION:Las Vacas vs. Henderson FCPlus d'info : #69
X-ALT-DESC;FMTTYPE=text/html:<!DOCTYPE HTML PUBLIC "-//W3C//DTD HTML 3.2//E
	N">\n<HTML>\n<HEAD>\n<TITLE></TITLE>\n</HEAD>\n<BODY>\n<h3>Las Vacas vs. He
	nderson FC</h3>Plus d'info : <a href="https://www.golnetwork.com/game/v/861
	79/">#69</a>\n\n</BODY>\n</HTML>
STATUS:CONFIRMED
CLASS:PUBLIC
URL:https://www.golnetwork.com/game/v/86179/
X-MICROSOFT-CDO-BUSYSTATUS:BUSY
X-MICROSOFT-CDO-IMPORTANCE:1
END:VEVENT
BEGIN:VEVENT
UID:g8n4d@games.golnetwork.com
LOCATION:Lamport Stadium - Field 2
GEO:43.6390028;-79.4232104
CREATED:20160411T164540Z
DTSTART:20160508T220000Z
DTEND:20160508T230000Z
DTSTAMP:20260421T010637Z
SUMMARY:Henderson FC vs. WTFC
DESCRIPTION:WTFC vs. Henderson FCPlus d'info : #32
X-ALT-DESC;FMTTYPE=text/html:<!DOCTYPE HTML PUBLIC "-//W3C//DTD HTML 3.2//E
	N">\n<HTML>\n<HEAD>\n<TITLE></TITLE>\n</HEAD>\n<BODY>\n<h3>WTFC vs. Henders
	on FC</h3>Plus d'info : <a href="https://www.golnetwork.com/game/v/86177/">
	#32</a>\n\n</BODY>\n</HTML>
STATUS:CONFIRMED
CLASS:PUBLIC
URL:https://www.golnetwork.com/game/v/86177/
X-MICROSOFT-CDO-BUSYSTATUS:BUSY
X-MICROSOFT-CDO-IMPORTANCE:1
END:VEVENT
BEGIN:VEVENT
UID:g8n47@games.golnetwork.com
LOCATION:Lamport Stadium - Field 2
GEO:43.6390028;-79.4232104
CREATED:20160411T164540Z
DTSTART:20160502T020000Z
DTEND:20160502T030000Z
DTSTAMP:20260421T010637Z
SUMMARY:Hedgie FC vs. Henderson FC
DESCRIPTION:Henderson FC vs. Hedgie FCPlus d'info : #16
X-ALT-DESC;FMTTYPE=text/html:<!DOCTYPE HTML PUBLIC "-//W3C//DTD HTML 3.2//E
	N">\n<HTML>\n<HEAD>\n<TITLE></TITLE>\n</HEAD>\n<BODY>\n<h3>Henderson FC vs.
	 Hedgie FC</h3>Plus d'info : <a href="https://www.golnetwork.com/game/v/861
	74/">#16</a>\n\n</BODY>\n</HTML>
STATUS:CONFIRMED
CLASS:PUBLIC
URL:https://www.golnetwork.com/game/v/86174/
X-MICROSOFT-CDO-BUSYSTATUS:BUSY
X-MICROSOFT-CDO-IMPORTANCE:1
END:VEVENT
END:VCALENDAR
