BEGIN:VCALENDAR
PRODID:-//gdesolutions.com//MV Framework 1.0.0.1607 Calendar//EN
VERSION:2.0
METHOD:PUBLISH
CALSCALE:GREGORIAN
BEGIN:VEVENT
UID:gakb1@games.golnetwork.com
LOCATION:Lamport Stadium - Field 2
GEO:43.6390028;-79.4232104
CREATED:20170504T202722Z
DTSTART:20170716T220000Z
DTEND:20170716T230000Z
DTSTAMP:20260420T012843Z
SUMMARY:Henderson FC vs. Tree FC
DESCRIPTION:Tree FC vs. Henderson FCPlus d'info : #686
X-ALT-DESC;FMTTYPE=text/html:<!DOCTYPE HTML PUBLIC "-//W3C//DTD HTML 3.2//E
	N">\n<HTML>\n<HEAD>\n<TITLE></TITLE>\n</HEAD>\n<BODY>\n<h3>Tree FC vs. Hend
	erson FC</h3>Plus d'info : <a href="https://www.golnetwork.com/game/v/10485
	5/">#686</a>\n\n</BODY>\n</HTML>
STATUS:CONFIRMED
CLASS:PUBLIC
URL:https://www.golnetwork.com/game/v/104855/
X-MICROSOFT-CDO-BUSYSTATUS:BUSY
X-MICROSOFT-CDO-IMPORTANCE:1
END:VEVENT
BEGIN:VEVENT
UID:gakaq@games.golnetwork.com
LOCATION:Lamport Stadium - Field 2
GEO:43.6390028;-79.4232104
CREATED:20170504T202722Z
DTSTART:20170709T220000Z
DTEND:20170709T230000Z
DTSTAMP:20260420T012843Z
SUMMARY:Henderson FC vs. XTSC Madrid
DESCRIPTION:XTSC Madrid vs. Henderson FCPlus d'info : #627
X-ALT-DESC;FMTTYPE=text/html:<!DOCTYPE HTML PUBLIC "-//W3C//DTD HTML 3.2//E
	N">\n<HTML>\n<HEAD>\n<TITLE></TITLE>\n</HEAD>\n<BODY>\n<h3>XTSC Madrid vs. 
	Henderson FC</h3>Plus d'info : <a href="https://www.golnetwork.com/game/v/1
	04854/">#627</a>\n\n</BODY>\n</HTML>
STATUS:CONFIRMED
CLASS:PUBLIC
URL:https://www.golnetwork.com/game/v/104854/
X-MICROSOFT-CDO-BUSYSTATUS:BUSY
X-MICROSOFT-CDO-IMPORTANCE:1
END:VEVENT
END:VCALENDAR
